Workbook
Name CabPtosFactores: Aux!$O$2:$AI$2
Name deptos: TblDpto[Valor]
Name factores: Tbl_ListFactores[Factor]
Name FFin: Inicio!$L$14
Name FIni: Inicio!$L$13
Name GfcoCheckSV_media: OFFSET('10_ Chequeo_Sistema_Valoración'!$E$3,1,2,'10_ Chequeo_Sistema_Valoración'!$A$7,1)
Name GfcoCheckSV_ptos: OFFSET('10_ Chequeo_Sistema_Valoración'!$E$3,1,1,'10_ Chequeo_Sistema_Valoración'!$A$7,1)
Name gprof: TblGrupoProfesional[Valor]
Name Graf9_Etiq: OFFSET('8_ Análisis_Género_Puestos_Ind'!$E$6,0,0,MAX(1,COUNTA('8_ Análisis_Género_Puestos_Ind'!$F$6:$F$35)-COUNTBLANK('8_ Análisis_Género_Puestos_Ind'!$F$6:$F$35)),2)
Name Graf9_SF: OFFSET('8_ Análisis_Género_Puestos_Ind'!$G$6,0,0,MAX(1,COUNTA('8_ Análisis_Género_Puestos_Ind'!$F$6:$F$35)-COUNTBLANK('8_ Análisis_Género_Puestos_Ind'!$F$6:$F$35)),1)
Name Graf9_SM: OFFSET('8_ Análisis_Género_Puestos_Ind'!$H$6,0,0,MAX(1,COUNTA('8_ Análisis_Género_Puestos_Ind'!$F$6:$F$35)-COUNTBLANK('8_ Análisis_Género_Puestos_Ind'!$F$6:$F$35)),1)
Name Graf9_SN: OFFSET('8_ Análisis_Género_Puestos_Ind'!$I$6,0,0,MAX(1,COUNTA('8_ Análisis_Género_Puestos_Ind'!$F$6:$F$35)-COUNTBLANK('8_ Análisis_Género_Puestos_Ind'!$F$6:$F$35)),1)
Name Lista_Puestos: TblPuestos[#All]
Name ListGroup: TblGrupos[Tipo]
Name pto_d: '11_Asignación_Salarios_Puntos'!$L$8
Name pto_x: '11_Asignación_Salarios_Puntos'!$K$8
Name pto_x12: '11_Asignación_Salarios_Puntos'!$M$8
Name pto_x13: '11_Asignación_Salarios_Puntos'!$N$8
Name pto_x14: '11_Asignación_Salarios_Puntos'!$O$8
Name pto_x2: '11_Asignación_Salarios_Puntos'!$J$8
Name pto_x3: '11_Asignación_Salarios_Puntos'!$I$8
Name PtosFactores: Aux!$O$3:$AI$22
Name Puestos: OFFSET(TblPuestos[[#Headers],[Valor]],1,0,COUNTA(TblPuestos[Valor]),1)
Name RazSocial: Inicio!$E$12
Name rngSumaPuntos: '7. Puntuación_Puestos'!$G$13:$BD$13
Name VMin: Aux!$L$1

Sheet Inicio
C10: DATOS BÁSICOS DE LA ORGANIZACIÓN
C12: Razón Social: | J12: Periodo de referencia:
C13: Persona que realiza el informe: | K13: Inicio
D14: Nombre | K14: Fin
D15: Puesto | K15: Fecha cumplimentación:
B70: Primera edición: enero 2016 | I70: El contenido de este documento se distribuye bajo una licencia Creative Commons 4.0 Internacional
B71: Instituto de la Mujer y para la Igualdad de Oportunidades
B72: Subdirección General para la Igualdad en la Empresa | I72: http://es.creativecommons.org/blog/licencias/
B73: y la Negociación Colectiva | I73: Se permite la reproducción, la distribución y la comunicación pública siempre que se cite al titular de los derechos (Instituto de la Mujer y para la Igualdad de Oportunidades, del Ministerio de Sanidad, Servicios Sociales e Igualdad). No se permiten usos comerciales de esta obra ni se puede desnaturalizar el contenido de la información para generar obras derivadas.
B75: www.igualdadenlaempresa.es

Sheet Aux
B1: Factor | C1: Nombre del Factor | D1: Descripción del Factor | E1: Género | F1: Tipo | G1: Tabla | H1: Id | K1: valoro mínimo | L1: 1 | P1: valor
B2: FACTOR 1 | C2: =IFERROR(IF(INDEX('1. Definición_Factores'!$2:$2,1,MATCH(Tbl_ListFactores[[#This Row],[Factor]],'1. Definición_Factores'!$2:$2,0)+2)="","",INDEX('1. Definición_Factores'!$2:$2,1,MATCH(Tbl_ListFactores[[#This Row],[Factor]],'1. Definición_Factores'!$2:$2,0)+2)),"") | D2: =IFERROR(IF(INDEX('1. Definición_Factores'!$6:$6,1,MATCH(Tbl_ListFactores[[#This Row],[Factor]],'1. Definición_Factores'!$2:$2,0)-1)="","",INDEX('1. Definición_Factores'!$6:$6,1,MATCH(Tbl_ListFactores[[#This Row],[Factor]],'1. Definición_Factores'!$2:$2,0)-1)),"") | E2: =IFERROR(IF(INDEX('1. Definición_Factores'!$3:$3,1,MATCH(Tbl_ListFactores[[#This Row],[Factor]],'1. Definición_Factores'!$2:$2,0)+2)="","",INDEX('1. Definición_Factores'!$3:$3,1,MATCH(Tbl_ListFactores[[#This Row],[Factor]],'1. Definición_Factores'!$2:$2,0)+2)),"") | F2: =IFERROR(IF(INDEX('1. Definición_Factores'!$3:$3,1,MATCH(Tbl_ListFactores[[#This Row],[Factor]],'1. Definición_Factores'!$2:$2,0))="","zz",INDEX('1. Definición_Factores'!$3:$3,1,MATCH(Tbl_ListFactores[[#This Row],[Factor]],'1. Definición_Factores'!$2:$2,0))),"zz") -> zz | G2: =IF(Tbl_ListFactores[[#This Row],[Nombre del Factor]]<>"","TblF"&RIGHT(Tbl_ListFactores[[#This Row],[Factor]],LEN(Tbl_ListFactores[[#This Row],[Factor]])-FIND(" ",Tbl_ListFactores[[#This Row],[Factor]])),"") | H2: =IF(AND(Tbl_ListFactores[[#This Row],[Nombre del Factor]]<>"",Tbl_ListFactores[[#This Row],[Género]]<>"",Tbl_ListFactores[[#This Row],[Tipo]]<>""),ROW()-ROW(Tbl_ListFactores[])+1,0) -> 0 | K2: valor máximo | L2: =IF(L1=0,11,10) -> 10 | N2: ratio | P2: 1 | Q2: 2 | R2: 3 | S2: 4 | T2: 5 | U2: 6 | V2: 7 | W2: 8 | X2: 9 | Y2: 10 | Z2: 11 | AA2: 12 | AB2: 13 | AC2: 14 | AD2: 15 | AE2: 16 | AF2: 17 | AG2: 18 | AH2: 19 | AI2: 20
B3: FACTOR 2 | C3: =IFERROR(IF(INDEX('1. Definición_Factores'!$2:$2,1,MATCH(Tbl_ListFactores[[#This Row],[Factor]],'1. Definición_Factores'!$2:$2,0)+2)="","",INDEX('1. Definición_Factores'!$2:$2,1,MATCH(Tbl_ListFactores[[#This Row],[Factor]],'1. Definición_Factores'!$2:$2,0)+2)),"") | D3: =IFERROR(IF(INDEX('1. Definición_Factores'!$6:$6,1,MATCH(Tbl_ListFactores[[#This Row],[Factor]],'1. Definición_Factores'!$2:$2,0)-1)="","",INDEX('1. Definición_Factores'!$6:$6,1,MATCH(Tbl_ListFactores[[#This Row],[Factor]],'1. Definición_Factores'!$2:$2,0)-1)),"") | E3: =IFERROR(IF(INDEX('1. Definición_Factores'!$3:$3,1,MATCH(Tbl_ListFactores[[#This Row],[Factor]],'1. Definición_Factores'!$2:$2,0)+2)="","",INDEX('1. Definición_Factores'!$3:$3,1,MATCH(Tbl_ListFactores[[#This Row],[Factor]],'1. Definición_Factores'!$2:$2,0)+2)),"") | F3: =IFERROR(IF(INDEX('1. Definición_Factores'!$3:$3,1,MATCH(Tbl_ListFactores[[#This Row],[Factor]],'1. Definición_Factores'!$2:$2,0))="","zz",INDEX('1. Definición_Factores'!$3:$3,1,MATCH(Tbl_ListFactores[[#This Row],[Factor]],'1. Definición_Factores'!$2:$2,0))),"zz") -> zz | G3: =IF(Tbl_ListFactores[[#This Row],[Nombre del Factor]]<>"","TblF"&RIGHT(Tbl_ListFactores[[#This Row],[Factor]],LEN(Tbl_ListFactores[[#This Row],[Factor]])-FIND(" ",Tbl_ListFactores[[#This Row],[Factor]])),"") | H3: =IF(AND(Tbl_ListFactores[[#This Row],[Nombre del Factor]]<>"",Tbl_ListFactores[[#This Row],[Género]]<>"",Tbl_ListFactores[[#This Row],[Tipo]]<>""),ROW()-ROW(Tbl_ListFactores[])+1,0) -> 0 | O3: 1 | P3: =$L$1 -> 1
B4: FACTOR 3 | C4: =IFERROR(IF(INDEX('1. Definición_Factores'!$2:$2,1,MATCH(Tbl_ListFactores[[#This Row],[Factor]],'1. Definición_Factores'!$2:$2,0)+2)="","",INDEX('1. Definición_Factores'!$2:$2,1,MATCH(Tbl_ListFactores[[#This Row],[Factor]],'1. Definición_Factores'!$2:$2,0)+2)),"") | D4: =IFERROR(IF(INDEX('1. Definición_Factores'!$6:$6,1,MATCH(Tbl_ListFactores[[#This Row],[Factor]],'1. Definición_Factores'!$2:$2,0)-1)="","",INDEX('1. Definición_Factores'!$6:$6,1,MATCH(Tbl_ListFactores[[#This Row],[Factor]],'1. Definición_Factores'!$2:$2,0)-1)),"") | E4: =IFERROR(IF(INDEX('1. Definición_Factores'!$3:$3,1,MATCH(Tbl_ListFactores[[#This Row],[Factor]],'1. Definición_Factores'!$2:$2,0)+2)="","",INDEX('1. Definición_Factores'!$3:$3,1,MATCH(Tbl_ListFactores[[#This Row],[Factor]],'1. Definición_Factores'!$2:$2,0)+2)),"") | F4: =IFERROR(IF(INDEX('1. Definición_Factores'!$3:$3,1,MATCH(Tbl_ListFactores[[#This Row],[Factor]],'1. Definición_Factores'!$2:$2,0))="","zz",INDEX('1. Definición_Factores'!$3:$3,1,MATCH(Tbl_ListFactores[[#This Row],[Factor]],'1. Definición_Factores'!$2:$2,0))),"zz") -> zz | G4: =IF(Tbl_ListFactores[[#This Row],[Nombre del Factor]]<>"","TblF"&RIGHT(Tbl_ListFactores[[#This Row],[Factor]],LEN(Tbl_ListFactores[[#This Row],[Factor]])-FIND(" ",Tbl_ListFactores[[#This Row],[Factor]])),"") | H4: =IF(AND(Tbl_ListFactores[[#This Row],[Nombre del Factor]]<>"",Tbl_ListFactores[[#This Row],[Género]]<>"",Tbl_ListFactores[[#This Row],[Tipo]]<>""),ROW()-ROW(Tbl_ListFactores[])+1,0) -> 0 | O4: 2 | P4: =$L$1 -> 1 | Q4: 10
B5: FACTOR 4 | C5: =IFERROR(IF(INDEX('1. Definición_Factores'!$2:$2,1,MATCH(Tbl_ListFactores[[#This Row],[Factor]],'1. Definición_Factores'!$2:$2,0)+2)="","",INDEX('1. Definición_Factores'!$2:$2,1,MATCH(Tbl_ListFactores[[#This Row],[Factor]],'1. Definición_Factores'!$2:$2,0)+2)),"") | D5: =IFERROR(IF(INDEX('1. Definición_Factores'!$6:$6,1,MATCH(Tbl_ListFactores[[#This Row],[Factor]],'1. Definición_Factores'!$2:$2,0)-1)="","",INDEX('1. Definición_Factores'!$6:$6,1,MATCH(Tbl_ListFactores[[#This Row],[Factor]],'1. Definición_Factores'!$2:$2,0)-1)),"") | E5: =IFERROR(IF(INDEX('1. Definición_Factores'!$3:$3,1,MATCH(Tbl_ListFactores[[#This Row],[Factor]],'1. Definición_Factores'!$2:$2,0)+2)="","",INDEX('1. Definición_Factores'!$3:$3,1,MATCH(Tbl_ListFactores[[#This Row],[Factor]],'1. Definición_Factores'!$2:$2,0)+2)),"") | F5: =IFERROR(IF(INDEX('1. Definición_Factores'!$3:$3,1,MATCH(Tbl_ListFactores[[#This Row],[Factor]],'1. Definición_Factores'!$2:$2,0))="","zz",INDEX('1. Definición_Factores'!$3:$3,1,MATCH(Tbl_ListFactores[[#This Row],[Factor]],'1. Definición_Factores'!$2:$2,0))),"zz") -> zz | G5: =IF(Tbl_ListFactores[[#This Row],[Nombre del Factor]]<>"","TblF"&RIGHT(Tbl_ListFactores[[#This Row],[Factor]],LEN(Tbl_ListFactores[[#This Row],[Factor]])-FIND(" ",Tbl_ListFactores[[#This Row],[Factor]])),"") | H5: =IF(AND(Tbl_ListFactores[[#This Row],[Nombre del Factor]]<>"",Tbl_ListFactores[[#This Row],[Género]]<>"",Tbl_ListFactores[[#This Row],[Tipo]]<>""),ROW()-ROW(Tbl_ListFactores[])+1,0) -> 0 | N5: =POWER($L$2,1/(O5-1)) -> 3.1622777 | O5: 3 | P5: =$L$1 -> 1 | Q5: =IF($L$1=0,POWER($N5,P$2)-1,POWER($N5,P$2)) -> 3.1622777 | R5: 10
B6: FACTOR 5 | C6: =IFERROR(IF(INDEX('1. Definición_Factores'!$2:$2,1,MATCH(Tbl_ListFactores[[#This Row],[Factor]],'1. Definición_Factores'!$2:$2,0)+2)="","",INDEX('1. Definición_Factores'!$2:$2,1,MATCH(Tbl_ListFactores[[#This Row],[Factor]],'1. Definición_Factores'!$2:$2,0)+2)),"") | D6: =IFERROR(IF(INDEX('1. Definición_Factores'!$6:$6,1,MATCH(Tbl_ListFactores[[#This Row],[Factor]],'1. Definición_Factores'!$2:$2,0)-1)="","",INDEX('1. Definición_Factores'!$6:$6,1,MATCH(Tbl_ListFactores[[#This Row],[Factor]],'1. Definición_Factores'!$2:$2,0)-1)),"") | E6: =IFERROR(IF(INDEX('1. Definición_Factores'!$3:$3,1,MATCH(Tbl_ListFactores[[#This Row],[Factor]],'1. Definición_Factores'!$2:$2,0)+2)="","",INDEX('1. Definición_Factores'!$3:$3,1,MATCH(Tbl_ListFactores[[#This Row],[Factor]],'1. Definición_Factores'!$2:$2,0)+2)),"") | F6: =IFERROR(IF(INDEX('1. Definición_Factores'!$3:$3,1,MATCH(Tbl_ListFactores[[#This Row],[Factor]],'1. Definición_Factores'!$2:$2,0))="","zz",INDEX('1. Definición_Factores'!$3:$3,1,MATCH(Tbl_ListFactores[[#This Row],[Factor]],'1. Definición_Factores'!$2:$2,0))),"zz") -> zz | G6: =IF(Tbl_ListFactores[[#This Row],[Nombre del Factor]]<>"","TblF"&RIGHT(Tbl_ListFactores[[#This Row],[Factor]],LEN(Tbl_ListFactores[[#This Row],[Factor]])-FIND(" ",Tbl_ListFactores[[#This Row],[Factor]])),"") | H6: =IF(AND(Tbl_ListFactores[[#This Row],[Nombre del Factor]]<>"",Tbl_ListFactores[[#This Row],[Género]]<>"",Tbl_ListFactores[[#This Row],[Tipo]]<>""),ROW()-ROW(Tbl_ListFactores[])+1,0) -> 0 | N6: =POWER($L$2,1/(O6-1)) -> 2.1544347 | O6: 4 | P6: =$L$1 -> 1 | Q6: =IF($L$1=0,POWER($N6,P$2)-1,POWER($N6,P$2)) -> 2.1544347 | R6: =IF($L$1=0,POWER($N6,Q$2)-1,POWER($N6,Q$2)) -> 4.6415888 | S6: 10
B7: FACTOR 6 | C7: =IFERROR(IF(INDEX('1. Definición_Factores'!$2:$2,1,MATCH(Tbl_ListFactores[[#This Row],[Factor]],'1. Definición_Factores'!$2:$2,0)+2)="","",INDEX('1. Definición_Factores'!$2:$2,1,MATCH(Tbl_ListFactores[[#This Row],[Factor]],'1. Definición_Factores'!$2:$2,0)+2)),"") | D7: =IFERROR(IF(INDEX('1. Definición_Factores'!$6:$6,1,MATCH(Tbl_ListFactores[[#This Row],[Factor]],'1. Definición_Factores'!$2:$2,0)-1)="","",INDEX('1. Definición_Factores'!$6:$6,1,MATCH(Tbl_ListFactores[[#This Row],[Factor]],'1. Definición_Factores'!$2:$2,0)-1)),"") | E7: =IFERROR(IF(INDEX('1. Definición_Factores'!$3:$3,1,MATCH(Tbl_ListFactores[[#This Row],[Factor]],'1. Definición_Factores'!$2:$2,0)+2)="","",INDEX('1. Definición_Factores'!$3:$3,1,MATCH(Tbl_ListFactores[[#This Row],[Factor]],'1. Definición_Factores'!$2:$2,0)+2)),"") | F7: =IFERROR(IF(INDEX('1. Definición_Factores'!$3:$3,1,MATCH(Tbl_ListFactores[[#This Row],[Factor]],'1. Definición_Factores'!$2:$2,0))="","zz",INDEX('1. Definición_Factores'!$3:$3,1,MATCH(Tbl_ListFactores[[#This Row],[Factor]],'1. Definición_Factores'!$2:$2,0))),"zz") -> zz | G7: =IF(Tbl_ListFactores[[#This Row],[Nombre del Factor]]<>"","TblF"&RIGHT(Tbl_ListFactores[[#This Row],[Factor]],LEN(Tbl_ListFactores[[#This Row],[Factor]])-FIND(" ",Tbl_ListFactores[[#This Row],[Factor]])),"") | H7: =IF(AND(Tbl_ListFactores[[#This Row],[Nombre del Factor]]<>"",Tbl_ListFactores[[#This Row],[Género]]<>"",Tbl_ListFactores[[#This Row],[Tipo]]<>""),ROW()-ROW(Tbl_ListFactores[])+1,0) -> 0 | N7: =POWER($L$2,1/(O7-1)) -> 1.7782794 | O7: 5 | P7: =$L$1 -> 1 | Q7: =IF($L$1=0,POWER($N7,P$2)-1,POWER($N7,P$2)) -> 1.7782794 | R7: =IF($L$1=0,POWER($N7,Q$2)-1,POWER($N7,Q$2)) -> 3.1622777 | S7: =IF($L$1=0,POWER($N7,R$2)-1,POWER($N7,R$2)) -> 5.6234133 | T7: 10
B8: FACTOR 7 | C8: =IFERROR(IF(INDEX('1. Definición_Factores'!$2:$2,1,MATCH(Tbl_ListFactores[[#This Row],[Factor]],'1. Definición_Factores'!$2:$2,0)+2)="","",INDEX('1. Definición_Factores'!$2:$2,1,MATCH(Tbl_ListFactores[[#This Row],[Factor]],'1. Definición_Factores'!$2:$2,0)+2)),"") | D8: =IFERROR(IF(INDEX('1. Definición_Factores'!$6:$6,1,MATCH(Tbl_ListFactores[[#This Row],[Factor]],'1. Definición_Factores'!$2:$2,0)-1)="","",INDEX('1. Definición_Factores'!$6:$6,1,MATCH(Tbl_ListFactores[[#This Row],[Factor]],'1. Definición_Factores'!$2:$2,0)-1)),"") | E8: =IFERROR(IF(INDEX('1. Definición_Factores'!$3:$3,1,MATCH(Tbl_ListFactores[[#This Row],[Factor]],'1. Definición_Factores'!$2:$2,0)+2)="","",INDEX('1. Definición_Factores'!$3:$3,1,MATCH(Tbl_ListFactores[[#This Row],[Factor]],'1. Definición_Factores'!$2:$2,0)+2)),"") | F8: =IFERROR(IF(INDEX('1. Definición_Factores'!$3:$3,1,MATCH(Tbl_ListFactores[[#This Row],[Factor]],'1. Definición_Factores'!$2:$2,0))="","zz",INDEX('1. Definición_Factores'!$3:$3,1,MATCH(Tbl_ListFactores[[#This Row],[Factor]],'1. Definición_Factores'!$2:$2,0))),"zz") -> zz | G8: =IF(Tbl_ListFactores[[#This Row],[Nombre del Factor]]<>"","TblF"&RIGHT(Tbl_ListFactores[[#This Row],[Factor]],LEN(Tbl_ListFactores[[#This Row],[Factor]])-FIND(" ",Tbl_ListFactores[[#This Row],[Factor]])),"") | H8: =IF(AND(Tbl_ListFactores[[#This Row],[Nombre del Factor]]<>"",Tbl_ListFactores[[#This Row],[Género]]<>"",Tbl_ListFactores[[#This Row],[Tipo]]<>""),ROW()-ROW(Tbl_ListFactores[])+1,0) -> 0 | N8: =POWER($L$2,1/(O8-1)) -> 1.5848932 | O8: 6 | P8: =$L$1 -> 1 | Q8: =IF($L$1=0,POWER($N8,P$2)-1,POWER($N8,P$2)) -> 1.5848932 | R8: =IF($L$1=0,POWER($N8,Q$2)-1,POWER($N8,Q$2)) -> 2.5118864 | S8: =IF($L$1=0,POWER($N8,R$2)-1,POWER($N8,R$2)) -> 3.9810717 | T8: =IF($L$1=0,POWER($N8,S$2)-1,POWER($N8,S$2)) -> 6.3095734 | U8: 10
B9: FACTOR 8 | C9: =IFERROR(IF(INDEX('1. Definición_Factores'!$2:$2,1,MATCH(Tbl_ListFactores[[#This Row],[Factor]],'1. Definición_Factores'!$2:$2,0)+2)="","",INDEX('1. Definición_Factores'!$2:$2,1,MATCH(Tbl_ListFactores[[#This Row],[Factor]],'1. Definición_Factores'!$2:$2,0)+2)),"") | D9: =IFERROR(IF(INDEX('1. Definición_Factores'!$6:$6,1,MATCH(Tbl_ListFactores[[#This Row],[Factor]],'1. Definición_Factores'!$2:$2,0)-1)="","",INDEX('1. Definición_Factores'!$6:$6,1,MATCH(Tbl_ListFactores[[#This Row],[Factor]],'1. Definición_Factores'!$2:$2,0)-1)),"") | E9: =IFERROR(IF(INDEX('1. Definición_Factores'!$3:$3,1,MATCH(Tbl_ListFactores[[#This Row],[Factor]],'1. Definición_Factores'!$2:$2,0)+2)="","",INDEX('1. Definición_Factores'!$3:$3,1,MATCH(Tbl_ListFactores[[#This Row],[Factor]],'1. Definición_Factores'!$2:$2,0)+2)),"") | F9: =IFERROR(IF(INDEX('1. Definición_Factores'!$3:$3,1,MATCH(Tbl_ListFactores[[#This Row],[Factor]],'1. Definición_Factores'!$2:$2,0))="","zz",INDEX('1. Definición_Factores'!$3:$3,1,MATCH(Tbl_ListFactores[[#This Row],[Factor]],'1. Definición_Factores'!$2:$2,0))),"zz") -> zz | G9: =IF(Tbl_ListFactores[[#This Row],[Nombre del Factor]]<>"","TblF"&RIGHT(Tbl_ListFactores[[#This Row],[Factor]],LEN(Tbl_ListFactores[[#This Row],[Factor]])-FIND(" ",Tbl_ListFactores[[#This Row],[Factor]])),"") | H9: =IF(AND(Tbl_ListFactores[[#This Row],[Nombre del Factor]]<>"",Tbl_ListFactores[[#This Row],[Género]]<>"",Tbl_ListFactores[[#This Row],[Tipo]]<>""),ROW()-ROW(Tbl_ListFactores[])+1,0) -> 0 | N9: =POWER($L$2,1/(O9-1)) -> 1.4677993 | O9: 7 | P9: =$L$1 -> 1 | Q9: =IF($L$1=0,POWER($N9,P$2)-1,POWER($N9,P$2)) -> 1.4677993 | R9: =IF($L$1=0,POWER($N9,Q$2)-1,POWER($N9,Q$2)) -> 2.1544347 | S9: =IF($L$1=0,POWER($N9,R$2)-1,POWER($N9,R$2)) -> 3.1622777 | T9: =IF($L$1=0,POWER($N9,S$2)-1,POWER($N9,S$2)) -> 4.6415888 | U9: =IF($L$1=0,POWER($N9,T$2)-1,POWER($N9,T$2)) -> 6.8129207 | V9: 10
B10: FACTOR 9 | C10: =IFERROR(IF(INDEX('1. Definición_Factores'!$2:$2,1,MATCH(Tbl_ListFactores[[#This Row],[Factor]],'1. Definición_Factores'!$2:$2,0)+2)="","",INDEX('1. Definición_Factores'!$2:$2,1,MATCH(Tbl_ListFactores[[#This Row],[Factor]],'1. Definición_Factores'!$2:$2,0)+2)),"") | D10: =IFERROR(IF(INDEX('1. Definición_Factores'!$6:$6,1,MATCH(Tbl_ListFactores[[#This Row],[Factor]],'1. Definición_Factores'!$2:$2,0)-1)="","",INDEX('1. Definición_Factores'!$6:$6,1,MATCH(Tbl_ListFactores[[#This Row],[Factor]],'1. Definición_Factores'!$2:$2,0)-1)),"") | E10: =IFERROR(IF(INDEX('1. Definición_Factores'!$3:$3,1,MATCH(Tbl_ListFactores[[#This Row],[Factor]],'1. Definición_Factores'!$2:$2,0)+2)="","",INDEX('1. Definición_Factores'!$3:$3,1,MATCH(Tbl_ListFactores[[#This Row],[Factor]],'1. Definición_Factores'!$2:$2,0)+2)),"") | F10: =IFERROR(IF(INDEX('1. Definición_Factores'!$3:$3,1,MATCH(Tbl_ListFactores[[#This Row],[Factor]],'1. Definición_Factores'!$2:$2,0))="","zz",INDEX('1. Definición_Factores'!$3:$3,1,MATCH(Tbl_ListFactores[[#This Row],[Factor]],'1. Definición_Factores'!$2:$2,0))),"zz") -> zz | G10: =IF(Tbl_ListFactores[[#This Row],[Nombre del Factor]]<>"","TblF"&RIGHT(Tbl_ListFactores[[#This Row],[Factor]],LEN(Tbl_ListFactores[[#This Row],[Factor]])-FIND(" ",Tbl_ListFactores[[#This Row],[Factor]])),"") | H10: =IF(AND(Tbl_ListFactores[[#This Row],[Nombre del Factor]]<>"",Tbl_ListFactores[[#This Row],[Género]]<>"",Tbl_ListFactores[[#This Row],[Tipo]]<>""),ROW()-ROW(Tbl_ListFactores[])+1,0) -> 0 | N10: =POWER($L$2,1/(O10-1)) -> 1.3894955 | O10: 8 | P10: =$L$1 -> 1 | Q10: =IF($L$1=0,POWER($N10,P$2)-1,POWER($N10,P$2)) -> 1.3894955 | R10: =IF($L$1=0,POWER($N10,Q$2)-1,POWER($N10,Q$2)) -> 1.9306977 | S10: =IF($L$1=0,POWER($N10,R$2)-1,POWER($N10,R$2)) -> 2.6826958 | T10: =IF($L$1=0,POWER($N10,S$2)-1,POWER($N10,S$2)) -> 3.7275937 | U10: =IF($L$1=0,POWER($N10,T$2)-1,POWER($N10,T$2)) -> 5.1794747 | V10: =IF($L$1=0,POWER($N10,U$2)-1,POWER($N10,U$2)) -> 7.1968567 | W10: 10
B11: FACTOR 10 | C11: =IFERROR(IF(INDEX('1. Definición_Factores'!$2:$2,1,MATCH(Tbl_ListFactores[[#This Row],[Factor]],'1. Definición_Factores'!$2:$2,0)+2)="","",INDEX('1. Definición_Factores'!$2:$2,1,MATCH(Tbl_ListFactores[[#This Row],[Factor]],'1. Definición_Factores'!$2:$2,0)+2)),"") | D11: =IFERROR(IF(INDEX('1. Definición_Factores'!$6:$6,1,MATCH(Tbl_ListFactores[[#This Row],[Factor]],'1. Definición_Factores'!$2:$2,0)-1)="","",INDEX('1. Definición_Factores'!$6:$6,1,MATCH(Tbl_ListFactores[[#This Row],[Factor]],'1. Definición_Factores'!$2:$2,0)-1)),"") | E11: =IFERROR(IF(INDEX('1. Definición_Factores'!$3:$3,1,MATCH(Tbl_ListFactores[[#This Row],[Factor]],'1. Definición_Factores'!$2:$2,0)+2)="","",INDEX('1. Definición_Factores'!$3:$3,1,MATCH(Tbl_ListFactores[[#This Row],[Factor]],'1. Definición_Factores'!$2:$2,0)+2)),"") | F11: =IFERROR(IF(INDEX('1. Definición_Factores'!$3:$3,1,MATCH(Tbl_ListFactores[[#This Row],[Factor]],'1. Definición_Factores'!$2:$2,0))="","zz",INDEX('1. Definición_Factores'!$3:$3,1,MATCH(Tbl_ListFactores[[#This Row],[Factor]],'1. Definición_Factores'!$2:$2,0))),"zz") -> zz | G11: =IF(Tbl_ListFactores[[#This Row],[Nombre del Factor]]<>"","TblF"&RIGHT(Tbl_ListFactores[[#This Row],[Factor]],LEN(Tbl_ListFactores[[#This Row],[Factor]])-FIND(" ",Tbl_ListFactores[[#This Row],[Factor]])),"") | H11: =IF(AND(Tbl_ListFactores[[#This Row],[Nombre del Factor]]<>"",Tbl_ListFactores[[#This Row],[Género]]<>"",Tbl_ListFactores[[#This Row],[Tipo]]<>""),ROW()-ROW(Tbl_ListFactores[])+1,0) -> 0 | N11: =POWER($L$2,1/(O11-1)) -> 1.3335214 | O11: 9 | P11: =$L$1 -> 1 | Q11: =IF($L$1=0,POWER($N11,P$2)-1,POWER($N11,P$2)) -> 1.3335214 | R11: =IF($L$1=0,POWER($N11,Q$2)-1,POWER($N11,Q$2)) -> 1.7782794 | S11: =IF($L$1=0,POWER($N11,R$2)-1,POWER($N11,R$2)) -> 2.3713737 | T11: =IF($L$1=0,POWER($N11,S$2)-1,POWER($N11,S$2)) -> 3.1622777 | U11: =IF($L$1=0,POWER($N11,T$2)-1,POWER($N11,T$2)) -> 4.216965 | V11: =IF($L$1=0,POWER($N11,U$2)-1,POWER($N11,U$2)) -> 5.6234133 | W11: =IF($L$1=0,POWER($N11,V$2)-1,POWER($N11,V$2)) -> 7.4989421 | X11: 10
B12: FACTOR 11 | C12: =IFERROR(IF(INDEX('1. Definición_Factores'!$2:$2,1,MATCH(Tbl_ListFactores[[#This Row],[Factor]],'1. Definición_Factores'!$2:$2,0)+2)="","",INDEX('1. Definición_Factores'!$2:$2,1,MATCH(Tbl_ListFactores[[#This Row],[Factor]],'1. Definición_Factores'!$2:$2,0)+2)),"") | D12: =IFERROR(IF(INDEX('1. Definición_Factores'!$6:$6,1,MATCH(Tbl_ListFactores[[#This Row],[Factor]],'1. Definición_Factores'!$2:$2,0)-1)="","",INDEX('1. Definición_Factores'!$6:$6,1,MATCH(Tbl_ListFactores[[#This Row],[Factor]],'1. Definición_Factores'!$2:$2,0)-1)),"") | E12: =IFERROR(IF(INDEX('1. Definición_Factores'!$3:$3,1,MATCH(Tbl_ListFactores[[#This Row],[Factor]],'1. Definición_Factores'!$2:$2,0)+2)="","",INDEX('1. Definición_Factores'!$3:$3,1,MATCH(Tbl_ListFactores[[#This Row],[Factor]],'1. Definición_Factores'!$2:$2,0)+2)),"") | F12: =IFERROR(IF(INDEX('1. Definición_Factores'!$3:$3,1,MATCH(Tbl_ListFactores[[#This Row],[Factor]],'1. Definición_Factores'!$2:$2,0))="","zz",INDEX('1. Definición_Factores'!$3:$3,1,MATCH(Tbl_ListFactores[[#This Row],[Factor]],'1. Definición_Factores'!$2:$2,0))),"zz") -> zz | G12: =IF(Tbl_ListFactores[[#This Row],[Nombre del Factor]]<>"","TblF"&RIGHT(Tbl_ListFactores[[#This Row],[Factor]],LEN(Tbl_ListFactores[[#This Row],[Factor]])-FIND(" ",Tbl_ListFactores[[#This Row],[Factor]])),"") | H12: =IF(AND(Tbl_ListFactores[[#This Row],[Nombre del Factor]]<>"",Tbl_ListFactores[[#This Row],[Género]]<>"",Tbl_ListFactores[[#This Row],[Tipo]]<>""),ROW()-ROW(Tbl_ListFactores[])+1,0) -> 0 | N12: =POWER($L$2,1/(O12-1)) -> 1.2915497 | O12: 10 | P12: =$L$1 -> 1 | Q12: =IF($L$1=0,POWER($N12,P$2)-1,POWER($N12,P$2)) -> 1.2915497 | R12: =IF($L$1=0,POWER($N12,Q$2)-1,POWER($N12,Q$2)) -> 1.6681005 | S12: =IF($L$1=0,POWER($N12,R$2)-1,POWER($N12,R$2)) -> 2.1544347 | T12: =IF($L$1=0,POWER($N12,S$2)-1,POWER($N12,S$2)) -> 2.7825594 | U12: =IF($L$1=0,POWER($N12,T$2)-1,POWER($N12,T$2)) -> 3.5938137 | V12: =IF($L$1=0,POWER($N12,U$2)-1,POWER($N12,U$2)) -> 4.6415888 | W12: =IF($L$1=0,POWER($N12,V$2)-1,POWER($N12,V$2)) -> 5.9948425 | X12: =IF($L$1=0,POWER($N12,W$2)-1,POWER($N12,W$2)) -> 7.7426368 | Y12: 10
B13: FACTOR 12 | C13: =IFERROR(IF(INDEX('1. Definición_Factores'!$2:$2,1,MATCH(Tbl_ListFactores[[#This Row],[Factor]],'1. Definición_Factores'!$2:$2,0)+2)="","",INDEX('1. Definición_Factores'!$2:$2,1,MATCH(Tbl_ListFactores[[#This Row],[Factor]],'1. Definición_Factores'!$2:$2,0)+2)),"") | D13: =IFERROR(IF(INDEX('1. Definición_Factores'!$6:$6,1,MATCH(Tbl_ListFactores[[#This Row],[Factor]],'1. Definición_Factores'!$2:$2,0)-1)="","",INDEX('1. Definición_Factores'!$6:$6,1,MATCH(Tbl_ListFactores[[#This Row],[Factor]],'1. Definición_Factores'!$2:$2,0)-1)),"") | E13: =IFERROR(IF(INDEX('1. Definición_Factores'!$3:$3,1,MATCH(Tbl_ListFactores[[#This Row],[Factor]],'1. Definición_Factores'!$2:$2,0)+2)="","",INDEX('1. Definición_Factores'!$3:$3,1,MATCH(Tbl_ListFactores[[#This Row],[Factor]],'1. Definición_Factores'!$2:$2,0)+2)),"") | F13: =IFERROR(IF(INDEX('1. Definición_Factores'!$3:$3,1,MATCH(Tbl_ListFactores[[#This Row],[Factor]],'1. Definición_Factores'!$2:$2,0))="","zz",INDEX('1. Definición_Factores'!$3:$3,1,MATCH(Tbl_ListFactores[[#This Row],[Factor]],'1. Definición_Factores'!$2:$2,0))),"zz") -> zz | G13: =IF(Tbl_ListFactores[[#This Row],[Nombre del Factor]]<>"","TblF"&RIGHT(Tbl_ListFactores[[#This Row],[Factor]],LEN(Tbl_ListFactores[[#This Row],[Factor]])-FIND(" ",Tbl_ListFactores[[#This Row],[Factor]])),"") | H13: =IF(AND(Tbl_ListFactores[[#This Row],[Nombre del Factor]]<>"",Tbl_ListFactores[[#This Row],[Género]]<>"",Tbl_ListFactores[[#This Row],[Tipo]]<>""),ROW()-ROW(Tbl_ListFactores[])+1,0) -> 0 | N13: =POWER($L$2,1/(O13-1)) -> 1.2589254 | O13: 11 | P13: =$L$1 -> 1 | Q13: =IF($L$1=0,POWER($N13,P$2)-1,POWER($N13,P$2)) -> 1.2589254 | R13: =IF($L$1=0,POWER($N13,Q$2)-1,POWER($N13,Q$2)) -> 1.5848932 | S13: =IF($L$1=0,POWER($N13,R$2)-1,POWER($N13,R$2)) -> 1.9952623 | T13: =IF($L$1=0,POWER($N13,S$2)-1,POWER($N13,S$2)) -> 2.5118864 | U13: =IF($L$1=0,POWER($N13,T$2)-1,POWER($N13,T$2)) -> 3.1622777 | V13: =IF($L$1=0,POWER($N13,U$2)-1,POWER($N13,U$2)) -> 3.9810717 | W13: =IF($L$1=0,POWER($N13,V$2)-1,POWER($N13,V$2)) -> 5.0118723 | X13: =IF($L$1=0,POWER($N13,W$2)-1,POWER($N13,W$2)) -> 6.3095734 | Y13: =IF($L$1=0,POWER($N13,X$2)-1,POWER($N13,X$2)) -> 7.9432823 | Z13: 10
B14: FACTOR 13 | C14: =IFERROR(IF(INDEX('1. Definición_Factores'!$2:$2,1,MATCH(Tbl_ListFactores[[#This Row],[Factor]],'1. Definición_Factores'!$2:$2,0)+2)="","",INDEX('1. Definición_Factores'!$2:$2,1,MATCH(Tbl_ListFactores[[#This Row],[Factor]],'1. Definición_Factores'!$2:$2,0)+2)),"") | D14: =IFERROR(IF(INDEX('1. Definición_Factores'!$6:$6,1,MATCH(Tbl_ListFactores[[#This Row],[Factor]],'1. Definición_Factores'!$2:$2,0)-1)="","",INDEX('1. Definición_Factores'!$6:$6,1,MATCH(Tbl_ListFactores[[#This Row],[Factor]],'1. Definición_Factores'!$2:$2,0)-1)),"") | E14: =IFERROR(IF(INDEX('1. Definición_Factores'!$3:$3,1,MATCH(Tbl_ListFactores[[#This Row],[Factor]],'1. Definición_Factores'!$2:$2,0)+2)="","",INDEX('1. Definición_Factores'!$3:$3,1,MATCH(Tbl_ListFactores[[#This Row],[Factor]],'1. Definición_Factores'!$2:$2,0)+2)),"") | F14: =IFERROR(IF(INDEX('1. Definición_Factores'!$3:$3,1,MATCH(Tbl_ListFactores[[#This Row],[Factor]],'1. Definición_Factores'!$2:$2,0))="","zz",INDEX('1. Definición_Factores'!$3:$3,1,MATCH(Tbl_ListFactores[[#This Row],[Factor]],'1. Definición_Factores'!$2:$2,0))),"zz") -> zz | G14: =IF(Tbl_ListFactores[[#This Row],[Nombre del Factor]]<>"","TblF"&RIGHT(Tbl_ListFactores[[#This Row],[Factor]],LEN(Tbl_ListFactores[[#This Row],[Factor]])-FIND(" ",Tbl_ListFactores[[#This Row],[Factor]])),"") | H14: =IF(AND(Tbl_ListFactores[[#This Row],[Nombre del Factor]]<>"",Tbl_ListFactores[[#This Row],[Género]]<>"",Tbl_ListFactores[[#This Row],[Tipo]]<>""),ROW()-ROW(Tbl_ListFactores[])+1,0) -> 0 | N14: =POWER($L$2,1/(O14-1)) -> 1.2328467 | O14: 12 | P14: =$L$1 -> 1 | Q14: =IF($L$1=0,POWER($N14,P$2)-1,POWER($N14,P$2)) -> 1.2328467 | R14: =IF($L$1=0,POWER($N14,Q$2)-1,POWER($N14,Q$2)) -> 1.5199111 | S14: =IF($L$1=0,POWER($N14,R$2)-1,POWER($N14,R$2)) -> 1.8738174 | T14: =IF($L$1=0,POWER($N14,S$2)-1,POWER($N14,S$2)) -> 2.3101297 | U14: =IF($L$1=0,POWER($N14,T$2)-1,POWER($N14,T$2)) -> 2.8480359 | V14: =IF($L$1=0,POWER($N14,U$2)-1,POWER($N14,U$2)) -> 3.5111917 | W14: =IF($L$1=0,POWER($N14,V$2)-1,POWER($N14,V$2)) -> 4.3287613 | X14: =IF($L$1=0,POWER($N14,W$2)-1,POWER($N14,W$2)) -> 5.3366992 | ... Z14: =IF($L$1=0,POWER($N14,Y$2)-1,POWER($N14,Y$2)) -> 8.1113083 | AA14: 10
B15: FACTOR 14 | C15: =IFERROR(IF(INDEX('1. Definición_Factores'!$2:$2,1,MATCH(Tbl_ListFactores[[#This Row],[Factor]],'1. Definición_Factores'!$2:$2,0)+2)="","",INDEX('1. Definición_Factores'!$2:$2,1,MATCH(Tbl_ListFactores[[#This Row],[Factor]],'1. Definición_Factores'!$2:$2,0)+2)),"") | D15: =IFERROR(IF(INDEX('1. Definición_Factores'!$6:$6,1,MATCH(Tbl_ListFactores[[#This Row],[Factor]],'1. Definición_Factores'!$2:$2,0)-1)="","",INDEX('1. Definición_Factores'!$6:$6,1,MATCH(Tbl_ListFactores[[#This Row],[Factor]],'1. Definición_Factores'!$2:$2,0)-1)),"") | E15: =IFERROR(IF(INDEX('1. Definición_Factores'!$3:$3,1,MATCH(Tbl_ListFactores[[#This Row],[Factor]],'1. Definición_Factores'!$2:$2,0)+2)="","",INDEX('1. Definición_Factores'!$3:$3,1,MATCH(Tbl_ListFactores[[#This Row],[Factor]],'1. Definición_Factores'!$2:$2,0)+2)),"") | F15: =IFERROR(IF(INDEX('1. Definición_Factores'!$3:$3,1,MATCH(Tbl_ListFactores[[#This Row],[Factor]],'1. Definición_Factores'!$2:$2,0))="","zz",INDEX('1. Definición_Factores'!$3:$3,1,MATCH(Tbl_ListFactores[[#This Row],[Factor]],'1. Definición_Factores'!$2:$2,0))),"zz") -> zz | G15: =IF(Tbl_ListFactores[[#This Row],[Nombre del Factor]]<>"","TblF"&RIGHT(Tbl_ListFactores[[#This Row],[Factor]],LEN(Tbl_ListFactores[[#This Row],[Factor]])-FIND(" ",Tbl_ListFactores[[#This Row],[Factor]])),"") | H15: =IF(AND(Tbl_ListFactores[[#This Row],[Nombre del Factor]]<>"",Tbl_ListFactores[[#This Row],[Género]]<>"",Tbl_ListFactores[[#This Row],[Tipo]]<>""),ROW()-ROW(Tbl_ListFactores[])+1,0) -> 0 | N15: =POWER($L$2,1/(O15-1)) -> 1.2115277 | O15: 13 | P15: =$L$1 -> 1 | Q15: =IF($L$1=0,POWER($N15,P$2)-1,POWER($N15,P$2)) -> 1.2115277 | R15: =IF($L$1=0,POWER($N15,Q$2)-1,POWER($N15,Q$2)) -> 1.4677993 | S15: =IF($L$1=0,POWER($N15,R$2)-1,POWER($N15,R$2)) -> 1.7782794 | T15: =IF($L$1=0,POWER($N15,S$2)-1,POWER($N15,S$2)) -> 2.1544347 | U15: =IF($L$1=0,POWER($N15,T$2)-1,POWER($N15,T$2)) -> 2.6101572 | V15: =IF($L$1=0,POWER($N15,U$2)-1,POWER($N15,U$2)) -> 3.1622777 | W15: =IF($L$1=0,POWER($N15,V$2)-1,POWER($N15,V$2)) -> 3.8311868 | X15: =IF($L$1=0,POWER($N15,W$2)-1,POWER($N15,W$2)) -> 4.6415888 | ... AA15: =IF($L$1=0,POWER($N15,Z$2)-1,POWER($N15,Z$2)) -> 8.2540419 | AB15: 10
B16: FACTOR 15 | C16: =IFERROR(IF(INDEX('1. Definición_Factores'!$2:$2,1,MATCH(Tbl_ListFactores[[#This Row],[Factor]],'1. Definición_Factores'!$2:$2,0)+2)="","",INDEX('1. Definición_Factores'!$2:$2,1,MATCH(Tbl_ListFactores[[#This Row],[Factor]],'1. Definición_Factores'!$2:$2,0)+2)),"") | D16: =IFERROR(IF(INDEX('1. Definición_Factores'!$6:$6,1,MATCH(Tbl_ListFactores[[#This Row],[Factor]],'1. Definición_Factores'!$2:$2,0)-1)="","",INDEX('1. Definición_Factores'!$6:$6,1,MATCH(Tbl_ListFactores[[#This Row],[Factor]],'1. Definición_Factores'!$2:$2,0)-1)),"") | E16: =IFERROR(IF(INDEX('1. Definición_Factores'!$3:$3,1,MATCH(Tbl_ListFactores[[#This Row],[Factor]],'1. Definición_Factores'!$2:$2,0)+2)="","",INDEX('1. Definición_Factores'!$3:$3,1,MATCH(Tbl_ListFactores[[#This Row],[Factor]],'1. Definición_Factores'!$2:$2,0)+2)),"") | F16: =IFERROR(IF(INDEX('1. Definición_Factores'!$3:$3,1,MATCH(Tbl_ListFactores[[#This Row],[Factor]],'1. Definición_Factores'!$2:$2,0))="","zz",INDEX('1. Definición_Factores'!$3:$3,1,MATCH(Tbl_ListFactores[[#This Row],[Factor]],'1. Definición_Factores'!$2:$2,0))),"zz") -> zz | G16: =IF(Tbl_ListFactores[[#This Row],[Nombre del Factor]]<>"","TblF"&RIGHT(Tbl_ListFactores[[#This Row],[Factor]],LEN(Tbl_ListFactores[[#This Row],[Factor]])-FIND(" ",Tbl_ListFactores[[#This Row],[Factor]])),"") | H16: =IF(AND(Tbl_ListFactores[[#This Row],[Nombre del Factor]]<>"",Tbl_ListFactores[[#This Row],[Género]]<>"",Tbl_ListFactores[[#This Row],[Tipo]]<>""),ROW()-ROW(Tbl_ListFactores[])+1,0) -> 0 | N16: =POWER($L$2,1/(O16-1)) -> 1.1937766 | O16: 14 | P16: =$L$1 -> 1 | Q16: =IF($L$1=0,POWER($N16,P$2)-1,POWER($N16,P$2)) -> 1.1937766 | R16: =IF($L$1=0,POWER($N16,Q$2)-1,POWER($N16,Q$2)) -> 1.4251027 | S16: =IF($L$1=0,POWER($N16,R$2)-1,POWER($N16,R$2)) -> 1.7012543 | T16: =IF($L$1=0,POWER($N16,S$2)-1,POWER($N16,S$2)) -> 2.0309176 | U16: =IF($L$1=0,POWER($N16,T$2)-1,POWER($N16,T$2)) -> 2.424462 | V16: =IF($L$1=0,POWER($N16,U$2)-1,POWER($N16,U$2)) -> 2.8942661 | W16: =IF($L$1=0,POWER($N16,V$2)-1,POWER($N16,V$2)) -> 3.4551073 | X16: =IF($L$1=0,POWER($N16,W$2)-1,POWER($N16,W$2)) -> 4.1246264 | ... AB16: =IF($L$1=0,POWER($N16,AA$2)-1,POWER($N16,AA$2)) -> 8.3767764 | AC16: 10
B17: FACTOR 16 | C17: =IFERROR(IF(INDEX('1. Definición_Factores'!$2:$2,1,MATCH(Tbl_ListFactores[[#This Row],[Factor]],'1. Definición_Factores'!$2:$2,0)+2)="","",INDEX('1. Definición_Factores'!$2:$2,1,MATCH(Tbl_ListFactores[[#This Row],[Factor]],'1. Definición_Factores'!$2:$2,0)+2)),"") | D17: =IFERROR(IF(INDEX('1. Definición_Factores'!$6:$6,1,MATCH(Tbl_ListFactores[[#This Row],[Factor]],'1. Definición_Factores'!$2:$2,0)-1)="","",INDEX('1. Definición_Factores'!$6:$6,1,MATCH(Tbl_ListFactores[[#This Row],[Factor]],'1. Definición_Factores'!$2:$2,0)-1)),"") | E17: =IFERROR(IF(INDEX('1. Definición_Factores'!$3:$3,1,MATCH(Tbl_ListFactores[[#This Row],[Factor]],'1. Definición_Factores'!$2:$2,0)+2)="","",INDEX('1. Definición_Factores'!$3:$3,1,MATCH(Tbl_ListFactores[[#This Row],[Factor]],'1. Definición_Factores'!$2:$2,0)+2)),"") | F17: =IFERROR(IF(INDEX('1. Definición_Factores'!$3:$3,1,MATCH(Tbl_ListFactores[[#This Row],[Factor]],'1. Definición_Factores'!$2:$2,0))="","zz",INDEX('1. Definición_Factores'!$3:$3,1,MATCH(Tbl_ListFactores[[#This Row],[Factor]],'1. Definición_Factores'!$2:$2,0))),"zz") -> zz | G17: =IF(Tbl_ListFactores[[#This Row],[Nombre del Factor]]<>"","TblF"&RIGHT(Tbl_ListFactores[[#This Row],[Factor]],LEN(Tbl_ListFactores[[#This Row],[Factor]])-FIND(" ",Tbl_ListFactores[[#This Row],[Factor]])),"") | H17: =IF(AND(Tbl_ListFactores[[#This Row],[Nombre del Factor]]<>"",Tbl_ListFactores[[#This Row],[Género]]<>"",Tbl_ListFactores[[#This Row],[Tipo]]<>""),ROW()-ROW(Tbl_ListFactores[])+1,0) -> 0 | N17: =POWER($L$2,1/(O17-1)) -> 1.1787686 | O17: 15 | P17: =$L$1 -> 1 | Q17: =IF($L$1=0,POWER($N17,P$2)-1,POWER($N17,P$2)) -> 1.1787686 | R17: =IF($L$1=0,POWER($N17,Q$2)-1,POWER($N17,Q$2)) -> 1.3894955 | S17: =IF($L$1=0,POWER($N17,R$2)-1,POWER($N17,R$2)) -> 1.6378937 | T17: =IF($L$1=0,POWER($N17,S$2)-1,POWER($N17,S$2)) -> 1.9306977 | U17: =IF($L$1=0,POWER($N17,T$2)-1,POWER($N17,T$2)) -> 2.2758459 | V17: =IF($L$1=0,POWER($N17,U$2)-1,POWER($N17,U$2)) -> 2.6826958 | W17: =IF($L$1=0,POWER($N17,V$2)-1,POWER($N17,V$2)) -> 3.1622777 | X17: =IF($L$1=0,POWER($N17,W$2)-1,POWER($N17,W$2)) -> 3.7275937 | ... AC17: =IF($L$1=0,POWER($N17,AB$2)-1,POWER($N17,AB$2)) -> 8.483429 | AD17: 10
B18: FACTOR 17 | C18: =IFERROR(IF(INDEX('1. Definición_Factores'!$2:$2,1,MATCH(Tbl_ListFactores[[#This Row],[Factor]],'1. Definición_Factores'!$2:$2,0)+2)="","",INDEX('1. Definición_Factores'!$2:$2,1,MATCH(Tbl_ListFactores[[#This Row],[Factor]],'1. Definición_Factores'!$2:$2,0)+2)),"") | D18: =IFERROR(IF(INDEX('1. Definición_Factores'!$6:$6,1,MATCH(Tbl_ListFactores[[#This Row],[Factor]],'1. Definición_Factores'!$2:$2,0)-1)="","",INDEX('1. Definición_Factores'!$6:$6,1,MATCH(Tbl_ListFactores[[#This Row],[Factor]],'1. Definición_Factores'!$2:$2,0)-1)),"") | E18: =IFERROR(IF(INDEX('1. Definición_Factores'!$3:$3,1,MATCH(Tbl_ListFactores[[#This Row],[Factor]],'1. Definición_Factores'!$2:$2,0)+2)="","",INDEX('1. Definición_Factores'!$3:$3,1,MATCH(Tbl_ListFactores[[#This Row],[Factor]],'1. Definición_Factores'!$2:$2,0)+2)),"") | F18: =IFERROR(IF(INDEX('1. Definición_Factores'!$3:$3,1,MATCH(Tbl_ListFactores[[#This Row],[Factor]],'1. Definición_Factores'!$2:$2,0))="","zz",INDEX('1. Definición_Factores'!$3:$3,1,MATCH(Tbl_ListFactores[[#This Row],[Factor]],'1. Definición_Factores'!$2:$2,0))),"zz") -> zz | G18: =IF(Tbl_ListFactores[[#This Row],[Nombre del Factor]]<>"","TblF"&RIGHT(Tbl_ListFactores[[#This Row],[Factor]],LEN(Tbl_ListFactores[[#This Row],[Factor]])-FIND(" ",Tbl_ListFactores[[#This Row],[Factor]])),"") | H18: =IF(AND(Tbl_ListFactores[[#This Row],[Nombre del Factor]]<>"",Tbl_ListFactores[[#This Row],[Género]]<>"",Tbl_ListFactores[[#This Row],[Tipo]]<>""),ROW()-ROW(Tbl_ListFactores[])+1,0) -> 0 | N18: =POWER($L$2,1/(O18-1)) -> 1.1659144 | O18: 16 | P18: =$L$1 -> 1 | Q18: =IF($L$1=0,POWER($N18,P$2)-1,POWER($N18,P$2)) -> 1.1659144 | R18: =IF($L$1=0,POWER($N18,Q$2)-1,POWER($N18,Q$2)) -> 1.3593564 | S18: =IF($L$1=0,POWER($N18,R$2)-1,POWER($N18,R$2)) -> 1.5848932 | T18: =IF($L$1=0,POWER($N18,S$2)-1,POWER($N18,S$2)) -> 1.8478498 | U18: =IF($L$1=0,POWER($N18,T$2)-1,POWER($N18,T$2)) -> 2.1544347 | V18: =IF($L$1=0,POWER($N18,U$2)-1,POWER($N18,U$2)) -> 2.5118864 | W18: =IF($L$1=0,POWER($N18,V$2)-1,POWER($N18,V$2)) -> 2.9286446 | X18: =IF($L$1=0,POWER($N18,W$2)-1,POWER($N18,W$2)) -> 3.4145489 | ... AD18: =IF($L$1=0,POWER($N18,AC$2)-1,POWER($N18,AC$2)) -> 8.576959 | AE18: 10
B19: FACTOR 18 | C19: =IFERROR(IF(INDEX('1. Definición_Factores'!$2:$2,1,MATCH(Tbl_ListFactores[[#This Row],[Factor]],'1. Definición_Factores'!$2:$2,0)+2)="","",INDEX('1. Definición_Factores'!$2:$2,1,MATCH(Tbl_ListFactores[[#This Row],[Factor]],'1. Definición_Factores'!$2:$2,0)+2)),"") | D19: =IFERROR(IF(INDEX('1. Definición_Factores'!$6:$6,1,MATCH(Tbl_ListFactores[[#This Row],[Factor]],'1. Definición_Factores'!$2:$2,0)-1)="","",INDEX('1. Definición_Factores'!$6:$6,1,MATCH(Tbl_ListFactores[[#This Row],[Factor]],'1. Definición_Factores'!$2:$2,0)-1)),"") | E19: =IFERROR(IF(INDEX('1. Definición_Factores'!$3:$3,1,MATCH(Tbl_ListFactores[[#This Row],[Factor]],'1. Definición_Factores'!$2:$2,0)+2)="","",INDEX('1. Definición_Factores'!$3:$3,1,MATCH(Tbl_ListFactores[[#This Row],[Factor]],'1. Definición_Factores'!$2:$2,0)+2)),"") | F19: =IFERROR(IF(INDEX('1. Definición_Factores'!$3:$3,1,MATCH(Tbl_ListFactores[[#This Row],[Factor]],'1. Definición_Factores'!$2:$2,0))="","zz",INDEX('1. Definición_Factores'!$3:$3,1,MATCH(Tbl_ListFactores[[#This Row],[Factor]],'1. Definición_Factores'!$2:$2,0))),"zz") -> zz | G19: =IF(Tbl_ListFactores[[#This Row],[Nombre del Factor]]<>"","TblF"&RIGHT(Tbl_ListFactores[[#This Row],[Factor]],LEN(Tbl_ListFactores[[#This Row],[Factor]])-FIND(" ",Tbl_ListFactores[[#This Row],[Factor]])),"") | H19: =IF(AND(Tbl_ListFactores[[#This Row],[Nombre del Factor]]<>"",Tbl_ListFactores[[#This Row],[Género]]<>"",Tbl_ListFactores[[#This Row],[Tipo]]<>""),ROW()-ROW(Tbl_ListFactores[])+1,0) -> 0 | N19: =POWER($L$2,1/(O19-1)) -> 1.154782 | O19: 17 | P19: =$L$1 -> 1 | Q19: =IF($L$1=0,POWER($N19,P$2)-1,POWER($N19,P$2)) -> 1.154782 | R19: =IF($L$1=0,POWER($N19,Q$2)-1,POWER($N19,Q$2)) -> 1.3335214 | S19: =IF($L$1=0,POWER($N19,R$2)-1,POWER($N19,R$2)) -> 1.5399265 | T19: =IF($L$1=0,POWER($N19,S$2)-1,POWER($N19,S$2)) -> 1.7782794 | U19: =IF($L$1=0,POWER($N19,T$2)-1,POWER($N19,T$2)) -> 2.053525 | V19: =IF($L$1=0,POWER($N19,U$2)-1,POWER($N19,U$2)) -> 2.3713737 | W19: =IF($L$1=0,POWER($N19,V$2)-1,POWER($N19,V$2)) -> 2.7384196 | X19: =IF($L$1=0,POWER($N19,W$2)-1,POWER($N19,W$2)) -> 3.1622777 | ... AE19: =IF($L$1=0,POWER($N19,AD$2)-1,POWER($N19,AD$2)) -> 8.6596432 | AF19: 10
B20: FACTOR 19 | C20: =IFERROR(IF(INDEX('1. Definición_Factores'!$2:$2,1,MATCH(Tbl_ListFactores[[#This Row],[Factor]],'1. Definición_Factores'!$2:$2,0)+2)="","",INDEX('1. Definición_Factores'!$2:$2,1,MATCH(Tbl_ListFactores[[#This Row],[Factor]],'1. Definición_Factores'!$2:$2,0)+2)),"") | D20: =IFERROR(IF(INDEX('1. Definición_Factores'!$6:$6,1,MATCH(Tbl_ListFactores[[#This Row],[Factor]],'1. Definición_Factores'!$2:$2,0)-1)="","",INDEX('1. Definición_Factores'!$6:$6,1,MATCH(Tbl_ListFactores[[#This Row],[Factor]],'1. Definición_Factores'!$2:$2,0)-1)),"") | E20: =IFERROR(IF(INDEX('1. Definición_Factores'!$3:$3,1,MATCH(Tbl_ListFactores[[#This Row],[Factor]],'1. Definición_Factores'!$2:$2,0)+2)="","",INDEX('1. Definición_Factores'!$3:$3,1,MATCH(Tbl_ListFactores[[#This Row],[Factor]],'1. Definición_Factores'!$2:$2,0)+2)),"") | F20: =IFERROR(IF(INDEX('1. Definición_Factores'!$3:$3,1,MATCH(Tbl_ListFactores[[#This Row],[Factor]],'1. Definición_Factores'!$2:$2,0))="","zz",INDEX('1. Definición_Factores'!$3:$3,1,MATCH(Tbl_ListFactores[[#This Row],[Factor]],'1. Definición_Factores'!$2:$2,0))),"zz") -> zz | G20: =IF(Tbl_ListFactores[[#This Row],[Nombre del Factor]]<>"","TblF"&RIGHT(Tbl_ListFactores[[#This Row],[Factor]],LEN(Tbl_ListFactores[[#This Row],[Factor]])-FIND(" ",Tbl_ListFactores[[#This Row],[Factor]])),"") | H20: =IF(AND(Tbl_ListFactores[[#This Row],[Nombre del Factor]]<>"",Tbl_ListFactores[[#This Row],[Género]]<>"",Tbl_ListFactores[[#This Row],[Tipo]]<>""),ROW()-ROW(Tbl_ListFactores[])+1,0) -> 0 | N20: =POWER($L$2,1/(O20-1)) -> 1.1450476 | O20: 18 | P20: =$L$1 -> 1 | Q20: =IF($L$1=0,POWER($N20,P$2)-1,POWER($N20,P$2)) -> 1.1450476 | R20: =IF($L$1=0,POWER($N20,Q$2)-1,POWER($N20,Q$2)) -> 1.3111339 | S20: =IF($L$1=0,POWER($N20,R$2)-1,POWER($N20,R$2)) -> 1.5013107 | T20: =IF($L$1=0,POWER($N20,S$2)-1,POWER($N20,S$2)) -> 1.7190722 | U20: =IF($L$1=0,POWER($N20,T$2)-1,POWER($N20,T$2)) -> 1.9684194 | V20: =IF($L$1=0,POWER($N20,U$2)-1,POWER($N20,U$2)) -> 2.2539339 | W20: =IF($L$1=0,POWER($N20,V$2)-1,POWER($N20,V$2)) -> 2.5808615 | X20: =IF($L$1=0,POWER($N20,W$2)-1,POWER($N20,W$2)) -> 2.9552092 | ... AF20: =IF($L$1=0,POWER($N20,AE$2)-1,POWER($N20,AE$2)) -> 8.7332616 | AG20: 10
B21: FACTOR 20 | C21: =IFERROR(IF(INDEX('1. Definición_Factores'!$2:$2,1,MATCH(Tbl_ListFactores[[#This Row],[Factor]],'1. Definición_Factores'!$2:$2,0)+2)="","",INDEX('1. Definición_Factores'!$2:$2,1,MATCH(Tbl_ListFactores[[#This Row],[Factor]],'1. Definición_Factores'!$2:$2,0)+2)),"") | D21: =IFERROR(IF(INDEX('1. Definición_Factores'!$6:$6,1,MATCH(Tbl_ListFactores[[#This Row],[Factor]],'1. Definición_Factores'!$2:$2,0)-1)="","",INDEX('1. Definición_Factores'!$6:$6,1,MATCH(Tbl_ListFactores[[#This Row],[Factor]],'1. Definición_Factores'!$2:$2,0)-1)),"") | E21: =IFERROR(IF(INDEX('1. Definición_Factores'!$3:$3,1,MATCH(Tbl_ListFactores[[#This Row],[Factor]],'1. Definición_Factores'!$2:$2,0)+2)="","",INDEX('1. Definición_Factores'!$3:$3,1,MATCH(Tbl_ListFactores[[#This Row],[Factor]],'1. Definición_Factores'!$2:$2,0)+2)),"") | F21: =IFERROR(IF(INDEX('1. Definición_Factores'!$3:$3,1,MATCH(Tbl_ListFactores[[#This Row],[Factor]],'1. Definición_Factores'!$2:$2,0))="","zz",INDEX('1. Definición_Factores'!$3:$3,1,MATCH(Tbl_ListFactores[[#This Row],[Factor]],'1. Definición_Factores'!$2:$2,0))),"zz") -> zz | G21: =IF(Tbl_ListFactores[[#This Row],[Nombre del Factor]]<>"","TblF"&RIGHT(Tbl_ListFactores[[#This Row],[Factor]],LEN(Tbl_ListFactores[[#This Row],[Factor]])-FIND(" ",Tbl_ListFactores[[#This Row],[Factor]])),"") | H21: =IF(AND(Tbl_ListFactores[[#This Row],[Nombre del Factor]]<>"",Tbl_ListFactores[[#This Row],[Género]]<>"",Tbl_ListFactores[[#This Row],[Tipo]]<>""),ROW()-ROW(Tbl_ListFactores[])+1,0) -> 0 | N21: =POWER($L$2,1/(O21-1)) -> 1.1364637 | O21: 19 | P21: =$L$1 -> 1 | Q21: =IF($L$1=0,POWER($N21,P$2)-1,POWER($N21,P$2)) -> 1.1364637 | R21: =IF($L$1=0,POWER($N21,Q$2)-1,POWER($N21,Q$2)) -> 1.2915497 | S21: =IF($L$1=0,POWER($N21,R$2)-1,POWER($N21,R$2)) -> 1.4677993 | T21: =IF($L$1=0,POWER($N21,S$2)-1,POWER($N21,S$2)) -> 1.6681005 | U21: =IF($L$1=0,POWER($N21,T$2)-1,POWER($N21,T$2)) -> 1.8957357 | V21: =IF($L$1=0,POWER($N21,U$2)-1,POWER($N21,U$2)) -> 2.1544347 | W21: =IF($L$1=0,POWER($N21,V$2)-1,POWER($N21,V$2)) -> 2.4484367 | X21: =IF($L$1=0,POWER($N21,W$2)-1,POWER($N21,W$2)) -> 2.7825594 | ... AG21: =IF($L$1=0,POWER($N21,AF$2)-1,POWER($N21,AF$2)) -> 8.7992254 | AH21: 10
B22: FACTOR 21 | C22: =IFERROR(IF(INDEX('1. Definición_Factores'!$2:$2,1,MATCH(Tbl_ListFactores[[#This Row],[Factor]],'1. Definición_Factores'!$2:$2,0)+2)="","",INDEX('1. Definición_Factores'!$2:$2,1,MATCH(Tbl_ListFactores[[#This Row],[Factor]],'1. Definición_Factores'!$2:$2,0)+2)),"") | D22: =IFERROR(IF(INDEX('1. Definición_Factores'!$6:$6,1,MATCH(Tbl_ListFactores[[#This Row],[Factor]],'1. Definición_Factores'!$2:$2,0)-1)="","",INDEX('1. Definición_Factores'!$6:$6,1,MATCH(Tbl_ListFactores[[#This Row],[Factor]],'1. Definición_Factores'!$2:$2,0)-1)),"") | E22: =IFERROR(IF(INDEX('1. Definición_Factores'!$3:$3,1,MATCH(Tbl_ListFactores[[#This Row],[Factor]],'1. Definición_Factores'!$2:$2,0)+2)="","",INDEX('1. Definición_Factores'!$3:$3,1,MATCH(Tbl_ListFactores[[#This Row],[Factor]],'1. Definición_Factores'!$2:$2,0)+2)),"") | F22: =IFERROR(IF(INDEX('1. Definición_Factores'!$3:$3,1,MATCH(Tbl_ListFactores[[#This Row],[Factor]],'1. Definición_Factores'!$2:$2,0))="","zz",INDEX('1. Definición_Factores'!$3:$3,1,MATCH(Tbl_ListFactores[[#This Row],[Factor]],'1. Definición_Factores'!$2:$2,0))),"zz") -> zz | G22: =IF(Tbl_ListFactores[[#This Row],[Nombre del Factor]]<>"","TblF"&RIGHT(Tbl_ListFactores[[#This Row],[Factor]],LEN(Tbl_ListFactores[[#This Row],[Factor]])-FIND(" ",Tbl_ListFactores[[#This Row],[Factor]])),"") | H22: =IF(AND(Tbl_ListFactores[[#This Row],[Nombre del Factor]]<>"",Tbl_ListFactores[[#This Row],[Género]]<>"",Tbl_ListFactores[[#This Row],[Tipo]]<>""),ROW()-ROW(Tbl_ListFactores[])+1,0) -> 0 | N22: =POWER($L$2,1/(O22-1)) -> 1.1288379 | O22: 20 | P22: =$L$1 -> 1 | Q22: =IF($L$1=0,POWER($N22,P$2)-1,POWER($N22,P$2)) -> 1.1288379 | R22: =IF($L$1=0,POWER($N22,Q$2)-1,POWER($N22,Q$2)) -> 1.274275 | S22: =IF($L$1=0,POWER($N22,R$2)-1,POWER($N22,R$2)) -> 1.4384499 | T22: =IF($L$1=0,POWER($N22,S$2)-1,POWER($N22,S$2)) -> 1.6237767 | U22: =IF($L$1=0,POWER($N22,T$2)-1,POWER($N22,T$2)) -> 1.8329807 | V22: =IF($L$1=0,POWER($N22,U$2)-1,POWER($N22,U$2)) -> 2.0691381 | W22: =IF($L$1=0,POWER($N22,V$2)-1,POWER($N22,V$2)) -> 2.3357215 | X22: =IF($L$1=0,POWER($N22,W$2)-1,POWER($N22,W$2)) -> 2.6366509 | ... AH22: =IF($L$1=0,POWER($N22,AG$2)-1,POWER($N22,AG$2)) -> 8.8586679 | AI22: 10
B23: FACTOR 22 | C23: =IFERROR(IF(INDEX('1. Definición_Factores'!$2:$2,1,MATCH(Tbl_ListFactores[[#This Row],[Factor]],'1. Definición_Factores'!$2:$2,0)+2)="","",INDEX('1. Definición_Factores'!$2:$2,1,MATCH(Tbl_ListFactores[[#This Row],[Factor]],'1. Definición_Factores'!$2:$2,0)+2)),"") | D23: =IFERROR(IF(INDEX('1. Definición_Factores'!$6:$6,1,MATCH(Tbl_ListFactores[[#This Row],[Factor]],'1. Definición_Factores'!$2:$2,0)-1)="","",INDEX('1. Definición_Factores'!$6:$6,1,MATCH(Tbl_ListFactores[[#This Row],[Factor]],'1. Definición_Factores'!$2:$2,0)-1)),"") | E23: =IFERROR(IF(INDEX('1. Definición_Factores'!$3:$3,1,MATCH(Tbl_ListFactores[[#This Row],[Factor]],'1. Definición_Factores'!$2:$2,0)+2)="","",INDEX('1. Definición_Factores'!$3:$3,1,MATCH(Tbl_ListFactores[[#This Row],[Factor]],'1. Definición_Factores'!$2:$2,0)+2)),"") | F23: =IFERROR(IF(INDEX('1. Definición_Factores'!$3:$3,1,MATCH(Tbl_ListFactores[[#This Row],[Factor]],'1. Definición_Factores'!$2:$2,0))="","zz",INDEX('1. Definición_Factores'!$3:$3,1,MATCH(Tbl_ListFactores[[#This Row],[Factor]],'1. Definición_Factores'!$2:$2,0))),"zz") -> zz | G23: =IF(Tbl_ListFactores[[#This Row],[Nombre del Factor]]<>"","TblF"&RIGHT(Tbl_ListFactores[[#This Row],[Factor]],LEN(Tbl_ListFactores[[#This Row],[Factor]])-FIND(" ",Tbl_ListFactores[[#This Row],[Factor]])),"") | H23: =IF(AND(Tbl_ListFactores[[#This Row],[Nombre del Factor]]<>"",Tbl_ListFactores[[#This Row],[Género]]<>"",Tbl_ListFactores[[#This Row],[Tipo]]<>""),ROW()-ROW(Tbl_ListFactores[])+1,0) -> 0
B24: FACTOR 23 | C24: =IFERROR(IF(INDEX('1. Definición_Factores'!$2:$2,1,MATCH(Tbl_ListFactores[[#This Row],[Factor]],'1. Definición_Factores'!$2:$2,0)+2)="","",INDEX('1. Definición_Factores'!$2:$2,1,MATCH(Tbl_ListFactores[[#This Row],[Factor]],'1. Definición_Factores'!$2:$2,0)+2)),"") | D24: =IFERROR(IF(INDEX('1. Definición_Factores'!$6:$6,1,MATCH(Tbl_ListFactores[[#This Row],[Factor]],'1. Definición_Factores'!$2:$2,0)-1)="","",INDEX('1. Definición_Factores'!$6:$6,1,MATCH(Tbl_ListFactores[[#This Row],[Factor]],'1. Definición_Factores'!$2:$2,0)-1)),"") | E24: =IFERROR(IF(INDEX('1. Definición_Factores'!$3:$3,1,MATCH(Tbl_ListFactores[[#This Row],[Factor]],'1. Definición_Factores'!$2:$2,0)+2)="","",INDEX('1. Definición_Factores'!$3:$3,1,MATCH(Tbl_ListFactores[[#This Row],[Factor]],'1. Definición_Factores'!$2:$2,0)+2)),"") | F24: =IFERROR(IF(INDEX('1. Definición_Factores'!$3:$3,1,MATCH(Tbl_ListFactores[[#This Row],[Factor]],'1. Definición_Factores'!$2:$2,0))="","zz",INDEX('1. Definición_Factores'!$3:$3,1,MATCH(Tbl_ListFactores[[#This Row],[Factor]],'1. Definición_Factores'!$2:$2,0))),"zz") -> zz | G24: =IF(Tbl_ListFactores[[#This Row],[Nombre del Factor]]<>"","TblF"&RIGHT(Tbl_ListFactores[[#This Row],[Factor]],LEN(Tbl_ListFactores[[#This Row],[Factor]])-FIND(" ",Tbl_ListFactores[[#This Row],[Factor]])),"") | H24: =IF(AND(Tbl_ListFactores[[#This Row],[Nombre del Factor]]<>"",Tbl_ListFactores[[#This Row],[Género]]<>"",Tbl_ListFactores[[#This Row],[Tipo]]<>""),ROW()-ROW(Tbl_ListFactores[])+1,0) -> 0
B25: FACTOR 24 | C25: =IFERROR(IF(INDEX('1. Definición_Factores'!$2:$2,1,MATCH(Tbl_ListFactores[[#This Row],[Factor]],'1. Definición_Factores'!$2:$2,0)+2)="","",INDEX('1. Definición_Factores'!$2:$2,1,MATCH(Tbl_ListFactores[[#This Row],[Factor]],'1. Definición_Factores'!$2:$2,0)+2)),"") | D25: =IFERROR(IF(INDEX('1. Definición_Factores'!$6:$6,1,MATCH(Tbl_ListFactores[[#This Row],[Factor]],'1. Definición_Factores'!$2:$2,0)-1)="","",INDEX('1. Definición_Factores'!$6:$6,1,MATCH(Tbl_ListFactores[[#This Row],[Factor]],'1. Definición_Factores'!$2:$2,0)-1)),"") | E25: =IFERROR(IF(INDEX('1. Definición_Factores'!$3:$3,1,MATCH(Tbl_ListFactores[[#This Row],[Factor]],'1. Definición_Factores'!$2:$2,0)+2)="","",INDEX('1. Definición_Factores'!$3:$3,1,MATCH(Tbl_ListFactores[[#This Row],[Factor]],'1. Definición_Factores'!$2:$2,0)+2)),"") | F25: =IFERROR(IF(INDEX('1. Definición_Factores'!$3:$3,1,MATCH(Tbl_ListFactores[[#This Row],[Factor]],'1. Definición_Factores'!$2:$2,0))="","zz",INDEX('1. Definición_Factores'!$3:$3,1,MATCH(Tbl_ListFactores[[#This Row],[Factor]],'1. Definición_Factores'!$2:$2,0))),"zz") -> zz | G25: =IF(Tbl_ListFactores[[#This Row],[Nombre del Factor]]<>"","TblF"&RIGHT(Tbl_ListFactores[[#This Row],[Factor]],LEN(Tbl_ListFactores[[#This Row],[Factor]])-FIND(" ",Tbl_ListFactores[[#This Row],[Factor]])),"") | H25: =IF(AND(Tbl_ListFactores[[#This Row],[Nombre del Factor]]<>"",Tbl_ListFactores[[#This Row],[Género]]<>"",Tbl_ListFactores[[#This Row],[Tipo]]<>""),ROW()-ROW(Tbl_ListFactores[])+1,0) -> 0
B26: FACTOR 25 | C26: =IFERROR(IF(INDEX('1. Definición_Factores'!$2:$2,1,MATCH(Tbl_ListFactores[[#This Row],[Factor]],'1. Definición_Factores'!$2:$2,0)+2)="","",INDEX('1. Definición_Factores'!$2:$2,1,MATCH(Tbl_ListFactores[[#This Row],[Factor]],'1. Definición_Factores'!$2:$2,0)+2)),"") | D26: =IFERROR(IF(INDEX('1. Definición_Factores'!$6:$6,1,MATCH(Tbl_ListFactores[[#This Row],[Factor]],'1. Definición_Factores'!$2:$2,0)-1)="","",INDEX('1. Definición_Factores'!$6:$6,1,MATCH(Tbl_ListFactores[[#This Row],[Factor]],'1. Definición_Factores'!$2:$2,0)-1)),"") | E26: =IFERROR(IF(INDEX('1. Definición_Factores'!$3:$3,1,MATCH(Tbl_ListFactores[[#This Row],[Factor]],'1. Definición_Factores'!$2:$2,0)+2)="","",INDEX('1. Definición_Factores'!$3:$3,1,MATCH(Tbl_ListFactores[[#This Row],[Factor]],'1. Definición_Factores'!$2:$2,0)+2)),"") | F26: =IFERROR(IF(INDEX('1. Definición_Factores'!$3:$3,1,MATCH(Tbl_ListFactores[[#This Row],[Factor]],'1. Definición_Factores'!$2:$2,0))="","zz",INDEX('1. Definición_Factores'!$3:$3,1,MATCH(Tbl_ListFactores[[#This Row],[Factor]],'1. Definición_Factores'!$2:$2,0))),"zz") -> zz | G26: =IF(Tbl_ListFactores[[#This Row],[Nombre del Factor]]<>"","TblF"&RIGHT(Tbl_ListFactores[[#This Row],[Factor]],LEN(Tbl_ListFactores[[#This Row],[Factor]])-FIND(" ",Tbl_ListFactores[[#This Row],[Factor]])),"") | H26: =IF(AND(Tbl_ListFactores[[#This Row],[Nombre del Factor]]<>"",Tbl_ListFactores[[#This Row],[Género]]<>"",Tbl_ListFactores[[#This Row],[Tipo]]<>""),ROW()-ROW(Tbl_ListFactores[])+1,0) -> 0
B27: FACTOR 26 | C27: =IFERROR(IF(INDEX('1. Definición_Factores'!$2:$2,1,MATCH(Tbl_ListFactores[[#This Row],[Factor]],'1. Definición_Factores'!$2:$2,0)+2)="","",INDEX('1. Definición_Factores'!$2:$2,1,MATCH(Tbl_ListFactores[[#This Row],[Factor]],'1. Definición_Factores'!$2:$2,0)+2)),"") | D27: =IFERROR(IF(INDEX('1. Definición_Factores'!$6:$6,1,MATCH(Tbl_ListFactores[[#This Row],[Factor]],'1. Definición_Factores'!$2:$2,0)-1)="","",INDEX('1. Definición_Factores'!$6:$6,1,MATCH(Tbl_ListFactores[[#This Row],[Factor]],'1. Definición_Factores'!$2:$2,0)-1)),"") | E27: =IFERROR(IF(INDEX('1. Definición_Factores'!$3:$3,1,MATCH(Tbl_ListFactores[[#This Row],[Factor]],'1. Definición_Factores'!$2:$2,0)+2)="","",INDEX('1. Definición_Factores'!$3:$3,1,MATCH(Tbl_ListFactores[[#This Row],[Factor]],'1. Definición_Factores'!$2:$2,0)+2)),"") | F27: =IFERROR(IF(INDEX('1. Definición_Factores'!$3:$3,1,MATCH(Tbl_ListFactores[[#This Row],[Factor]],'1. Definición_Factores'!$2:$2,0))="","zz",INDEX('1. Definición_Factores'!$3:$3,1,MATCH(Tbl_ListFactores[[#This Row],[Factor]],'1. Definición_Factores'!$2:$2,0))),"zz") -> zz | G27: =IF(Tbl_ListFactores[[#This Row],[Nombre del Factor]]<>"","TblF"&RIGHT(Tbl_ListFactores[[#This Row],[Factor]],LEN(Tbl_ListFactores[[#This Row],[Factor]])-FIND(" ",Tbl_ListFactores[[#This Row],[Factor]])),"") | H27: =IF(AND(Tbl_ListFactores[[#This Row],[Nombre del Factor]]<>"",Tbl_ListFactores[[#This Row],[Género]]<>"",Tbl_ListFactores[[#This Row],[Tipo]]<>""),ROW()-ROW(Tbl_ListFactores[])+1,0) -> 0
B28: FACTOR 27 | C28: =IFERROR(IF(INDEX('1. Definición_Factores'!$2:$2,1,MATCH(Tbl_ListFactores[[#This Row],[Factor]],'1. Definición_Factores'!$2:$2,0)+2)="","",INDEX('1. Definición_Factores'!$2:$2,1,MATCH(Tbl_ListFactores[[#This Row],[Factor]],'1. Definición_Factores'!$2:$2,0)+2)),"") | D28: =IFERROR(IF(INDEX('1. Definición_Factores'!$6:$6,1,MATCH(Tbl_ListFactores[[#This Row],[Factor]],'1. Definición_Factores'!$2:$2,0)-1)="","",INDEX('1. Definición_Factores'!$6:$6,1,MATCH(Tbl_ListFactores[[#This Row],[Factor]],'1. Definición_Factores'!$2:$2,0)-1)),"") | E28: =IFERROR(IF(INDEX('1. Definición_Factores'!$3:$3,1,MATCH(Tbl_ListFactores[[#This Row],[Factor]],'1. Definición_Factores'!$2:$2,0)+2)="","",INDEX('1. Definición_Factores'!$3:$3,1,MATCH(Tbl_ListFactores[[#This Row],[Factor]],'1. Definición_Factores'!$2:$2,0)+2)),"") | F28: =IFERROR(IF(INDEX('1. Definición_Factores'!$3:$3,1,MATCH(Tbl_ListFactores[[#This Row],[Factor]],'1. Definición_Factores'!$2:$2,0))="","zz",INDEX('1. Definición_Factores'!$3:$3,1,MATCH(Tbl_ListFactores[[#This Row],[Factor]],'1. Definición_Factores'!$2:$2,0))),"zz") -> zz | G28: =IF(Tbl_ListFactores[[#This Row],[Nombre del Factor]]<>"","TblF"&RIGHT(Tbl_ListFactores[[#This Row],[Factor]],LEN(Tbl_ListFactores[[#This Row],[Factor]])-FIND(" ",Tbl_ListFactores[[#This Row],[Factor]])),"") | H28: =IF(AND(Tbl_ListFactores[[#This Row],[Nombre del Factor]]<>"",Tbl_ListFactores[[#This Row],[Género]]<>"",Tbl_ListFactores[[#This Row],[Tipo]]<>""),ROW()-ROW(Tbl_ListFactores[])+1,0) -> 0
B29: FACTOR 28 | C29: =IFERROR(IF(INDEX('1. Definición_Factores'!$2:$2,1,MATCH(Tbl_ListFactores[[#This Row],[Factor]],'1. Definición_Factores'!$2:$2,0)+2)="","",INDEX('1. Definición_Factores'!$2:$2,1,MATCH(Tbl_ListFactores[[#This Row],[Factor]],'1. Definición_Factores'!$2:$2,0)+2)),"") | D29: =IFERROR(IF(INDEX('1. Definición_Factores'!$6:$6,1,MATCH(Tbl_ListFactores[[#This Row],[Factor]],'1. Definición_Factores'!$2:$2,0)-1)="","",INDEX('1. Definición_Factores'!$6:$6,1,MATCH(Tbl_ListFactores[[#This Row],[Factor]],'1. Definición_Factores'!$2:$2,0)-1)),"") | E29: =IFERROR(IF(INDEX('1. Definición_Factores'!$3:$3,1,MATCH(Tbl_ListFactores[[#This Row],[Factor]],'1. Definición_Factores'!$2:$2,0)+2)="","",INDEX('1. Definición_Factores'!$3:$3,1,MATCH(Tbl_ListFactores[[#This Row],[Factor]],'1. Definición_Factores'!$2:$2,0)+2)),"") | F29: =IFERROR(IF(INDEX('1. Definición_Factores'!$3:$3,1,MATCH(Tbl_ListFactores[[#This Row],[Factor]],'1. Definición_Factores'!$2:$2,0))="","zz",INDEX('1. Definición_Factores'!$3:$3,1,MATCH(Tbl_ListFactores[[#This Row],[Factor]],'1. Definición_Factores'!$2:$2,0))),"zz") -> zz | G29: =IF(Tbl_ListFactores[[#This Row],[Nombre del Factor]]<>"","TblF"&RIGHT(Tbl_ListFactores[[#This Row],[Factor]],LEN(Tbl_ListFactores[[#This Row],[Factor]])-FIND(" ",Tbl_ListFactores[[#This Row],[Factor]])),"") | H29: =IF(AND(Tbl_ListFactores[[#This Row],[Nombre del Factor]]<>"",Tbl_ListFactores[[#This Row],[Género]]<>"",Tbl_ListFactores[[#This Row],[Tipo]]<>""),ROW()-ROW(Tbl_ListFactores[])+1,0) -> 0
B30: FACTOR 29 | C30: =IFERROR(IF(INDEX('1. Definición_Factores'!$2:$2,1,MATCH(Tbl_ListFactores[[#This Row],[Factor]],'1. Definición_Factores'!$2:$2,0)+2)="","",INDEX('1. Definición_Factores'!$2:$2,1,MATCH(Tbl_ListFactores[[#This Row],[Factor]],'1. Definición_Factores'!$2:$2,0)+2)),"") | D30: =IFERROR(IF(INDEX('1. Definición_Factores'!$6:$6,1,MATCH(Tbl_ListFactores[[#This Row],[Factor]],'1. Definición_Factores'!$2:$2,0)-1)="","",INDEX('1. Definición_Factores'!$6:$6,1,MATCH(Tbl_ListFactores[[#This Row],[Factor]],'1. Definición_Factores'!$2:$2,0)-1)),"") | E30: =IFERROR(IF(INDEX('1. Definición_Factores'!$3:$3,1,MATCH(Tbl_ListFactores[[#This Row],[Factor]],'1. Definición_Factores'!$2:$2,0)+2)="","",INDEX('1. Definición_Factores'!$3:$3,1,MATCH(Tbl_ListFactores[[#This Row],[Factor]],'1. Definición_Factores'!$2:$2,0)+2)),"") | F30: =IFERROR(IF(INDEX('1. Definición_Factores'!$3:$3,1,MATCH(Tbl_ListFactores[[#This Row],[Factor]],'1. Definición_Factores'!$2:$2,0))="","zz",INDEX('1. Definición_Factores'!$3:$3,1,MATCH(Tbl_ListFactores[[#This Row],[Factor]],'1. Definición_Factores'!$2:$2,0))),"zz") -> zz | G30: =IF(Tbl_ListFactores[[#This Row],[Nombre del Factor]]<>"","TblF"&RIGHT(Tbl_ListFactores[[#This Row],[Factor]],LEN(Tbl_ListFactores[[#This Row],[Factor]])-FIND(" ",Tbl_ListFactores[[#This Row],[Factor]])),"") | H30: =IF(AND(Tbl_ListFactores[[#This Row],[Nombre del Factor]]<>"",Tbl_ListFactores[[#This Row],[Género]]<>"",Tbl_ListFactores[[#This Row],[Tipo]]<>""),ROW()-ROW(Tbl_ListFactores[])+1,0) -> 0
B31: FACTOR 30 | C31: =IFERROR(IF(INDEX('1. Definición_Factores'!$2:$2,1,MATCH(Tbl_ListFactores[[#This Row],[Factor]],'1. Definición_Factores'!$2:$2,0)+2)="","",INDEX('1. Definición_Factores'!$2:$2,1,MATCH(Tbl_ListFactores[[#This Row],[Factor]],'1. Definición_Factores'!$2:$2,0)+2)),"") | D31: =IFERROR(IF(INDEX('1. Definición_Factores'!$6:$6,1,MATCH(Tbl_ListFactores[[#This Row],[Factor]],'1. Definición_Factores'!$2:$2,0)-1)="","",INDEX('1. Definición_Factores'!$6:$6,1,MATCH(Tbl_ListFactores[[#This Row],[Factor]],'1. Definición_Factores'!$2:$2,0)-1)),"") | E31: =IFERROR(IF(INDEX('1. Definición_Factores'!$3:$3,1,MATCH(Tbl_ListFactores[[#This Row],[Factor]],'1. Definición_Factores'!$2:$2,0)+2)="","",INDEX('1. Definición_Factores'!$3:$3,1,MATCH(Tbl_ListFactores[[#This Row],[Factor]],'1. Definición_Factores'!$2:$2,0)+2)),"") | F31: =IFERROR(IF(INDEX('1. Definición_Factores'!$3:$3,1,MATCH(Tbl_ListFactores[[#This Row],[Factor]],'1. Definición_Factores'!$2:$2,0))="","zz",INDEX('1. Definición_Factores'!$3:$3,1,MATCH(Tbl_ListFactores[[#This Row],[Factor]],'1. Definición_Factores'!$2:$2,0))),"zz") -> zz | G31: =IF(Tbl_ListFactores[[#This Row],[Nombre del Factor]]<>"","TblF"&RIGHT(Tbl_ListFactores[[#This Row],[Factor]],LEN(Tbl_ListFactores[[#This Row],[Factor]])-FIND(" ",Tbl_ListFactores[[#This Row],[Factor]])),"") | H31: =IF(AND(Tbl_ListFactores[[#This Row],[Nombre del Factor]]<>"",Tbl_ListFactores[[#This Row],[Género]]<>"",Tbl_ListFactores[[#This Row],[Tipo]]<>""),ROW()-ROW(Tbl_ListFactores[])+1,0) -> 0

Sheet 1. Definición_Factores
