Workbook
Name CabPtosFactores: Aux!$O$2:$AI$2
Name deptos: TblDpto[Valor]
Name factores: Tbl_ListFactores[Factor]
Name FFin: Inicio!$L$14
Name FIni: Inicio!$L$13
Name GfcoCheckSV_media: OFFSET('10_ Chequeo_Sistema_Valoración'!$E$3,1,2,'10_ Chequeo_Sistema_Valoración'!$A$7,1)
Name GfcoCheckSV_ptos: OFFSET('10_ Chequeo_Sistema_Valoración'!$E$3,1,1,'10_ Chequeo_Sistema_Valoración'!$A$7,1)
Name gprof: TblGrupoProfesional[Valor]
Name Graf9_Etiq: OFFSET('8_ Análisis_Género_Puestos_Ind'!$E$6,0,0,MAX(1,COUNTA('8_ Análisis_Género_Puestos_Ind'!$F$6:$F$35)-COUNTBLANK('8_ Análisis_Género_Puestos_Ind'!$F$6:$F$35)),2)
Name Graf9_SF: OFFSET('8_ Análisis_Género_Puestos_Ind'!$G$6,0,0,MAX(1,COUNTA('8_ Análisis_Género_Puestos_Ind'!$F$6:$F$35)-COUNTBLANK('8_ Análisis_Género_Puestos_Ind'!$F$6:$F$35)),1)
Name Graf9_SM: OFFSET('8_ Análisis_Género_Puestos_Ind'!$H$6,0,0,MAX(1,COUNTA('8_ Análisis_Género_Puestos_Ind'!$F$6:$F$35)-COUNTBLANK('8_ Análisis_Género_Puestos_Ind'!$F$6:$F$35)),1)
Name Graf9_SN: OFFSET('8_ Análisis_Género_Puestos_Ind'!$I$6,0,0,MAX(1,COUNTA('8_ Análisis_Género_Puestos_Ind'!$F$6:$F$35)-COUNTBLANK('8_ Análisis_Género_Puestos_Ind'!$F$6:$F$35)),1)
Name Lista_Puestos: TblPuestos[#All]
Name ListGroup: TblGrupos[Tipo]
Name pto_d: '11_Asignación_Salarios_Puntos'!$L$8
Name pto_x: '11_Asignación_Salarios_Puntos'!$K$8
Name pto_x12: '11_Asignación_Salarios_Puntos'!$M$8
Name pto_x13: '11_Asignación_Salarios_Puntos'!$N$8
Name pto_x14: '11_Asignación_Salarios_Puntos'!$O$8
Name pto_x2: '11_Asignación_Salarios_Puntos'!$J$8
Name pto_x3: '11_Asignación_Salarios_Puntos'!$I$8
Name PtosFactores: Aux!$O$3:$AI$22
Name Puestos: OFFSET(TblPuestos[[#Headers],[Valor]],1,0,COUNTA(TblPuestos[Valor]),1)
Name RazSocial: Inicio!$E$12
Name rngSumaPuntos: '7. Puntuación_Puestos'!$G$13:$BD$13
Name VMin: Aux!$L$1

Sheet Inicio
C10: DATOS BÁSICOS DE LA ORGANIZACIÓN
C12: Razón Social: | J12: Periodo de referencia:
C13: Persona que realiza el informe: | K13: Inicio
D14: Nombre | K14: Fin
D15: Puesto | K15: Fecha cumplimentación:
B70: Primera edición: enero 2016 | I70: El contenido de este documento se distribuye bajo una licencia Creative Commons 4.0 Internacional
B71: Instituto de la Mujer y para la Igualdad de Oportunidades
B72: Subdirección General para la Igualdad en la Empresa | I72: http://es.creativecommons.org/blog/licencias/
B73: y la Negociación Colectiva | I73: Se permite la reproducción, la distribución y la comunicación pública siempre que se cite al titular de los derechos (Instituto de la Mujer y para la Igualdad de Oportunidades, del Ministerio de Sanidad, Servicios Sociales e Igualdad). No se permiten usos comerciales de esta obra ni se puede desnaturalizar el contenido de la información para generar obras derivadas.
B75: www.igualdadenlaempresa.es

Sheet Aux
B1: Factor | C1: Nombre del Factor | D1: Descripción del Factor | E1: Género | F1: Tipo | G1: Tabla | H1: Id | K1: valoro mínimo | L1: 1 | P1: valor
B2: FACTOR 1 | C2: =IFERROR(IF(INDEX('1. Definición_Factores'!$2:$2,1,MATCH(Tbl_ListFactores[[#This Row],[Factor]],'1. Definición_Factores'!$2:$2,0)+2)="","",INDEX('1. Definición_Factores'!$2:$2,1,MATCH(Tbl_ListFactores[[#This Row],[Factor]],'1. Definición_Factores'!$2:$2,0)+2)),"") | D2: =IFERROR(IF(INDEX('1. Definición_Factores'!$6:$6,1,MATCH(Tbl_ListFactores[[#This Row],[Factor]],'1. Definición_Factores'!$2:$2,0)-1)="","",INDEX('1. Definición_Factores'!$6:$6,1,MATCH(Tbl_ListFactores[[#This Row],[Factor]],'1. Definición_Factores'!$2:$2,0)-1)),"") | E2: =IFERROR(IF(INDEX('1. Definición_Factores'!$3:$3,1,MATCH(Tbl_ListFactores[[#This Row],[Factor]],'1. Definición_Factores'!$2:$2,0)+2)="","",INDEX('1. Definición_Factores'!$3:$3,1,MATCH(Tbl_ListFactores[[#This Row],[Factor]],'1. Definición_Factores'!$2:$2,0)+2)),"") | F2: =IFERROR(IF(INDEX('1. Definición_Factores'!$3:$3,1,MATCH(Tbl_ListFactores[[#This Row],[Factor]],'1. Definición_Factores'!$2:$2,0))="","zz",INDEX('1. Definición_Factores'!$3:$3,1,MATCH(Tbl_ListFactores[[#This Row],[Factor]],'1. Definición_Factores'!$2:$2,0))),"zz") -> zz | G2: =IF(Tbl_ListFactores[[#This Row],[Nombre del Factor]]<>"","TblF"&RIGHT(Tbl_ListFactores[[#This Row],[Factor]],LEN(Tbl_ListFactores[[#This Row],[Factor]])-FIND(" ",Tbl_ListFactores[[#This Row],[Factor]])),"") | H2: =IF(AND(Tbl_ListFactores[[#This Row],[Nombre del Factor]]<>"",Tbl_ListFactores[[#This Row],[Género]]<>"",Tbl_ListFactores[[#This Row],[Tipo]]<>""),ROW()-ROW(Tbl_ListFactores[])+1,0) -> 0 | K2: valor máximo | L2: =IF(L1=0,11,10) -> 10 | N2: ratio | P2: 1 | Q2: 2 | R2: 3 | S2: 4 | T2: 5 | U2: 6 | V2: 7 | W2: 8 | X2: 9 | Y2: 10 | Z2: 11 | AA2: 12 | AB2: 13 | AC2: 14 | AD2: 15 | AE2: 16 | AF2: 17 | AG2: 18 | AH2: 19 | AI2: 20
B3: FACTOR 2 | C3: =IFERROR(IF(INDEX('1. Definición_Factores'!$2:$2,1,MATCH(Tbl_ListFactores[[#This Row],[Factor]],'1. Definición_Factores'!$2:$2,0)+2)="","",INDEX('1. Definición_Factores'!$2:$2,1,MATCH(Tbl_ListFactores[[#This Row],[Factor]],'1. Definición_Factores'!$2:$2,0)+2)),"") | D3: =IFERROR(IF(INDEX('1. Definición_Factores'!$6:$6,1,MATCH(Tbl_ListFactores[[#This Row],[Factor]],'1. Definición_Factores'!$2:$2,0)-1)="","",INDEX('1. Definición_Factores'!$6:$6,1,MATCH(Tbl_ListFactores[[#This Row],[Factor]],'1. Definición_Factores'!$2:$2,0)-1)),"") | E3: =IFERROR(IF(INDEX('1. Definición_Factores'!$3:$3,1,MATCH(Tbl_ListFactores[[#This Row],[Factor]],'1. Definición_Factores'!$2:$2,0)+2)="","",INDEX('1. Definición_Factores'!$3:$3,1,MATCH(Tbl_ListFactores[[#This Row],[Factor]],'1. Definición_Factores'!$2:$2,0)+2)),"") | F3: =IFERROR(IF(INDEX('1. Definición_Factores'!$3:$3,1,MATCH(Tbl_ListFactores[[#This Row],[Factor]],'1. Definición_Factores'!$2:$2,0))="","zz",INDEX('1. Definición_Factores'!$3:$3,1,MATCH(Tbl_ListFactores[[#This Row],[Factor]],'1. Definición_Factores'!$2:$2,0))),"zz") -> zz | G3: =IF(Tbl_ListFactores[[#This Row],[Nombre del Factor]]<>"","TblF"&RIGHT(Tbl_ListFactores[[#This Row],[Factor]],LEN(Tbl_ListFactores[[#This Row],[Factor]])-FIND(" ",Tbl_ListFactores[[#This Row],[Factor]])),"") | H3: =IF(AND(Tbl_ListFactores[[#This Row],[Nombre del Factor]]<>"",Tbl_ListFactores[[#This Row],[Género]]<>"",Tbl_ListFactores[[#This Row],[Tipo]]<>""),ROW()-ROW(Tbl_ListFactores[])+1,0) -> 0 | O3: 1 | P3: =$L$1 -> 1
B4: FACTOR 3 | C4: =IFERROR(IF(INDEX('1. Definición_Factores'!$2:$2,1,MATCH(Tbl_ListFactores[[#This Row],[Factor]],'1. Definición_Factores'!$2:$2,0)+2)="","",INDEX('1. Definición_Factores'!$2:$2,1,MATCH(Tbl_ListFactores[[#This Row],[Factor]],'1. Definición_Factores'!$2:$2,0)+2)),"") | D4: =IFERROR(IF(INDEX('1. Definición_Factores'!$6:$6,1,MATCH(Tbl_ListFactores[[#This Row],[Factor]],'1. Definición_Factores'!$2:$2,0)-1)="","",INDEX('1. Definición_Factores'!$6:$6,1,MATCH(Tbl_ListFactores[[#This Row],[Factor]],'1. Definición_Factores'!$2:$2,0)-1)),"") | E4: =IFERROR(IF(INDEX('1. Definición_Factores'!$3:$3,1,MATCH(Tbl_ListFactores[[#This Row],[Factor]],'1. Definición_Factores'!$2:$2,0)+2)="","",INDEX('1. Definición_Factores'!$3:$3,1,MATCH(Tbl_ListFactores[[#This Row],[Factor]],'1. Definición_Factores'!$2:$2,0)+2)),"") | F4: =IFERROR(IF(INDEX('1. Definición_Factores'!$3:$3,1,MATCH(Tbl_ListFactores[[#This Row],[Factor]],'1. Definición_Factores'!$2:$2,0))="","zz",INDEX('1. Definición_Factores'!$3:$3,1,MATCH(Tbl_ListFactores[[#This Row],[Factor]],'1. Definición_Factores'!$2:$2,0))),"zz") -> zz | G4: =IF(Tbl_ListFactores[[#This Row],[Nombre del Factor]]<>"","TblF"&RIGHT(Tbl_ListFactores[[#This Row],[Factor]],LEN(Tbl_ListFactores[[#This Row],[Factor]])-FIND(" ",Tbl_ListFactores[[#This Row],[Factor]])),"") | H4: =IF(AND(Tbl_ListFactores[[#This Row],[Nombre del Factor]]<>"",Tbl_ListFactores[[#This Row],[Género]]<>"",Tbl_ListFactores[[#This Row],[Tipo]]<>""),ROW()-ROW(Tbl_ListFactores[])+1,0) -> 0 | O4: 2 | P4: =$L$1 -> 1 | Q4: 10
B5: FACTOR 4 | C5: =IFERROR(IF(INDEX('1. Definición_Factores'!$2:$2,1,MATCH(Tbl_ListFactores[[#This Row],[Factor]],'1. Definición_Factores'!$2:$2,0)+2)="","",INDEX('1. Definición_Factores'!$2:$2,1,MATCH(Tbl_ListFactores[[#This Row],[Factor]],'1. Definición_Factores'!$2:$2,0)+2)),"") | D5: =IFERROR(IF(INDEX('1. Definición_Factores'!$6:$6,1,MATCH(Tbl_ListFactores[[#This Row],[Factor]],'1. Definición_Factores'!$2:$2,0)-1)="","",INDEX('1. Definición_Factores'!$6:$6,1,MATCH(Tbl_ListFactores[[#This Row],[Factor]],'1. Definición_Factores'!$2:$2,0)-1)),"") | E5: =IFERROR(IF(INDEX('1. Definición_Factores'!$3:$3,1,MATCH(Tbl_ListFactores[[#This Row],[Factor]],'1. Definición_Factores'!$2:$2,0)+2)="","",INDEX('1. Definición_Factores'!$3:$3,1,MATCH(Tbl_ListFactores[[#This Row],[Factor]],'1. Definición_Factores'!$2:$2,0)+2)),"") | F5: =IFERROR(IF(INDEX('1. Definición_Factores'!$3:$3,1,MATCH(Tbl_ListFactores[[#This Row],[Factor]],'1. Definición_Factores'!$2:$2,0))="","zz",INDEX('1. Definición_Factores'!$3:$3,1,MATCH(Tbl_ListFactores[[#This Row],[Factor]],'1. Definición_Factores'!$2:$2,0))),"zz") -> zz | G5: =IF(Tbl_ListFactores[[#This Row],[Nombre del Factor]]<>"","TblF"&RIGHT(Tbl_ListFactores[[#This Row],[Factor]],LEN(Tbl_ListFactores[[#This Row],[Factor]])-FIND(" ",Tbl_ListFactores[[#This Row],[Factor]])),"") | H5: =IF(AND(Tbl_ListFactores[[#This Row],[Nombre del Factor]]<>"",Tbl_ListFactores[[#This Row],[Género]]<>"",Tbl_ListFactores[[#This Row],[Tipo]]<>""),ROW()-ROW(Tbl_ListFactores[])+1,0) -> 0 | N5: =POWER($L$2,1/(O5-1)) -> 3.1622777 | O5: 3 | P5: =$L$1 -> 1 | Q5: =IF($L$1=0,POWER($N5,P$2)-1,POWER($N5,P$2)) -> 3.1622777 | R5: 10
B6: FACTOR 5 | C6: =IFERROR(IF(INDEX('1. Definición_Factores'!$2:$2,1,MATCH(Tbl_ListFactores[[#This Row],[Factor]],'1. Definición_Factores'!$2:$2,0)+2)="","",INDEX('1. Definición_Factores'!$2:$2,1,MATCH(Tbl_ListFactores[[#This Row],[Factor]],'1. Definición_Factores'!$2:$2,0)+2)),"") | D6: =IFERROR(IF(INDEX('1. Definición_Factores'!$6:$6,1,MATCH(Tbl_ListFactores[[#This Row],[Factor]],'1. Definición_Factores'!$2:$2,0)-1)="","",INDEX('1. Definición_Factores'!$6:$6,1,MATCH(Tbl_ListFactores[[#This Row],[Factor]],'1. Definición_Factores'!$2:$2,0)-1)),"") | E6: =IFERROR(IF(INDEX('1. Definición_Factores'!$3:$3,1,MATCH(Tbl_ListFactores[[#This Row],[Factor]],'1. Definición_Factores'!$2:$2,0)+2)="","",INDEX('1. Definición_Factores'!$3:$3,1,MATCH(Tbl_ListFactores[[#This Row],[Factor]],'1. Definición_Factores'!$2:$2,0)+2)),"") | F6: =IFERROR(IF(INDEX('1. Definición_Factores'!$3:$3,1,MATCH(Tbl_ListFactores[[#This Row],[Factor]],'1. Definición_Factores'!$2:$2,0))="","zz",INDEX('1. Definición_Factores'!$3:$3,1,MATCH(Tbl_ListFactores[[#This Row],[Factor]],'1. Definición_Factores'!$2:$2,0))),"zz") -> zz | G6: =IF(Tbl_ListFactores[[#This Row],[Nombre del Factor]]<>"","TblF"&RIGHT(Tbl_ListFactores[[#This Row],[Factor]],LEN(Tbl_ListFactores[[#This Row],[Factor]])-FIND(" ",Tbl_ListFactores[[#This Row],[Factor]])),"") | H6: =IF(AND(Tbl_ListFactores[[#This Row],[Nombre del Factor]]<>"",Tbl_ListFactores[[#This Row],[Género]]<>"",Tbl_ListFactores[[#This Row],[Tipo]]<>""),ROW()-ROW(Tbl_ListFactores[])+1,0) -> 0 | N6: =POWER($L$2,1/(O6-1)) -> 2.1544347 | O6: 4 | P6: =$L$1 -> 1 | Q6: =IF($L$1=0,POWER($N6,P$2)-1,POWER($N6,P$2)) -> 2.1544347 | R6: =IF($L$1=0,POWER($N6,Q$2)-1,POWER($N6,Q$2)) -> 4.6415888 | S6: 10
B7: FACTOR 6 | C7: =IFERROR(IF(INDEX('1. Definición_Factores'!$2:$2,1,MATCH(Tbl_ListFactores[[#This Row],[Factor]],'1. Definición_Factores'!$2:$2,0)+2)="","",INDEX('1. Definición_Factores'!$2:$2,1,MATCH(Tbl_ListFactores[[#This Row],[Factor]],'1. Definición_Factores'!$2:$2,0)+2)),"") | D7: =IFERROR(IF(INDEX('1. Definición_Factores'!$6:$6,1,MATCH(Tbl_ListFactores[[#This Row],[Factor]],'1. Definición_Factores'!$2:$2,0)-1)="","",INDEX('1. Definición_Factores'!$6:$6,1,MATCH(Tbl_ListFactores[[#This Row],[Factor]],'1. Definición_Factores'!$2:$2,0)-1)),"") | E7: =IFERROR(IF(INDEX('1. Definición_Factores'!$3:$3,1,MATCH(Tbl_ListFactores[[#This Row],[Factor]],'1. Definición_Factores'!$2:$2,0)+2)="","",INDEX('1. Definición_Factores'!$3:$3,1,MATCH(Tbl_ListFactores[[#This Row],[Factor]],'1. Definición_Factores'!$2:$2,0)+2)),"") | F7: =IFERROR(IF(INDEX('1. Definición_Factores'!$3:$3,1,MATCH(Tbl_ListFactores[[#This Row],[Factor]],'1. Definición_Factores'!$2:$2,0))="","zz",INDEX('1. Definición_Factores'!$3:$3,1,MATCH(Tbl_ListFactores[[#This Row],[Factor]],'1. Definición_Factores'!$2:$2,0))),"zz") -> zz | G7: =IF(Tbl_ListFactores[[#This Row],[Nombre del Factor]]<>"","TblF"&RIGHT(Tbl_ListFactores[[#This Row],[Factor]],LEN(Tbl_ListFactores[[#This Row],[Factor]])-FIND(" ",Tbl_ListFactores[[#This Row],[Factor]])),"") | H7: =IF(AND(Tbl_ListFactores[[#This Row],[Nombre del Factor]]<>"",Tbl_ListFactores[[#This Row],[Género]]<>"",Tbl_ListFactores[[#This Row],[Tipo]]<>""),ROW()-ROW(Tbl_ListFactores[])+1,0) -> 0 | N7: =POWER($L$2,1/(O7-1)) -> 1.7782794 | O7: 5 | P7: =$L$1 -> 1 | Q7: =IF($L$1=0,POWER($N7,P$2)-1,POWER($N7,P$2)) -> 1.7782794 | R7: =IF($L$1=0,POWER($N7,Q$2)-1,POWER($N7,Q$2)) -> 3.1622777 | S7: =IF($L$1=0,POWER($N7,R$2)-1,POWER($N7,R$2)) -> 5.6234133 | T7: 10
B8: FACTOR 7 | C8: =IFERROR(IF(INDEX('1. Definición_Factores'!$2:$2,1,MATCH(Tbl_ListFactores[[#This Row],[Factor]],'1. Definición_Factores'!$2:$2,0)+2)="","",INDEX('1. Definición_Factores'!$2:$2,1,MATCH(Tbl_ListFactores[[#This Row],[Factor]],'1. Definición_Factores'!$2:$2,0)+2)),"") | D8: =IFERROR(IF(INDEX('1. Definición_Factores'!$6:$6,1,MATCH(Tbl_ListFactores[[#This Row],[Factor]],'1. Definición_Factores'!$2:$2,0)-1)="","",INDEX('1. Definición_Factores'!$6:$6,1,MATCH(Tbl_ListFactores[[#This Row],[Factor]],'1. Definición_Factores'!$2:$2,0)-1)),"") | E8: =IFERROR(IF(INDEX('1. Definición_Factores'!$3:$3,1,MATCH(Tbl_ListFactores[[#This Row],[Factor]],'1. Definición_Factores'!$2:$2,0)+2)="","",INDEX('1. Definición_Factores'!$3:$3,1,MATCH(Tbl_ListFactores[[#This Row],[Factor]],'1. Definición_Factores'!$2:$2,0)+2)),"") | F8: =IFERROR(IF(INDEX('1. Definición_Factores'!$3:$3,1,MATCH(Tbl_ListFactores[[#This Row],[Factor]],'1. Definición_Factores'!$2:$2,0))="","zz",INDEX('1. Definición_Factores'!$3:$3,1,MATCH(Tbl_ListFactores[[#This Row],[Factor]],'1. Definición_Factores'!$2:$2,0))),"zz") -> zz | G8: =IF(Tbl_ListFactores[[#This Row],[Nombre del Factor]]<>"","TblF"&RIGHT(Tbl_ListFactores[[#This Row],[Factor]],LEN(Tbl_ListFactores[[#This Row],[Factor]])-FIND(" ",Tbl_ListFactores[[#This Row],[Factor]])),"") | H8: =IF(AND(Tbl_ListFactores[[#This Row],[Nombre del Factor]]<>"",Tbl_ListFactores[[#This Row],[Género]]<>"",Tbl_ListFactores[[#This Row],[Tipo]]<>""),ROW()-ROW(Tbl_ListFactores[])+1,0) -> 0 | N8: =POWER($L$2,1/(O8-1)) -> 1.5848932 | O8: 6 | P8: =$L$1 -> 1 | Q8: =IF($L$1=0,POWER($N8,P$2)-1,POWER($N8,P$2)) -> 1.5848932 | R8: =IF($L$1=0,POWER($N8,Q$2)-1,POWER($N8,Q$2)) -> 2.5118864 | S8: =IF($L$1=0,POWER($N8,R$2)-1,POWER($N8,R$2)) -> 3.9810717 | T8: =IF($L$1=0,POWER($N8,S$2)-1,POWER($N8,S$2)) -> 6.3095734 | U8: 10
B9: FACTOR 8 | C9: =IFERROR(IF(INDEX('1. Definición_Factores'!$2:$2,1,MATCH(Tbl_ListFactores[[#This Row],[Factor]],'1. Definición_Factores'!$2:$2,0)+2)="","",INDEX('1. Definición_Factores'!$2:$2,1,MATCH(Tbl_ListFactores[[#This Row],[Factor]],'1. Definición_Factores'!$2:$2,0)+2)),"") | D9: =IFERROR(IF(INDEX('1. Definición_Factores'!$6:$6,1,MATCH(Tbl_ListFactores[[#This Row],[Factor]],'1. Definición_Factores'!$2:$2,0)-1)="","",INDEX('1. Definición_Factores'!$6:$6,1,MATCH(Tbl_ListFactores[[#This Row],[Factor]],'1. Definición_Factores'!$2:$2,0)-1)),"") | E9: =IFERROR(IF(INDEX('1. Definición_Factores'!$3:$3,1,MATCH(Tbl_ListFactores[[#This Row],[Factor]],'1. Definición_Factores'!$2:$2,0)+2)="","",INDEX('1. Definición_Factores'!$3:$3,1,MATCH(Tbl_ListFactores[[#This Row],[Factor]],'1. Definición_Factores'!$2:$2,0)+2)),"") | F9: =IFERROR(IF(INDEX('1. Definición_Factores'!$3:$3,1,MATCH(Tbl_ListFactores[[#This Row],[Factor]],'1. Definición_Factores'!$2:$2,0))="","zz",INDEX('1. Definición_Factores'!$3:$3,1,MATCH(Tbl_ListFactores[[#This Row],[Factor]],'1. Definición_Factores'!$2:$2,0))),"zz") -> zz | G9: =IF(Tbl_ListFactores[[#This Row],[Nombre del Factor]]<>"","TblF"&RIGHT(Tbl_ListFactores[[#This Row],[Factor]],LEN(Tbl_ListFactores[[#This Row],[Factor]])-FIND(" ",Tbl_ListFactores[[#This Row],[Factor]])),"") | H9: =IF(AND(Tbl_ListFactores[[#This Row],[Nombre del Factor]]<>"",Tbl_ListFactores[[#This Row],[Género]]<>"",Tbl_ListFactores[[#This Row],[Tipo]]<>""),ROW()-ROW(Tbl_ListFactores[])+1,0) -> 0 | N9: =POWER($L$2,1/(O9-1)) -> 1.4677993 | O9: 7 | P9: =$L$1 -> 1 | Q9: =IF($L$1=0,POWER($N9,P$2)-1,POWER($N9,P$2)) -> 1.4677993 | R9: =IF($L$1=0,POWER($N9,Q$2)-1,POWER($N9,Q$2)) -> 2.1544347 | S9: =IF($L$1=0,POWER($N9,R$2)-1,POWER($N9,R$2)) -> 3.1622777 | T9: =IF($L$1=0,POWER($N9,S$2)-1,POWER($N9,S$2)) -> 4.6415888 | U9: =IF($L$1=0,POWER($N9,T$2)-1,POWER($N9,T$2)) -> 6.8129207 | V9: 10
B10: FACTOR 9 | C10: =IFERROR(IF(INDEX('1. Definición_Factores'!$2:$2,1,MATCH(Tbl_ListFactores[[#This Row],[Factor]],'1. Definición_Factores'!$2:$2,0)+2)="","",INDEX('1. Definición_Factores'!$2:$2,1,MATCH(Tbl_ListFactores[[#This Row],[Factor]],'1. Definición_Factores'!$2:$2,0)+2)),"") | D10: =IFERROR(IF(INDEX('1. Definición_Factores'!$6:$6,1,MATCH(Tbl_ListFactores[[#This Row],[Factor]],'1. Definición_Factores'!$2:$2,0)-1)="","",INDEX('1. Definición_Factores'!$6:$6,1,MATCH(Tbl_ListFactores[[#This Row],[Factor]],'1. Definición_Factores'!$2:$2,0)-1)),"") | E10: =IFERROR(IF(INDEX('1. Definición_Factores'!$3:$3,1,MATCH(Tbl_ListFactores[[#This Row],[Factor]],'1. Definición_Factores'!$2:$2,0)+2)="","",INDEX('1. Definición_Factores'!$3:$3,1,MATCH(Tbl_ListFactores[[#This Row],[Factor]],'1. Definición_Factores'!$2:$2,0)+2)),"") | F10: =IFERROR(IF(INDEX('1. Definición_Factores'!$3:$3,1,MATCH(Tbl_ListFactores[[#This Row],[Factor]],'1. Definición_Factores'!$2:$2,0))="","zz",INDEX('1. Definición_Factores'!$3:$3,1,MATCH(Tbl_ListFactores[[#This Row],[Factor]],'1. Definición_Factores'!$2:$2,0))),"zz") -> zz | G10: =IF(Tbl_ListFactores[[#This Row],[Nombre del Factor]]<>"","TblF"&RIGHT(Tbl_ListFactores[[#This Row],[Factor]],LEN(Tbl_ListFactores[[#This Row],[Factor]])-FIND(" ",Tbl_ListFactores[[#This Row],[Factor]])),"") | H10: =IF(AND(Tbl_ListFactores[[#This Row],[Nombre del Factor]]<>"",Tbl_ListFactores[[#This Row],[Género]]<>"",Tbl_ListFactores[[#This Row],[Tipo]]<>""),ROW()-ROW(Tbl_ListFactores[])+1,0) -> 0 | N10: =POWER($L$2,1/(O10-1)) -> 1.3894955 | O10: 8 | P10: =$L$1 -> 1 | Q10: =IF($L$1=0,POWER($N10,P$2)-1,POWER($N10,P$2)) -> 1.3894955 | R10: =IF($L$1=0,POWER($N10,Q$2)-1,POWER($N10,Q$2)) -> 1.9306977 | S10: =IF($L$1=0,POWER($N10,R$2)-1,POWER($N10,R$2)) -> 2.6826958 | T10: =IF($L$1=0,POWER($N10,S$2)-1,POWER($N10,S$2)) -> 3.7275937 | U10: =IF($L$1=0,POWER($N10,T$2)-1,POWER($N10,T$2)) -> 5.1794747 | V10: =IF($L$1=0,POWER($N10,U$2)-1,POWER($N10,U$2)) -> 7.1968567 | W10: 10
B11: FACTOR 10 | C11: =IFERROR(IF(INDEX('1. Definición_Factores'!$2:$2,1,MATCH(Tbl_ListFactores[[#This Row],[Factor]],'1. Definición_Factores'!$2:$2,0)+2)="","",INDEX('1. Definición_Factores'!$2:$2,1,MATCH(Tbl_ListFactores[[#This Row],[Factor]],'1. Definición_Factores'!$2:$2,0)+2)),"") | D11: =IFERROR(IF(INDEX('1. Definición_Factores'!$6:$6,1,MATCH(Tbl_ListFactores[[#This Row],[Factor]],'1. Definición_Factores'!$2:$2,0)-1)="","",INDEX('1. Definición_Factores'!$6:$6,1,MATCH(Tbl_ListFactores[[#This Row],[Factor]],'1. Definición_Factores'!$2:$2,0)-1)),"") | E11: =IFERROR(IF(INDEX('1. Definición_Factores'!$3:$3,1,MATCH(Tbl_ListFactores[[#This Row],[Factor]],'1. Definición_Factores'!$2:$2,0)+2)="","",INDEX('1. Definición_Factores'!$3:$3,1,MATCH(Tbl_ListFactores[[#This Row],[Factor]],'1. Definición_Factores'!$2:$2,0)+2)),"") | F11: =IFERROR(IF(INDEX('1. Definición_Factores'!$3:$3,1,MATCH(Tbl_ListFactores[[#This Row],[Factor]],'1. Definición_Factores'!$2:$2,0))="","zz",INDEX('1. Definición_Factores'!$3:$3,1,MATCH(Tbl_ListFactores[[#This Row],[Factor]],'1. Definición_Factores'!$2:$2,0))),"zz") -> zz | G11: =IF(Tbl_ListFactores[[#This Row],[Nombre del Factor]]<>"","TblF"&RIGHT(Tbl_ListFactores[[#This Row],[Factor]],LEN(Tbl_ListFactores[[#This Row],[Factor]])-FIND(" ",Tbl_ListFactores[[#This Row],[Factor]])),"") | H11: =IF(AND(Tbl_ListFactores[[#This Row],[Nombre del Factor]]<>"",Tbl_ListFactores[[#This Row],[Género]]<>"",Tbl_ListFactores[[#This Row],[Tipo]]<>""),ROW()-ROW(Tbl_ListFactores[])+1,0) -> 0 | N11: =POWER($L$2,1/(O11-1)) -> 1.3335214 | O11: 9 | P11: =$L$1 -> 1 | Q11: =IF($L$1=0,POWER($N11,P$2)-1,POWER($N11,P$2)) -> 1.3335214 | R11: =IF($L$1=0,POWER($N11,Q$2)-1,POWER($N11,Q$2)) -> 1.7782794 | S11: =IF($L$1=0,POWER($N11,R$2)-1,POWER($N11,R$2)) -> 2.3713737 | T11: =IF($L$1=0,POWER($N11,S$2)-1,POWER($N11,S$2)) -> 3.1622777 | U11: =IF($L$1=0,POWER($N11,T$2)-1,POWER($N11,T$2)) -> 4.216965 | V11: =IF($L$1=0,POWER($N11,U$2)-1,POWER($N11,U$2)) -> 5.6234133 | W11: =IF($L$1=0,POWER($N11,V$2)-1,POWER($N11,V$2)) -> 7.4989421 | X11: 10
B12: FACTOR 11 | C12: =IFERROR(IF(INDEX('1. Definición_Factores'!$2:$2,1,MATCH(Tbl_ListFactores[[#This Row],[Factor]],'1. Definición_Factores'!$2:$2,0)+2)="","",INDEX('1. Definición_Factores'!$2:$2,1,MATCH(Tbl_ListFactores[[#This Row],[Factor]],'1. Definición_Factores'!$2:$2,0)+2)),"") | D12: =IFERROR(IF(INDEX('1. Definición_Factores'!$6:$6,1,MATCH(Tbl_ListFactores[[#This Row],[Factor]],'1. Definición_Factores'!$2:$2,0)-1)="","",INDEX('1. Definición_Factores'!$6:$6,1,MATCH(Tbl_ListFactores[[#This Row],[Factor]],'1. Definición_Factores'!$2:$2,0)-1)),"") | E12: =IFERROR(IF(INDEX('1. Definición_Factores'!$3:$3,1,MATCH(Tbl_ListFactores[[#This Row],[Factor]],'1. Definición_Factores'!$2:$2,0)+2)="","",INDEX('1. Definición_Factores'!$3:$3,1,MATCH(Tbl_ListFactores[[#This Row],[Factor]],'1. Definición_Factores'!$2:$2,0)+2)),"") | F12: =IFERROR(IF(INDEX('1. Definición_Factores'!$3:$3,1,MATCH(Tbl_ListFactores[[#This Row],[Factor]],'1. Definición_Factores'!$2:$2,0))="","zz",INDEX('1. Definición_Factores'!$3:$3,1,MATCH(Tbl_ListFactores[[#This Row],[Factor]],'1. Definición_Factores'!$2:$2,0))),"zz") -> zz | G12: =IF(Tbl_ListFactores[[#This Row],[Nombre del Factor]]<>"","TblF"&RIGHT(Tbl_ListFactores[[#This Row],[Factor]],LEN(Tbl_ListFactores[[#This Row],[Factor]])-FIND(" ",Tbl_ListFactores[[#This Row],[Factor]])),"") | H12: =IF(AND(Tbl_ListFactores[[#This Row],[Nombre del Factor]]<>"",Tbl_ListFactores[[#This Row],[Género]]<>"",Tbl_ListFactores[[#This Row],[Tipo]]<>""),ROW()-ROW(Tbl_ListFactores[])+1,0) -> 0 | N12: =POWER($L$2,1/(O12-1)) -> 1.2915497 | O12: 10 | P12: =$L$1 -> 1 | Q12: =IF($L$1=0,POWER($N12,P$2)-1,POWER($N12,P$2)) -> 1.2915497 | R12: =IF($L$1=0,POWER($N12,Q$2)-1,POWER($N12,Q$2)) -> 1.6681005 | S12: =IF($L$1=0,POWER($N12,R$2)-1,POWER($N12,R$2)) -> 2.1544347 | T12: =IF($L$1=0,POWER($N12,S$2)-1,POWER($N12,S$2)) -> 2.7825594 | U12: =IF($L$1=0,POWER($N12,T$2)-1,POWER($N12,T$2)) -> 3.5938137 | V12: =IF($L$1=0,POWER($N12,U$2)-1,POWER($N12,U$2)) -> 4.6415888 | W12: =IF($L$1=0,POWER($N12,V$2)-1,POWER($N12,V$2)) -> 5.9948425 | X12: =IF($L$1=0,POWER($N12,W$2)-1,POWER($N12,W$2)) -> 7.7426368 | Y12: 10
B13: FACTOR 12 | C13: =IFERROR(IF(INDEX('1. Definición_Factores'!$2:$2,1,MATCH(Tbl_ListFactores[[#This Row],[Factor]],'1. Definición_Factores'!$2:$2,0)+2)="","",INDEX('1. Definición_Factores'!$2:$2,1,MATCH(Tbl_ListFactores[[#This Row],[Factor]],'1. Definición_Factores'!$2:$2,0)+2)),"") | D13: =IFERROR(IF(INDEX('1. Definición_Factores'!$6:$6,1,MATCH(Tbl_ListFactores[[#This Row],[Factor]],'1. Definición_Factores'!$2:$2,0)-1)="","",INDEX('1. Definición_Factores'!$6:$6,1,MATCH(Tbl_ListFactores[[#This Row],[Factor]],'1. Definición_Factores'!$2:$2,0)-1)),"") | E13: =IFERROR(IF(INDEX('1. Definición_Factores'!$3:$3,1,MATCH(Tbl_ListFactores[[#This Row],[Factor]],'1. Definición_Factores'!$2:$2,0)+2)="","",INDEX('1. Definición_Factores'!$3:$3,1,MATCH(Tbl_ListFactores[[#This Row],[Factor]],'1. Definición_Factores'!$2:$2,0)+2)),"") | F13: =IFERROR(IF(INDEX('1. Definición_Factores'!$3:$3,1,MATCH(Tbl_ListFactores[[#This Row],[Factor]],'1. Definición_Factores'!$2:$2,0))="","zz",INDEX('1. Definición_Factores'!$3:$3,1,MATCH(Tbl_ListFactores[[#This Row],[Factor]],'1. Definición_Factores'!$2:$2,0))),"zz") -> zz | G13: =IF(Tbl_ListFactores[[#This Row],[Nombre del Factor]]<>"","TblF"&RIGHT(Tbl_ListFactores[[#This Row],[Factor]],LEN(Tbl_ListFactores[[#This Row],[Factor]])-FIND(" ",Tbl_ListFactores[[#This Row],[Factor]])),"") | H13: =IF(AND(Tbl_ListFactores[[#This Row],[Nombre del Factor]]<>"",Tbl_ListFactores[[#This Row],[Género]]<>"",Tbl_ListFactores[[#This Row],[Tipo]]<>""),ROW()-ROW(Tbl_ListFactores[])+1,0) -> 0 | N13: =POWER($L$2,1/(O13-1)) -> 1.2589254 | O13: 11 | P13: =$L$1 -> 1 | Q13: =IF($L$1=0,POWER($N13,P$2)-1,POWER($N13,P$2)) -> 1.2589254 | R13: =IF($L$1=0,POWER($N13,Q$2)-1,POWER($N13,Q$2)) -> 1.5848932 | S13: =IF($L$1=0,POWER($N13,R$2)-1,POWER($N13,R$2)) -> 1.9952623 | T13: =IF($L$1=0,POWER($N13,S$2)-1,POWER($N13,S$2)) -> 2.5118864 | U13: =IF($L$1=0,POWER($N13,T$2)-1,POWER($N13,T$2)) -> 3.1622777 | V13: =IF($L$1=0,POWER($N13,U$2)-1,POWER($N13,U$2)) -> 3.9810717 | W13: =IF($L$1=0,POWER($N13,V$2)-1,POWER($N13,V$2)) -> 5.0118723 | X13: =IF($L$1=0,POWER($N13,W$2)-1,POWER($N13,W$2)) -> 6.3095734 | Y13: =IF($L$1=0,POWER($N13,X$2)-1,POWER($N13,X$2)) -> 7.9432823 | Z13: 10
B14: FACTOR 13 | C14: =IFERROR(IF(INDEX('1. Definición_Factores'!$2:$2,1,MATCH(Tbl_ListFactores[[#This Row],[Factor]],'1. Definición_Factores'!$2:$2,0)+2)="","",INDEX('1. Definición_Factores'!$2:$2,1,MATCH(Tbl_ListFactores[[#This Row],[Factor]],'1. Definición_Factores'!$2:$2,0)+2)),"") | D14: =IFERROR(IF(INDEX('1. Definición_Factores'!$6:$6,1,MATCH(Tbl_ListFactores[[#This Row],[Factor]],'1. Definición_Factores'!$2:$2,0)-1)="","",INDEX('1. Definición_Factores'!$6:$6,1,MATCH(Tbl_ListFactores[[#This Row],[Factor]],'1. Definición_Factores'!$2:$2,0)-1)),"") | E14: =IFERROR(IF(INDEX('1. Definición_Factores'!$3:$3,1,MATCH(Tbl_ListFactores[[#This Row],[Factor]],'1. Definición_Factores'!$2:$2,0)+2)="","",INDEX('1. Definición_Factores'!$3:$3,1,MATCH(Tbl_ListFactores[[#This Row],[Factor]],'1. Definición_Factores'!$2:$2,0)+2)),"") | F14: =IFERROR(IF(INDEX('1. Definición_Factores'!$3:$3,1,MATCH(Tbl_ListFactores[[#This Row],[Factor]],'1. Definición_Factores'!$2:$2,0))="","zz",INDEX('1. Definición_Factores'!$3:$3,1,MATCH(Tbl_ListFactores[[#This Row],[Factor]],'1. Definición_Factores'!$2:$2,0))),"zz") -> zz | G14: =IF(Tbl_ListFactores[[#This Row],[Nombre del Factor]]<>"","TblF"&RIGHT(Tbl_ListFactores[[#This Row],[Factor]],LEN(Tbl_ListFactores[[#This Row],[Factor]])-FIND(" ",Tbl_ListFactores[[#This Row],[Factor]])),"") | H14: =IF(AND(Tbl_ListFactores[[#This Row],[Nombre del Factor]]<>"",Tbl_ListFactores[[#This Row],[Género]]<>"",Tbl_ListFactores[[#This Row],[Tipo]]<>""),ROW()-ROW(Tbl_ListFactores[])+1,0) -> 0 | N14: =POWER($L$2,1/(O14-1)) -> 1.2328467 | O14: 12 | P14: =$L$1 -> 1 | Q14: =IF($L$1=0,POWER($N14,P$2)-1,POWER($N14,P$2)) -> 1.2328467 | R14: =IF($L$1=0,POWER($N14,Q$2)-1,POWER($N14,Q$2)) -> 1.5199111 | S14: =IF($L$1=0,POWER($N14,R$2)-1,POWER($N14,R$2)) -> 1.8738174 | T14: =IF($L$1=0,POWER($N14,S$2)-1,POWER($N14,S$2)) -> 2.3101297 | U14: =IF($L$1=0,POWER($N14,T$2)-1,POWER($N14,T$2)) -> 2.8480359 | V14: =IF($L$1=0,POWER($N14,U$2)-1,POWER($N14,U$2)) -> 3.5111917 | W14: =IF($L$1=0,POWER($N14,V$2)-1,POWER($N14,V$2)) -> 4.3287613 | X14: =IF($L$1=0,POWER($N14,W$2)-1,POWER($N14,W$2)) -> 5.3366992 | ... Z14: =IF($L$1=0,POWER($N14,Y$2)-1,POWER($N14,Y$2)) -> 8.1113083 | AA14: 10
B15: FACTOR 14 | C15: =IFERROR(IF(INDEX('1. Definición_Factores'!$2:$2,1,MATCH(Tbl_ListFactores[[#This Row],[Factor]],'1. Definición_Factores'!$2:$2,0)+2)="","",INDEX('1. Definición_Factores'!$2:$2,1,MATCH(Tbl_ListFactores[[#This Row],[Factor]],'1. Definición_Factores'!$2:$2,0)+2)),"") | D15: =IFERROR(IF(INDEX('1. Definición_Factores'!$6:$6,1,MATCH(Tbl_ListFactores[[#This Row],[Factor]],'1. Definición_Factores'!$2:$2,0)-1)="","",INDEX('1. Definición_Factores'!$6:$6,1,MATCH(Tbl_ListFactores[[#This Row],[Factor]],'1. Definición_Factores'!$2:$2,0)-1)),"") | E15: =IFERROR(IF(INDEX('1. Definición_Factores'!$3:$3,1,MATCH(Tbl_ListFactores[[#This Row],[Factor]],'1. Definición_Factores'!$2:$2,0)+2)="","",INDEX('1. Definición_Factores'!$3:$3,1,MATCH(Tbl_ListFactores[[#This Row],[Factor]],'1. Definición_Factores'!$2:$2,0)+2)),"") | F15: =IFERROR(IF(INDEX('1. Definición_Factores'!$3:$3,1,MATCH(Tbl_ListFactores[[#This Row],[Factor]],'1. Definición_Factores'!$2:$2,0))="","zz",INDEX('1. Definición_Factores'!$3:$3,1,MATCH(Tbl_ListFactores[[#This Row],[Factor]],'1. Definición_Factores'!$2:$2,0))),"zz") -> zz | G15: =IF(Tbl_ListFactores[[#This Row],[Nombre del Factor]]<>"","TblF"&RIGHT(Tbl_ListFactores[[#This Row],[Factor]],LEN(Tbl_ListFactores[[#This Row],[Factor]])-FIND(" ",Tbl_ListFactores[[#This Row],[Factor]])),"") | H15: =IF(AND(Tbl_ListFactores[[#This Row],[Nombre del Factor]]<>"",Tbl_ListFactores[[#This Row],[Género]]<>"",Tbl_ListFactores[[#This Row],[Tipo]]<>""),ROW()-ROW(Tbl_ListFactores[])+1,0) -> 0 | N15: =POWER($L$2,1/(O15-1)) -> 1.2115277 | O15: 13 | P15: =$L$1 -> 1 | Q15: =IF($L$1=0,POWER($N15,P$2)-1,POWER($N15,P$2)) -> 1.2115277 | R15: =IF($L$1=0,POWER($N15,Q$2)-1,POWER($N15,Q$2)) -> 1.4677993 | S15: =IF($L$1=0,POWER($N15,R$2)-1,POWER($N15,R$2)) -> 1.7782794 | T15: =IF($L$1=0,POWER($N15,S$2)-1,POWER($N15,S$2)) -> 2.1544347 | U15: =IF($L$1=0,POWER($N15,T$2)-1,POWER($N15,T$2)) -> 2.6101572 | V15: =IF($L$1=0,POWER($N15,U$2)-1,POWER($N15,U$2)) -> 3.1622777 | W15: =IF($L$1=0,POWER($N15,V$2)-1,POWER($N15,V$2)) -> 3.8311868 | X15: =IF($L$1=0,POWER($N15,W$2)-1,POWER($N15,W$2)) -> 4.6415888 | ... AA15: =IF($L$1=0,POWER($N15,Z$2)-1,POWER($N15,Z$2)) -> 8.2540419 | AB15: 10
B16: FACTOR 15 | C16: =IFERROR(IF(INDEX('1. Definición_Factores'!$2:$2,1,MATCH(Tbl_ListFactores[[#This Row],[Factor]],'1. Definición_Factores'!$2:$2,0)+2)="","",INDEX('1. Definición_Factores'!$2:$2,1,MATCH(Tbl_ListFactores[[#This Row],[Factor]],'1. Definición_Factores'!$2:$2,0)+2)),"") | D16: =IFERROR(IF(INDEX('1. Definición_Factores'!$6:$6,1,MATCH(Tbl_ListFactores[[#This Row],[Factor]],'1. Definición_Factores'!$2:$2,0)-1)="","",INDEX('1. Definición_Factores'!$6:$6,1,MATCH(Tbl_ListFactores[[#This Row],[Factor]],'1. Definición_Factores'!$2:$2,0)-1)),"") | E16: =IFERROR(IF(INDEX('1. Definición_Factores'!$3:$3,1,MATCH(Tbl_ListFactores[[#This Row],[Factor]],'1. Definición_Factores'!$2:$2,0)+2)="","",INDEX('1. Definición_Factores'!$3:$3,1,MATCH(Tbl_ListFactores[[#This Row],[Factor]],'1. Definición_Factores'!$2:$2,0)+2)),"") | F16: =IFERROR(IF(INDEX('1. Definición_Factores'!$3:$3,1,MATCH(Tbl_ListFactores[[#This Row],[Factor]],'1. Definición_Factores'!$2:$2,0))="","zz",INDEX('1. Definición_Factores'!$3:$3,1,MATCH(Tbl_ListFactores[[#This Row],[Factor]],'1. Definición_Factores'!$2:$2,0))),"zz") -> zz | G16: =IF(Tbl_ListFactores[[#This Row],[Nombre del Factor]]<>"","TblF"&RIGHT(Tbl_ListFactores[[#This Row],[Factor]],LEN(Tbl_ListFactores[[#This Row],[Factor]])-FIND(" ",Tbl_ListFactores[[#This Row],[Factor]])),"") | H16: =IF(AND(Tbl_ListFactores[[#This Row],[Nombre del Factor]]<>"",Tbl_ListFactores[[#This Row],[Género]]<>"",Tbl_ListFactores[[#This Row],[Tipo]]<>""),ROW()-ROW(Tbl_ListFactores[])+1,0) -> 0 | N16: =POWER($L$2,1/(O16-1)) -> 1.1937766 | O16: 14 | P16: =$L$1 -> 1 | Q16: =IF($L$1=0,POWER($N16,P$2)-1,POWER($N16,P$2)) -> 1.1937766 | R16: =IF($L$1=0,POWER($N16,Q$2)-1,POWER($N16,Q$2)) -> 1.4251027 | S16: =IF($L$1=0,POWER($N16,R$2)-1,POWER($N16,R$2)) -> 1.7012543 | T16: =IF($L$1=0,POWER($N16,S$2)-1,POWER($N16,S$2)) -> 2.0309176 | U16: =IF($L$1=0,POWER($N16,T$2)-1,POWER($N16,T$2)) -> 2.424462 | V16: =IF($L$1=0,POWER($N16,U$2)-1,POWER($N16,U$2)) -> 2.8942661 | W16: =IF($L$1=0,POWER($N16,V$2)-1,POWER($N16,V$2)) -> 3.4551073 | X16: =IF($L$1=0,POWER($N16,W$2)-1,POWER($N16,W$2)) -> 4.1246264 | ... AB16: =IF($L$1=0,POWER($N16,AA$2)-1,POWER($N16,AA$2)) -> 8.3767764 | AC16: 10
B17: FACTOR 16 | C17: =IFERROR(IF(INDEX('1. Definición_Factores'!$2:$2,1,MATCH(Tbl_ListFactores[[#This Row],[Factor]],'1. Definición_Factores'!$2:$2,0)+2)="","",INDEX('1. Definición_Factores'!$2:$2,1,MATCH(Tbl_ListFactores[[#This Row],[Factor]],'1. Definición_Factores'!$2:$2,0)+2)),"") | D17: =IFERROR(IF(INDEX('1. Definición_Factores'!$6:$6,1,MATCH(Tbl_ListFactores[[#This Row],[Factor]],'1. Definición_Factores'!$2:$2,0)-1)="","",INDEX('1. Definición_Factores'!$6:$6,1,MATCH(Tbl_ListFactores[[#This Row],[Factor]],'1. Definición_Factores'!$2:$2,0)-1)),"") | E17: =IFERROR(IF(INDEX('1. Definición_Factores'!$3:$3,1,MATCH(Tbl_ListFactores[[#This Row],[Factor]],'1. Definición_Factores'!$2:$2,0)+2)="","",INDEX('1. Definición_Factores'!$3:$3,1,MATCH(Tbl_ListFactores[[#This Row],[Factor]],'1. Definición_Factores'!$2:$2,0)+2)),"") | F17: =IFERROR(IF(INDEX('1. Definición_Factores'!$3:$3,1,MATCH(Tbl_ListFactores[[#This Row],[Factor]],'1. Definición_Factores'!$2:$2,0))="","zz",INDEX('1. Definición_Factores'!$3:$3,1,MATCH(Tbl_ListFactores[[#This Row],[Factor]],'1. Definición_Factores'!$2:$2,0))),"zz") -> zz | G17: =IF(Tbl_ListFactores[[#This Row],[Nombre del Factor]]<>"","TblF"&RIGHT(Tbl_ListFactores[[#This Row],[Factor]],LEN(Tbl_ListFactores[[#This Row],[Factor]])-FIND(" ",Tbl_ListFactores[[#This Row],[Factor]])),"") | H17: =IF(AND(Tbl_ListFactores[[#This Row],[Nombre del Factor]]<>"",Tbl_ListFactores[[#This Row],[Género]]<>"",Tbl_ListFactores[[#This Row],[Tipo]]<>""),ROW()-ROW(Tbl_ListFactores[])+1,0) -> 0 | N17: =POWER($L$2,1/(O17-1)) -> 1.1787686 | O17: 15 | P17: =$L$1 -> 1 | Q17: =IF($L$1=0,POWER($N17,P$2)-1,POWER($N17,P$2)) -> 1.1787686 | R17: =IF($L$1=0,POWER($N17,Q$2)-1,POWER($N17,Q$2)) -> 1.3894955 | S17: =IF($L$1=0,POWER($N17,R$2)-1,POWER($N17,R$2)) -> 1.6378937 | T17: =IF($L$1=0,POWER($N17,S$2)-1,POWER($N17,S$2)) -> 1.9306977 | U17: =IF($L$1=0,POWER($N17,T$2)-1,POWER($N17,T$2)) -> 2.2758459 | V17: =IF($L$1=0,POWER($N17,U$2)-1,POWER($N17,U$2)) -> 2.6826958 | W17: =IF($L$1=0,POWER($N17,V$2)-1,POWER($N17,V$2)) -> 3.1622777 | X17: =IF($L$1=0,POWER($N17,W$2)-1,POWER($N17,W$2)) -> 3.7275937 | ... AC17: =IF($L$1=0,POWER($N17,AB$2)-1,POWER($N17,AB$2)) -> 8.483429 | AD17: 10
B18: FACTOR 17 | C18: =IFERROR(IF(INDEX('1. Definición_Factores'!$2:$2,1,MATCH(Tbl_ListFactores[[#This Row],[Factor]],'1. Definición_Factores'!$2:$2,0)+2)="","",INDEX('1. Definición_Factores'!$2:$2,1,MATCH(Tbl_ListFactores[[#This Row],[Factor]],'1. Definición_Factores'!$2:$2,0)+2)),"") | D18: =IFERROR(IF(INDEX('1. Definición_Factores'!$6:$6,1,MATCH(Tbl_ListFactores[[#This Row],[Factor]],'1. Definición_Factores'!$2:$2,0)-1)="","",INDEX('1. Definición_Factores'!$6:$6,1,MATCH(Tbl_ListFactores[[#This Row],[Factor]],'1. Definición_Factores'!$2:$2,0)-1)),"") | E18: =IFERROR(IF(INDEX('1. Definición_Factores'!$3:$3,1,MATCH(Tbl_ListFactores[[#This Row],[Factor]],'1. Definición_Factores'!$2:$2,0)+2)="","",INDEX('1. Definición_Factores'!$3:$3,1,MATCH(Tbl_ListFactores[[#This Row],[Factor]],'1. Definición_Factores'!$2:$2,0)+2)),"") | F18: =IFERROR(IF(INDEX('1. Definición_Factores'!$3:$3,1,MATCH(Tbl_ListFactores[[#This Row],[Factor]],'1. Definición_Factores'!$2:$2,0))="","zz",INDEX('1. Definición_Factores'!$3:$3,1,MATCH(Tbl_ListFactores[[#This Row],[Factor]],'1. Definición_Factores'!$2:$2,0))),"zz") -> zz | G18: =IF(Tbl_ListFactores[[#This Row],[Nombre del Factor]]<>"","TblF"&RIGHT(Tbl_ListFactores[[#This Row],[Factor]],LEN(Tbl_ListFactores[[#This Row],[Factor]])-FIND(" ",Tbl_ListFactores[[#This Row],[Factor]])),"") | H18: =IF(AND(Tbl_ListFactores[[#This Row],[Nombre del Factor]]<>"",Tbl_ListFactores[[#This Row],[Género]]<>"",Tbl_ListFactores[[#This Row],[Tipo]]<>""),ROW()-ROW(Tbl_ListFactores[])+1,0) -> 0 | N18: =POWER($L$2,1/(O18-1)) -> 1.1659144 | O18: 16 | P18: =$L$1 -> 1 | Q18: =IF($L$1=0,POWER($N18,P$2)-1,POWER($N18,P$2)) -> 1.1659144 | R18: =IF($L$1=0,POWER($N18,Q$2)-1,POWER($N18,Q$2)) -> 1.3593564 | S18: =IF($L$1=0,POWER($N18,R$2)-1,POWER($N18,R$2)) -> 1.5848932 | T18: =IF($L$1=0,POWER($N18,S$2)-1,POWER($N18,S$2)) -> 1.8478498 | U18: =IF($L$1=0,POWER($N18,T$2)-1,POWER($N18,T$2)) -> 2.1544347 | V18: =IF($L$1=0,POWER($N18,U$2)-1,POWER($N18,U$2)) -> 2.5118864 | W18: =IF($L$1=0,POWER($N18,V$2)-1,POWER($N18,V$2)) -> 2.9286446 | X18: =IF($L$1=0,POWER($N18,W$2)-1,POWER($N18,W$2)) -> 3.4145489 | ... AD18: =IF($L$1=0,POWER($N18,AC$2)-1,POWER($N18,AC$2)) -> 8.576959 | AE18: 10
B19: FACTOR 18 | C19: =IFERROR(IF(INDEX('1. Definición_Factores'!$2:$2,1,MATCH(Tbl_ListFactores[[#This Row],[Factor]],'1. Definición_Factores'!$2:$2,0)+2)="","",INDEX('1. Definición_Factores'!$2:$2,1,MATCH(Tbl_ListFactores[[#This Row],[Factor]],'1. Definición_Factores'!$2:$2,0)+2)),"") | D19: =IFERROR(IF(INDEX('1. Definición_Factores'!$6:$6,1,MATCH(Tbl_ListFactores[[#This Row],[Factor]],'1. Definición_Factores'!$2:$2,0)-1)="","",INDEX('1. Definición_Factores'!$6:$6,1,MATCH(Tbl_ListFactores[[#This Row],[Factor]],'1. Definición_Factores'!$2:$2,0)-1)),"") | E19: =IFERROR(IF(INDEX('1. Definición_Factores'!$3:$3,1,MATCH(Tbl_ListFactores[[#This Row],[Factor]],'1. Definición_Factores'!$2:$2,0)+2)="","",INDEX('1. Definición_Factores'!$3:$3,1,MATCH(Tbl_ListFactores[[#This Row],[Factor]],'1. Definición_Factores'!$2:$2,0)+2)),"") | F19: =IFERROR(IF(INDEX('1. Definición_Factores'!$3:$3,1,MATCH(Tbl_ListFactores[[#This Row],[Factor]],'1. Definición_Factores'!$2:$2,0))="","zz",INDEX('1. Definición_Factores'!$3:$3,1,MATCH(Tbl_ListFactores[[#This Row],[Factor]],'1. Definición_Factores'!$2:$2,0))),"zz") -> zz | G19: =IF(Tbl_ListFactores[[#This Row],[Nombre del Factor]]<>"","TblF"&RIGHT(Tbl_ListFactores[[#This Row],[Factor]],LEN(Tbl_ListFactores[[#This Row],[Factor]])-FIND(" ",Tbl_ListFactores[[#This Row],[Factor]])),"") | H19: =IF(AND(Tbl_ListFactores[[#This Row],[Nombre del Factor]]<>"",Tbl_ListFactores[[#This Row],[Género]]<>"",Tbl_ListFactores[[#This Row],[Tipo]]<>""),ROW()-ROW(Tbl_ListFactores[])+1,0) -> 0 | N19: =POWER($L$2,1/(O19-1)) -> 1.154782 | O19: 17 | P19: =$L$1 -> 1 | Q19: =IF($L$1=0,POWER($N19,P$2)-1,POWER($N19,P$2)) -> 1.154782 | R19: =IF($L$1=0,POWER($N19,Q$2)-1,POWER($N19,Q$2)) -> 1.3335214 | S19: =IF($L$1=0,POWER($N19,R$2)-1,POWER($N19,R$2)) -> 1.5399265 | T19: =IF($L$1=0,POWER($N19,S$2)-1,POWER($N19,S$2)) -> 1.7782794 | U19: =IF($L$1=0,POWER($N19,T$2)-1,POWER($N19,T$2)) -> 2.053525 | V19: =IF($L$1=0,POWER($N19,U$2)-1,POWER($N19,U$2)) -> 2.3713737 | W19: =IF($L$1=0,POWER($N19,V$2)-1,POWER($N19,V$2)) -> 2.7384196 | X19: =IF($L$1=0,POWER($N19,W$2)-1,POWER($N19,W$2)) -> 3.1622777 | ... AE19: =IF($L$1=0,POWER($N19,AD$2)-1,POWER($N19,AD$2)) -> 8.6596432 | AF19: 10
B20: FACTOR 19 | C20: =IFERROR(IF(INDEX('1. Definición_Factores'!$2:$2,1,MATCH(Tbl_ListFactores[[#This Row],[Factor]],'1. Definición_Factores'!$2:$2,0)+2)="","",INDEX('1. Definición_Factores'!$2:$2,1,MATCH(Tbl_ListFactores[[#This Row],[Factor]],'1. Definición_Factores'!$2:$2,0)+2)),"") | D20: =IFERROR(IF(INDEX('1. Definición_Factores'!$6:$6,1,MATCH(Tbl_ListFactores[[#This Row],[Factor]],'1. Definición_Factores'!$2:$2,0)-1)="","",INDEX('1. Definición_Factores'!$6:$6,1,MATCH(Tbl_ListFactores[[#This Row],[Factor]],'1. Definición_Factores'!$2:$2,0)-1)),"") | E20: =IFERROR(IF(INDEX('1. Definición_Factores'!$3:$3,1,MATCH(Tbl_ListFactores[[#This Row],[Factor]],'1. Definición_Factores'!$2:$2,0)+2)="","",INDEX('1. Definición_Factores'!$3:$3,1,MATCH(Tbl_ListFactores[[#This Row],[Factor]],'1. Definición_Factores'!$2:$2,0)+2)),"") | F20: =IFERROR(IF(INDEX('1. Definición_Factores'!$3:$3,1,MATCH(Tbl_ListFactores[[#This Row],[Factor]],'1. Definición_Factores'!$2:$2,0))="","zz",INDEX('1. Definición_Factores'!$3:$3,1,MATCH(Tbl_ListFactores[[#This Row],[Factor]],'1. Definición_Factores'!$2:$2,0))),"zz") -> zz | G20: =IF(Tbl_ListFactores[[#This Row],[Nombre del Factor]]<>"","TblF"&RIGHT(Tbl_ListFactores[[#This Row],[Factor]],LEN(Tbl_ListFactores[[#This Row],[Factor]])-FIND(" ",Tbl_ListFactores[[#This Row],[Factor]])),"") | H20: =IF(AND(Tbl_ListFactores[[#This Row],[Nombre del Factor]]<>"",Tbl_ListFactores[[#This Row],[Género]]<>"",Tbl_ListFactores[[#This Row],[Tipo]]<>""),ROW()-ROW(Tbl_ListFactores[])+1,0) -> 0 | N20: =POWER($L$2,1/(O20-1)) -> 1.1450476 | O20: 18 | P20: =$L$1 -> 1 | Q20: =IF($L$1=0,POWER($N20,P$2)-1,POWER($N20,P$2)) -> 1.1450476 | R20: =IF($L$1=0,POWER($N20,Q$2)-1,POWER($N20,Q$2)) -> 1.3111339 | S20: =IF($L$1=0,POWER($N20,R$2)-1,POWER($N20,R$2)) -> 1.5013107 | T20: =IF($L$1=0,POWER($N20,S$2)-1,POWER($N20,S$2)) -> 1.7190722 | U20: =IF($L$1=0,POWER($N20,T$2)-1,POWER($N20,T$2)) -> 1.9684194 | V20: =IF($L$1=0,POWER($N20,U$2)-1,POWER($N20,U$2)) -> 2.2539339 | W20: =IF($L$1=0,POWER($N20,V$2)-1,POWER($N20,V$2)) -> 2.5808615 | X20: =IF($L$1=0,POWER($N20,W$2)-1,POWER($N20,W$2)) -> 2.9552092 | ... AF20: =IF($L$1=0,POWER($N20,AE$2)-1,POWER($N20,AE$2)) -> 8.7332616 | AG20: 10
B21: FACTOR 20 | C21: =IFERROR(IF(INDEX('1. Definición_Factores'!$2:$2,1,MATCH(Tbl_ListFactores[[#This Row],[Factor]],'1. Definición_Factores'!$2:$2,0)+2)="","",INDEX('1. Definición_Factores'!$2:$2,1,MATCH(Tbl_ListFactores[[#This Row],[Factor]],'1. Definición_Factores'!$2:$2,0)+2)),"") | D21: =IFERROR(IF(INDEX('1. Definición_Factores'!$6:$6,1,MATCH(Tbl_ListFactores[[#This Row],[Factor]],'1. Definición_Factores'!$2:$2,0)-1)="","",INDEX('1. Definición_Factores'!$6:$6,1,MATCH(Tbl_ListFactores[[#This Row],[Factor]],'1. Definición_Factores'!$2:$2,0)-1)),"") | E21: =IFERROR(IF(INDEX('1. Definición_Factores'!$3:$3,1,MATCH(Tbl_ListFactores[[#This Row],[Factor]],'1. Definición_Factores'!$2:$2,0)+2)="","",INDEX('1. Definición_Factores'!$3:$3,1,MATCH(Tbl_ListFactores[[#This Row],[Factor]],'1. Definición_Factores'!$2:$2,0)+2)),"") | F21: =IFERROR(IF(INDEX('1. Definición_Factores'!$3:$3,1,MATCH(Tbl_ListFactores[[#This Row],[Factor]],'1. Definición_Factores'!$2:$2,0))="","zz",INDEX('1. Definición_Factores'!$3:$3,1,MATCH(Tbl_ListFactores[[#This Row],[Factor]],'1. Definición_Factores'!$2:$2,0))),"zz") -> zz | G21: =IF(Tbl_ListFactores[[#This Row],[Nombre del Factor]]<>"","TblF"&RIGHT(Tbl_ListFactores[[#This Row],[Factor]],LEN(Tbl_ListFactores[[#This Row],[Factor]])-FIND(" ",Tbl_ListFactores[[#This Row],[Factor]])),"") | H21: =IF(AND(Tbl_ListFactores[[#This Row],[Nombre del Factor]]<>"",Tbl_ListFactores[[#This Row],[Género]]<>"",Tbl_ListFactores[[#This Row],[Tipo]]<>""),ROW()-ROW(Tbl_ListFactores[])+1,0) -> 0 | N21: =POWER($L$2,1/(O21-1)) -> 1.1364637 | O21: 19 | P21: =$L$1 -> 1 | Q21: =IF($L$1=0,POWER($N21,P$2)-1,POWER($N21,P$2)) -> 1.1364637 | R21: =IF($L$1=0,POWER($N21,Q$2)-1,POWER($N21,Q$2)) -> 1.2915497 | S21: =IF($L$1=0,POWER($N21,R$2)-1,POWER($N21,R$2)) -> 1.4677993 | T21: =IF($L$1=0,POWER($N21,S$2)-1,POWER($N21,S$2)) -> 1.6681005 | U21: =IF($L$1=0,POWER($N21,T$2)-1,POWER($N21,T$2)) -> 1.8957357 | V21: =IF($L$1=0,POWER($N21,U$2)-1,POWER($N21,U$2)) -> 2.1544347 | W21: =IF($L$1=0,POWER($N21,V$2)-1,POWER($N21,V$2)) -> 2.4484367 | X21: =IF($L$1=0,POWER($N21,W$2)-1,POWER($N21,W$2)) -> 2.7825594 | ... AG21: =IF($L$1=0,POWER($N21,AF$2)-1,POWER($N21,AF$2)) -> 8.7992254 | AH21: 10
B22: FACTOR 21 | C22: =IFERROR(IF(INDEX('1. Definición_Factores'!$2:$2,1,MATCH(Tbl_ListFactores[[#This Row],[Factor]],'1. Definición_Factores'!$2:$2,0)+2)="","",INDEX('1. Definición_Factores'!$2:$2,1,MATCH(Tbl_ListFactores[[#This Row],[Factor]],'1. Definición_Factores'!$2:$2,0)+2)),"") | D22: =IFERROR(IF(INDEX('1. Definición_Factores'!$6:$6,1,MATCH(Tbl_ListFactores[[#This Row],[Factor]],'1. Definición_Factores'!$2:$2,0)-1)="","",INDEX('1. Definición_Factores'!$6:$6,1,MATCH(Tbl_ListFactores[[#This Row],[Factor]],'1. Definición_Factores'!$2:$2,0)-1)),"") | E22: =IFERROR(IF(INDEX('1. Definición_Factores'!$3:$3,1,MATCH(Tbl_ListFactores[[#This Row],[Factor]],'1. Definición_Factores'!$2:$2,0)+2)="","",INDEX('1. Definición_Factores'!$3:$3,1,MATCH(Tbl_ListFactores[[#This Row],[Factor]],'1. Definición_Factores'!$2:$2,0)+2)),"") | F22: =IFERROR(IF(INDEX('1. Definición_Factores'!$3:$3,1,MATCH(Tbl_ListFactores[[#This Row],[Factor]],'1. Definición_Factores'!$2:$2,0))="","zz",INDEX('1. Definición_Factores'!$3:$3,1,MATCH(Tbl_ListFactores[[#This Row],[Factor]],'1. Definición_Factores'!$2:$2,0))),"zz") -> zz | G22: =IF(Tbl_ListFactores[[#This Row],[Nombre del Factor]]<>"","TblF"&RIGHT(Tbl_ListFactores[[#This Row],[Factor]],LEN(Tbl_ListFactores[[#This Row],[Factor]])-FIND(" ",Tbl_ListFactores[[#This Row],[Factor]])),"") | H22: =IF(AND(Tbl_ListFactores[[#This Row],[Nombre del Factor]]<>"",Tbl_ListFactores[[#This Row],[Género]]<>"",Tbl_ListFactores[[#This Row],[Tipo]]<>""),ROW()-ROW(Tbl_ListFactores[])+1,0) -> 0 | N22: =POWER($L$2,1/(O22-1)) -> 1.1288379 | O22: 20 | P22: =$L$1 -> 1 | Q22: =IF($L$1=0,POWER($N22,P$2)-1,POWER($N22,P$2)) -> 1.1288379 | R22: =IF($L$1=0,POWER($N22,Q$2)-1,POWER($N22,Q$2)) -> 1.274275 | S22: =IF($L$1=0,POWER($N22,R$2)-1,POWER($N22,R$2)) -> 1.4384499 | T22: =IF($L$1=0,POWER($N22,S$2)-1,POWER($N22,S$2)) -> 1.6237767 | U22: =IF($L$1=0,POWER($N22,T$2)-1,POWER($N22,T$2)) -> 1.8329807 | V22: =IF($L$1=0,POWER($N22,U$2)-1,POWER($N22,U$2)) -> 2.0691381 | W22: =IF($L$1=0,POWER($N22,V$2)-1,POWER($N22,V$2)) -> 2.3357215 | X22: =IF($L$1=0,POWER($N22,W$2)-1,POWER($N22,W$2)) -> 2.6366509 | ... AH22: =IF($L$1=0,POWER($N22,AG$2)-1,POWER($N22,AG$2)) -> 8.8586679 | AI22: 10
B23: FACTOR 22 | C23: =IFERROR(IF(INDEX('1. Definición_Factores'!$2:$2,1,MATCH(Tbl_ListFactores[[#This Row],[Factor]],'1. Definición_Factores'!$2:$2,0)+2)="","",INDEX('1. Definición_Factores'!$2:$2,1,MATCH(Tbl_ListFactores[[#This Row],[Factor]],'1. Definición_Factores'!$2:$2,0)+2)),"") | D23: =IFERROR(IF(INDEX('1. Definición_Factores'!$6:$6,1,MATCH(Tbl_ListFactores[[#This Row],[Factor]],'1. Definición_Factores'!$2:$2,0)-1)="","",INDEX('1. Definición_Factores'!$6:$6,1,MATCH(Tbl_ListFactores[[#This Row],[Factor]],'1. Definición_Factores'!$2:$2,0)-1)),"") | E23: =IFERROR(IF(INDEX('1. Definición_Factores'!$3:$3,1,MATCH(Tbl_ListFactores[[#This Row],[Factor]],'1. Definición_Factores'!$2:$2,0)+2)="","",INDEX('1. Definición_Factores'!$3:$3,1,MATCH(Tbl_ListFactores[[#This Row],[Factor]],'1. Definición_Factores'!$2:$2,0)+2)),"") | F23: =IFERROR(IF(INDEX('1. Definición_Factores'!$3:$3,1,MATCH(Tbl_ListFactores[[#This Row],[Factor]],'1. Definición_Factores'!$2:$2,0))="","zz",INDEX('1. Definición_Factores'!$3:$3,1,MATCH(Tbl_ListFactores[[#This Row],[Factor]],'1. Definición_Factores'!$2:$2,0))),"zz") -> zz | G23: =IF(Tbl_ListFactores[[#This Row],[Nombre del Factor]]<>"","TblF"&RIGHT(Tbl_ListFactores[[#This Row],[Factor]],LEN(Tbl_ListFactores[[#This Row],[Factor]])-FIND(" ",Tbl_ListFactores[[#This Row],[Factor]])),"") | H23: =IF(AND(Tbl_ListFactores[[#This Row],[Nombre del Factor]]<>"",Tbl_ListFactores[[#This Row],[Género]]<>"",Tbl_ListFactores[[#This Row],[Tipo]]<>""),ROW()-ROW(Tbl_ListFactores[])+1,0) -> 0
B24: FACTOR 23 | C24: =IFERROR(IF(INDEX('1. Definición_Factores'!$2:$2,1,MATCH(Tbl_ListFactores[[#This Row],[Factor]],'1. Definición_Factores'!$2:$2,0)+2)="","",INDEX('1. Definición_Factores'!$2:$2,1,MATCH(Tbl_ListFactores[[#This Row],[Factor]],'1. Definición_Factores'!$2:$2,0)+2)),"") | D24: =IFERROR(IF(INDEX('1. Definición_Factores'!$6:$6,1,MATCH(Tbl_ListFactores[[#This Row],[Factor]],'1. Definición_Factores'!$2:$2,0)-1)="","",INDEX('1. Definición_Factores'!$6:$6,1,MATCH(Tbl_ListFactores[[#This Row],[Factor]],'1. Definición_Factores'!$2:$2,0)-1)),"") | E24: =IFERROR(IF(INDEX('1. Definición_Factores'!$3:$3,1,MATCH(Tbl_ListFactores[[#This Row],[Factor]],'1. Definición_Factores'!$2:$2,0)+2)="","",INDEX('1. Definición_Factores'!$3:$3,1,MATCH(Tbl_ListFactores[[#This Row],[Factor]],'1. Definición_Factores'!$2:$2,0)+2)),"") | F24: =IFERROR(IF(INDEX('1. Definición_Factores'!$3:$3,1,MATCH(Tbl_ListFactores[[#This Row],[Factor]],'1. Definición_Factores'!$2:$2,0))="","zz",INDEX('1. Definición_Factores'!$3:$3,1,MATCH(Tbl_ListFactores[[#This Row],[Factor]],'1. Definición_Factores'!$2:$2,0))),"zz") -> zz | G24: =IF(Tbl_ListFactores[[#This Row],[Nombre del Factor]]<>"","TblF"&RIGHT(Tbl_ListFactores[[#This Row],[Factor]],LEN(Tbl_ListFactores[[#This Row],[Factor]])-FIND(" ",Tbl_ListFactores[[#This Row],[Factor]])),"") | H24: =IF(AND(Tbl_ListFactores[[#This Row],[Nombre del Factor]]<>"",Tbl_ListFactores[[#This Row],[Género]]<>"",Tbl_ListFactores[[#This Row],[Tipo]]<>""),ROW()-ROW(Tbl_ListFactores[])+1,0) -> 0
B25: FACTOR 24 | C25: =IFERROR(IF(INDEX('1. Definición_Factores'!$2:$2,1,MATCH(Tbl_ListFactores[[#This Row],[Factor]],'1. Definición_Factores'!$2:$2,0)+2)="","",INDEX('1. Definición_Factores'!$2:$2,1,MATCH(Tbl_ListFactores[[#This Row],[Factor]],'1. Definición_Factores'!$2:$2,0)+2)),"") | D25: =IFERROR(IF(INDEX('1. Definición_Factores'!$6:$6,1,MATCH(Tbl_ListFactores[[#This Row],[Factor]],'1. Definición_Factores'!$2:$2,0)-1)="","",INDEX('1. Definición_Factores'!$6:$6,1,MATCH(Tbl_ListFactores[[#This Row],[Factor]],'1. Definición_Factores'!$2:$2,0)-1)),"") | E25: =IFERROR(IF(INDEX('1. Definición_Factores'!$3:$3,1,MATCH(Tbl_ListFactores[[#This Row],[Factor]],'1. Definición_Factores'!$2:$2,0)+2)="","",INDEX('1. Definición_Factores'!$3:$3,1,MATCH(Tbl_ListFactores[[#This Row],[Factor]],'1. Definición_Factores'!$2:$2,0)+2)),"") | F25: =IFERROR(IF(INDEX('1. Definición_Factores'!$3:$3,1,MATCH(Tbl_ListFactores[[#This Row],[Factor]],'1. Definición_Factores'!$2:$2,0))="","zz",INDEX('1. Definición_Factores'!$3:$3,1,MATCH(Tbl_ListFactores[[#This Row],[Factor]],'1. Definición_Factores'!$2:$2,0))),"zz") -> zz | G25: =IF(Tbl_ListFactores[[#This Row],[Nombre del Factor]]<>"","TblF"&RIGHT(Tbl_ListFactores[[#This Row],[Factor]],LEN(Tbl_ListFactores[[#This Row],[Factor]])-FIND(" ",Tbl_ListFactores[[#This Row],[Factor]])),"") | H25: =IF(AND(Tbl_ListFactores[[#This Row],[Nombre del Factor]]<>"",Tbl_ListFactores[[#This Row],[Género]]<>"",Tbl_ListFactores[[#This Row],[Tipo]]<>""),ROW()-ROW(Tbl_ListFactores[])+1,0) -> 0
B26: FACTOR 25 | C26: =IFERROR(IF(INDEX('1. Definición_Factores'!$2:$2,1,MATCH(Tbl_ListFactores[[#This Row],[Factor]],'1. Definición_Factores'!$2:$2,0)+2)="","",INDEX('1. Definición_Factores'!$2:$2,1,MATCH(Tbl_ListFactores[[#This Row],[Factor]],'1. Definición_Factores'!$2:$2,0)+2)),"") | D26: =IFERROR(IF(INDEX('1. Definición_Factores'!$6:$6,1,MATCH(Tbl_ListFactores[[#This Row],[Factor]],'1. Definición_Factores'!$2:$2,0)-1)="","",INDEX('1. Definición_Factores'!$6:$6,1,MATCH(Tbl_ListFactores[[#This Row],[Factor]],'1. Definición_Factores'!$2:$2,0)-1)),"") | E26: =IFERROR(IF(INDEX('1. Definición_Factores'!$3:$3,1,MATCH(Tbl_ListFactores[[#This Row],[Factor]],'1. Definición_Factores'!$2:$2,0)+2)="","",INDEX('1. Definición_Factores'!$3:$3,1,MATCH(Tbl_ListFactores[[#This Row],[Factor]],'1. Definición_Factores'!$2:$2,0)+2)),"") | F26: =IFERROR(IF(INDEX('1. Definición_Factores'!$3:$3,1,MATCH(Tbl_ListFactores[[#This Row],[Factor]],'1. Definición_Factores'!$2:$2,0))="","zz",INDEX('1. Definición_Factores'!$3:$3,1,MATCH(Tbl_ListFactores[[#This Row],[Factor]],'1. Definición_Factores'!$2:$2,0))),"zz") -> zz | G26: =IF(Tbl_ListFactores[[#This Row],[Nombre del Factor]]<>"","TblF"&RIGHT(Tbl_ListFactores[[#This Row],[Factor]],LEN(Tbl_ListFactores[[#This Row],[Factor]])-FIND(" ",Tbl_ListFactores[[#This Row],[Factor]])),"") | H26: =IF(AND(Tbl_ListFactores[[#This Row],[Nombre del Factor]]<>"",Tbl_ListFactores[[#This Row],[Género]]<>"",Tbl_ListFactores[[#This Row],[Tipo]]<>""),ROW()-ROW(Tbl_ListFactores[])+1,0) -> 0
B27: FACTOR 26 | C27: =IFERROR(IF(INDEX('1. Definición_Factores'!$2:$2,1,MATCH(Tbl_ListFactores[[#This Row],[Factor]],'1. Definición_Factores'!$2:$2,0)+2)="","",INDEX('1. Definición_Factores'!$2:$2,1,MATCH(Tbl_ListFactores[[#This Row],[Factor]],'1. Definición_Factores'!$2:$2,0)+2)),"") | D27: =IFERROR(IF(INDEX('1. Definición_Factores'!$6:$6,1,MATCH(Tbl_ListFactores[[#This Row],[Factor]],'1. Definición_Factores'!$2:$2,0)-1)="","",INDEX('1. Definición_Factores'!$6:$6,1,MATCH(Tbl_ListFactores[[#This Row],[Factor]],'1. Definición_Factores'!$2:$2,0)-1)),"") | E27: =IFERROR(IF(INDEX('1. Definición_Factores'!$3:$3,1,MATCH(Tbl_ListFactores[[#This Row],[Factor]],'1. Definición_Factores'!$2:$2,0)+2)="","",INDEX('1. Definición_Factores'!$3:$3,1,MATCH(Tbl_ListFactores[[#This Row],[Factor]],'1. Definición_Factores'!$2:$2,0)+2)),"") | F27: =IFERROR(IF(INDEX('1. Definición_Factores'!$3:$3,1,MATCH(Tbl_ListFactores[[#This Row],[Factor]],'1. Definición_Factores'!$2:$2,0))="","zz",INDEX('1. Definición_Factores'!$3:$3,1,MATCH(Tbl_ListFactores[[#This Row],[Factor]],'1. Definición_Factores'!$2:$2,0))),"zz") -> zz | G27: =IF(Tbl_ListFactores[[#This Row],[Nombre del Factor]]<>"","TblF"&RIGHT(Tbl_ListFactores[[#This Row],[Factor]],LEN(Tbl_ListFactores[[#This Row],[Factor]])-FIND(" ",Tbl_ListFactores[[#This Row],[Factor]])),"") | H27: =IF(AND(Tbl_ListFactores[[#This Row],[Nombre del Factor]]<>"",Tbl_ListFactores[[#This Row],[Género]]<>"",Tbl_ListFactores[[#This Row],[Tipo]]<>""),ROW()-ROW(Tbl_ListFactores[])+1,0) -> 0
B28: FACTOR 27 | C28: =IFERROR(IF(INDEX('1. Definición_Factores'!$2:$2,1,MATCH(Tbl_ListFactores[[#This Row],[Factor]],'1. Definición_Factores'!$2:$2,0)+2)="","",INDEX('1. Definición_Factores'!$2:$2,1,MATCH(Tbl_ListFactores[[#This Row],[Factor]],'1. Definición_Factores'!$2:$2,0)+2)),"") | D28: =IFERROR(IF(INDEX('1. Definición_Factores'!$6:$6,1,MATCH(Tbl_ListFactores[[#This Row],[Factor]],'1. Definición_Factores'!$2:$2,0)-1)="","",INDEX('1. Definición_Factores'!$6:$6,1,MATCH(Tbl_ListFactores[[#This Row],[Factor]],'1. Definición_Factores'!$2:$2,0)-1)),"") | E28: =IFERROR(IF(INDEX('1. Definición_Factores'!$3:$3,1,MATCH(Tbl_ListFactores[[#This Row],[Factor]],'1. Definición_Factores'!$2:$2,0)+2)="","",INDEX('1. Definición_Factores'!$3:$3,1,MATCH(Tbl_ListFactores[[#This Row],[Factor]],'1. Definición_Factores'!$2:$2,0)+2)),"") | F28: =IFERROR(IF(INDEX('1. Definición_Factores'!$3:$3,1,MATCH(Tbl_ListFactores[[#This Row],[Factor]],'1. Definición_Factores'!$2:$2,0))="","zz",INDEX('1. Definición_Factores'!$3:$3,1,MATCH(Tbl_ListFactores[[#This Row],[Factor]],'1. Definición_Factores'!$2:$2,0))),"zz") -> zz | G28: =IF(Tbl_ListFactores[[#This Row],[Nombre del Factor]]<>"","TblF"&RIGHT(Tbl_ListFactores[[#This Row],[Factor]],LEN(Tbl_ListFactores[[#This Row],[Factor]])-FIND(" ",Tbl_ListFactores[[#This Row],[Factor]])),"") | H28: =IF(AND(Tbl_ListFactores[[#This Row],[Nombre del Factor]]<>"",Tbl_ListFactores[[#This Row],[Género]]<>"",Tbl_ListFactores[[#This Row],[Tipo]]<>""),ROW()-ROW(Tbl_ListFactores[])+1,0) -> 0
B29: FACTOR 28 | C29: =IFERROR(IF(INDEX('1. Definición_Factores'!$2:$2,1,MATCH(Tbl_ListFactores[[#This Row],[Factor]],'1. Definición_Factores'!$2:$2,0)+2)="","",INDEX('1. Definición_Factores'!$2:$2,1,MATCH(Tbl_ListFactores[[#This Row],[Factor]],'1. Definición_Factores'!$2:$2,0)+2)),"") | D29: =IFERROR(IF(INDEX('1. Definición_Factores'!$6:$6,1,MATCH(Tbl_ListFactores[[#This Row],[Factor]],'1. Definición_Factores'!$2:$2,0)-1)="","",INDEX('1. Definición_Factores'!$6:$6,1,MATCH(Tbl_ListFactores[[#This Row],[Factor]],'1. Definición_Factores'!$2:$2,0)-1)),"") | E29: =IFERROR(IF(INDEX('1. Definición_Factores'!$3:$3,1,MATCH(Tbl_ListFactores[[#This Row],[Factor]],'1. Definición_Factores'!$2:$2,0)+2)="","",INDEX('1. Definición_Factores'!$3:$3,1,MATCH(Tbl_ListFactores[[#This Row],[Factor]],'1. Definición_Factores'!$2:$2,0)+2)),"") | F29: =IFERROR(IF(INDEX('1. Definición_Factores'!$3:$3,1,MATCH(Tbl_ListFactores[[#This Row],[Factor]],'1. Definición_Factores'!$2:$2,0))="","zz",INDEX('1. Definición_Factores'!$3:$3,1,MATCH(Tbl_ListFactores[[#This Row],[Factor]],'1. Definición_Factores'!$2:$2,0))),"zz") -> zz | G29: =IF(Tbl_ListFactores[[#This Row],[Nombre del Factor]]<>"","TblF"&RIGHT(Tbl_ListFactores[[#This Row],[Factor]],LEN(Tbl_ListFactores[[#This Row],[Factor]])-FIND(" ",Tbl_ListFactores[[#This Row],[Factor]])),"") | H29: =IF(AND(Tbl_ListFactores[[#This Row],[Nombre del Factor]]<>"",Tbl_ListFactores[[#This Row],[Género]]<>"",Tbl_ListFactores[[#This Row],[Tipo]]<>""),ROW()-ROW(Tbl_ListFactores[])+1,0) -> 0
B30: FACTOR 29 | C30: =IFERROR(IF(INDEX('1. Definición_Factores'!$2:$2,1,MATCH(Tbl_ListFactores[[#This Row],[Factor]],'1. Definición_Factores'!$2:$2,0)+2)="","",INDEX('1. Definición_Factores'!$2:$2,1,MATCH(Tbl_ListFactores[[#This Row],[Factor]],'1. Definición_Factores'!$2:$2,0)+2)),"") | D30: =IFERROR(IF(INDEX('1. Definición_Factores'!$6:$6,1,MATCH(Tbl_ListFactores[[#This Row],[Factor]],'1. Definición_Factores'!$2:$2,0)-1)="","",INDEX('1. Definición_Factores'!$6:$6,1,MATCH(Tbl_ListFactores[[#This Row],[Factor]],'1. Definición_Factores'!$2:$2,0)-1)),"") | E30: =IFERROR(IF(INDEX('1. Definición_Factores'!$3:$3,1,MATCH(Tbl_ListFactores[[#This Row],[Factor]],'1. Definición_Factores'!$2:$2,0)+2)="","",INDEX('1. Definición_Factores'!$3:$3,1,MATCH(Tbl_ListFactores[[#This Row],[Factor]],'1. Definición_Factores'!$2:$2,0)+2)),"") | F30: =IFERROR(IF(INDEX('1. Definición_Factores'!$3:$3,1,MATCH(Tbl_ListFactores[[#This Row],[Factor]],'1. Definición_Factores'!$2:$2,0))="","zz",INDEX('1. Definición_Factores'!$3:$3,1,MATCH(Tbl_ListFactores[[#This Row],[Factor]],'1. Definición_Factores'!$2:$2,0))),"zz") -> zz | G30: =IF(Tbl_ListFactores[[#This Row],[Nombre del Factor]]<>"","TblF"&RIGHT(Tbl_ListFactores[[#This Row],[Factor]],LEN(Tbl_ListFactores[[#This Row],[Factor]])-FIND(" ",Tbl_ListFactores[[#This Row],[Factor]])),"") | H30: =IF(AND(Tbl_ListFactores[[#This Row],[Nombre del Factor]]<>"",Tbl_ListFactores[[#This Row],[Género]]<>"",Tbl_ListFactores[[#This Row],[Tipo]]<>""),ROW()-ROW(Tbl_ListFactores[])+1,0) -> 0
B31: FACTOR 30 | C31: =IFERROR(IF(INDEX('1. Definición_Factores'!$2:$2,1,MATCH(Tbl_ListFactores[[#This Row],[Factor]],'1. Definición_Factores'!$2:$2,0)+2)="","",INDEX('1. Definición_Factores'!$2:$2,1,MATCH(Tbl_ListFactores[[#This Row],[Factor]],'1. Definición_Factores'!$2:$2,0)+2)),"") | D31: =IFERROR(IF(INDEX('1. Definición_Factores'!$6:$6,1,MATCH(Tbl_ListFactores[[#This Row],[Factor]],'1. Definición_Factores'!$2:$2,0)-1)="","",INDEX('1. Definición_Factores'!$6:$6,1,MATCH(Tbl_ListFactores[[#This Row],[Factor]],'1. Definición_Factores'!$2:$2,0)-1)),"") | E31: =IFERROR(IF(INDEX('1. Definición_Factores'!$3:$3,1,MATCH(Tbl_ListFactores[[#This Row],[Factor]],'1. Definición_Factores'!$2:$2,0)+2)="","",INDEX('1. Definición_Factores'!$3:$3,1,MATCH(Tbl_ListFactores[[#This Row],[Factor]],'1. Definición_Factores'!$2:$2,0)+2)),"") | F31: =IFERROR(IF(INDEX('1. Definición_Factores'!$3:$3,1,MATCH(Tbl_ListFactores[[#This Row],[Factor]],'1. Definición_Factores'!$2:$2,0))="","zz",INDEX('1. Definición_Factores'!$3:$3,1,MATCH(Tbl_ListFactores[[#This Row],[Factor]],'1. Definición_Factores'!$2:$2,0))),"zz") -> zz | G31: =IF(Tbl_ListFactores[[#This Row],[Nombre del Factor]]<>"","TblF"&RIGHT(Tbl_ListFactores[[#This Row],[Factor]],LEN(Tbl_ListFactores[[#This Row],[Factor]])-FIND(" ",Tbl_ListFactores[[#This Row],[Factor]])),"") | H31: =IF(AND(Tbl_ListFactores[[#This Row],[Nombre del Factor]]<>"",Tbl_ListFactores[[#This Row],[Género]]<>"",Tbl_ListFactores[[#This Row],[Tipo]]<>""),ROW()-ROW(Tbl_ListFactores[])+1,0) -> 0

Sheet 1. Definición_Factores
A2: Seleccione el Código del factor al que desea ir y haga clic en la celda verde | C2: CÓDIGO FACTOR | D2: FACTOR 1 | E2: NOMBRE | H2: CÓDIGO FACTOR | I2: FACTOR 2 | J2: NOMBRE | M2: CÓDIGO FACTOR | N2: FACTOR 3 | O2: NOMBRE | R2: CÓDIGO FACTOR | S2: FACTOR 4 | T2: NOMBRE | W2: CÓDIGO FACTOR | X2: FACTOR 5 | Y2: NOMBRE | AB2: CÓDIGO FACTOR | AC2: FACTOR 6 | AD2: NOMBRE | AG2: CÓDIGO FACTOR | AH2: FACTOR 7 | AI2: NOMBRE | AL2: CÓDIGO FACTOR | AM2: FACTOR 8 | AN2: NOMBRE | AQ2: CÓDIGO FACTOR | AR2: FACTOR 9 | AS2: NOMBRE | AV2: CÓDIGO FACTOR | AW2: FACTOR 10 | AX2: NOMBRE | BA2: CÓDIGO FACTOR | BB2: FACTOR 11 | BC2: NOMBRE | BF2: CÓDIGO FACTOR | BG2: FACTOR 12 | BH2: NOMBRE | BK2: CÓDIGO FACTOR | BL2: FACTOR 13 | BM2: NOMBRE | BP2: CÓDIGO FACTOR | BQ2: FACTOR 14 | BR2: NOMBRE | BU2: CÓDIGO FACTOR | BV2: FACTOR 15 | BW2: NOMBRE | BZ2: CÓDIGO FACTOR | CA2: FACTOR 16 | CB2: NOMBRE | CE2: CÓDIGO FACTOR | CF2: FACTOR 17 | CG2: NOMBRE | CJ2: CÓDIGO FACTOR | CK2: FACTOR 18 | CL2: NOMBRE | CO2: CÓDIGO FACTOR | CP2: FACTOR 19 | CQ2: NOMBRE | CT2: CÓDIGO FACTOR | CU2: FACTOR 20 | CV2: NOMBRE | CY2: CÓDIGO FACTOR | CZ2: FACTOR 21 | DA2: NOMBRE | DD2: CÓDIGO FACTOR | DE2: FACTOR 22 | DF2: NOMBRE | DI2: CÓDIGO FACTOR | DJ2: FACTOR 23 | DK2: NOMBRE | DN2: CÓDIGO FACTOR | DO2: FACTOR 24 | DP2: NOMBRE | DS2: CÓDIGO FACTOR | DT2: FACTOR 25 | DU2: NOMBRE | DX2: CÓDIGO FACTOR | DY2: FACTOR 26 | DZ2: NOMBRE | EC2: CÓDIGO FACTOR | ED2: FACTOR 27 | EE2: NOMBRE | EH2: CÓDIGO FACTOR | EI2: FACTOR 28 | EJ2: NOMBRE | EM2: CÓDIGO FACTOR | EN2: FACTOR 29 | EO2: NOMBRE | ER2: CÓDIGO FACTOR | ES2: FACTOR 30 | ET2: NOMBRE
A3: FACTOR 1 | C3: TIPO | E3: GÉNERO | H3: TIPO | J3: GÉNERO | M3: TIPO | O3: GÉNERO | R3: TIPO | T3: GÉNERO | W3: TIPO | Y3: GÉNERO | AB3: TIPO | AD3: GÉNERO | AG3: TIPO | AI3: GÉNERO | AL3: TIPO | AN3: GÉNERO | AQ3: GRUPO | AS3: GÉNERO | AV3: GRUPO | AX3: GÉNERO | BA3: TIPO | BC3: GÉNERO | BF3: TIPO | BH3: GÉNERO | BK3: TIPO | BM3: GÉNERO | BP3: TIPO | BR3: GÉNERO | BU3: TIPO | BW3: GÉNERO | BZ3: TIPO | CB3: GÉNERO | CE3: TIPO | CG3: GÉNERO | CJ3: TIPO | CL3: GÉNERO | CO3: TIPO | CQ3: GÉNERO | CT3: TIPO | CV3: GÉNERO | CY3: TIPO | DA3: GÉNERO | DD3: TIPO | DF3: GÉNERO | DI3: TIPO | DK3: GÉNERO | DN3: TIPO | DP3: GÉNERO | DS3: TIPO | DU3: GÉNERO | DX3: TIPO | DZ3: GÉNERO | EC3: TIPO | EE3: GÉNERO | EH3: TIPO | EJ3: GÉNERO | EM3: TIPO | EO3: GÉNERO | ER3: TIPO | ET3: GÉNERO
A4: =HYPERLINK("#"&"TblF"&RIGHT($A$3,LEN($A$3)-FIND(" ",$A$3)),"Ir a … " ) -> Ir a … | C4: =IF(OR(F2="",D3="",F3=""),"Rellenar campos obligatorios: nombre de factor, tipo y género","") -> Rellenar campos obligatorios: nombre de factor, tipo y género | H4: =IF(OR(K2="",I3="",K3=""),"Rellenar campos obligatorios: nombre de factor, tipo y género","") -> Rellenar campos obligatorios: nombre de factor, tipo y género | M4: =IF(OR(P2="",N3="",P3=""),"Rellenar campos obligatorios: nombre de factor, tipo y género","") -> Rellenar campos obligatorios: nombre de factor, tipo y género | R4: =IF(OR(U2="",S3="",U3=""),"Rellenar campos obligatorios: nombre de factor, tipo y género","") -> Rellenar campos obligatorios: nombre de factor, tipo y género | W4: =IF(OR(Z2="",X3="",Z3=""),"Rellenar campos obligatorios: nombre de factor, tipo y género","") -> Rellenar campos obligatorios: nombre de factor, tipo y género | AB4: =IF(OR(AE2="",AC3="",AE3=""),"Rellenar campos obligatorios: nombre de factor, tipo y género","") -> Rellenar campos obligatorios: nombre de factor, tipo y género | AG4: =IF(OR(AJ2="",AH3="",AJ3=""),"Rellenar campos obligatorios: nombre de factor, tipo y género","") -> Rellenar campos obligatorios: nombre de factor, tipo y género | AL4: =IF(OR(AO2="",AM3="",AO3=""),"Rellenar campos obligatorios: nombre de factor, tipo y género","") -> Rellenar campos obligatorios: nombre de factor, tipo y género | AQ4: =IF(OR(AT2="",AR3="",AT3=""),"Rellenar campos obligatorios: nombre de factor, tipo y género","") -> Rellenar campos obligatorios: nombre de factor, tipo y género | AV4: =IF(OR(AY2="",AW3="",AY3=""),"Por favor, complete los tres campos: NOMBRE FACTOR, GRUPO y GÉNERO!!!","") -> Por favor, complete los tres campos: NOMBRE FACTOR, GRUPO y GÉNERO!!! | BA4: =IF(OR(BD2="",BB3="",BD3=""),"Rellenar campos obligatorios: nombre de factor, tipo y género","") -> Rellenar campos obligatorios: nombre de factor, tipo y género | BF4: =IF(OR(BI2="",BG3="",BI3=""),"Rellenar campos obligatorios: nombre de factor, tipo y género","") -> Rellenar campos obligatorios: nombre de factor, tipo y género | BK4: =IF(OR(BN2="",BL3="",BN3=""),"Rellenar campos obligatorios: nombre de factor, tipo y género","") -> Rellenar campos obligatorios: nombre de factor, tipo y género | BP4: =IF(OR(BS2="",BQ3="",BS3=""),"Rellenar campos obligatorios: nombre de factor, tipo y género","") -> Rellenar campos obligatorios: nombre de factor, tipo y género | BU4: =IF(OR(BX2="",BV3="",BX3=""),"Rellenar campos obligatorios: nombre de factor, tipo y género","") -> Rellenar campos obligatorios: nombre de factor, tipo y género | BZ4: =IF(OR(CC2="",CA3="",CC3=""),"Rellenar campos obligatorios: nombre de factor, tipo y género","") -> Rellenar campos obligatorios: nombre de factor, tipo y género | CE4: =IF(OR(CH2="",CF3="",CH3=""),"Rellenar campos obligatorios: nombre de factor, tipo y género","") -> Rellenar campos obligatorios: nombre de factor, tipo y género | CJ4: =IF(OR(CM2="",CK3="",CM3=""),"Rellenar campos obligatorios: nombre de factor, tipo y género","") -> Rellenar campos obligatorios: nombre de factor, tipo y género | CO4: =IF(OR(CR2="",CP3="",CR3=""),"Rellenar campos obligatorios: nombre de factor, tipo y género","") -> Rellenar campos obligatorios: nombre de factor, tipo y género | CT4: =IF(OR(CW2="",CU3="",CW3=""),"Rellenar campos obligatorios: nombre de factor, tipo y género","") -> Rellenar campos obligatorios: nombre de factor, tipo y género | CY4: =IF(OR(DB2="",CZ3="",DB3=""),"Rellenar campos obligatorios: nombre de factor, tipo y género","") -> Rellenar campos obligatorios: nombre de factor, tipo y género | DD4: =IF(OR(DG2="",DE3="",DG3=""),"Rellenar campos obligatorios: nombre de factor, tipo y género","") -> Rellenar campos obligatorios: nombre de factor, tipo y género | DI4: =IF(OR(DL2="",DJ3="",DL3=""),"Rellenar campos obligatorios: nombre de factor, tipo y género","") -> Rellenar campos obligatorios: nombre de factor, tipo y género | DN4: =IF(OR(DQ2="",DO3="",DQ3=""),"Rellenar campos obligatorios: nombre de factor, tipo y género","") -> Rellenar campos obligatorios: nombre de factor, tipo y género | DS4: =IF(OR(DV2="",DT3="",DV3=""),"Rellenar campos obligatorios: nombre de factor, tipo y género","") -> Rellenar campos obligatorios: nombre de factor, tipo y género | DX4: =IF(OR(EA2="",DY3="",EA3=""),"Rellenar campos obligatorios: nombre de factor, tipo y género","") -> Rellenar campos obligatorios: nombre de factor, tipo y género | EC4: =IF(OR(EF2="",ED3="",EF3=""),"Rellenar campos obligatorios: nombre de factor, tipo y género","") -> Rellenar campos obligatorios: nombre de factor, tipo y género | EH4: =IF(OR(EK2="",EI3="",EK3=""),"Rellenar campos obligatorios: nombre de factor, tipo y género","") -> Rellenar campos obligatorios: nombre de factor, tipo y género | EM4: =IF(OR(EP2="",EN3="",EP3=""),"Rellenar campos obligatorios: nombre de factor, tipo y género","") -> Rellenar campos obligatorios: nombre de factor, tipo y género | ER4: =IF(OR(EU2="",ES3="",EU3=""),"Rellenar campos obligatorios: nombre de factor, tipo y género","") -> Rellenar campos obligatorios: nombre de factor, tipo y género
C5: DESCRIPCIÓN | H5: DESCRIPCIÓN | M5: DESCRIPCIÓN | R5: DESCRIPCIÓN | W5: DESCRIPCIÓN | AB5: DESCRIPCIÓN | AG5: DESCRIPCIÓN | AL5: DESCRIPCIÓN | AQ5: DESCRIPCIÓN | AV5: DESCRIPCIÓN | BA5: DESCRIPCIÓN | BF5: DESCRIPCIÓN | BK5: DESCRIPCIÓN | BP5: DESCRIPCIÓN | BU5: DESCRIPCIÓN | BZ5: DESCRIPCIÓN | CE5: DESCRIPCIÓN | CJ5: DESCRIPCIÓN | CO5: DESCRIPCIÓN | CT5: DESCRIPCIÓN | CY5: DESCRIPCIÓN | DD5: DESCRIPCIÓN | DI5: DESCRIPCIÓN | DN5: DESCRIPCIÓN | DS5: DESCRIPCIÓN | DX5: DESCRIPCIÓN | EC5: DESCRIPCIÓN | EH5: DESCRIPCIÓN | EM5: DESCRIPCIÓN | ER5: DESCRIPCIÓN
C10: ESCALA | F10: =IF(COUNTA(TblF1[PUNTOS])<>COUNTA(TblF1[NIVEL]),"Atención, hay que completar el campo <PUNTOS>",IF(OR(MIN(TblF1[PUNTOS])<>VMin,MAX(TblF1[PUNTOS])<>10),"Atención, el mínimo debe ser "&VMin&" y el máximo 10","")) -> Atención, el mínimo debe ser 1 y el máximo 10 | H10: ESCALA | K10: =IF(COUNTA(TblF2[PUNTOS])<>COUNTA(TblF2[NIVEL]),"Atención, hay que completar el campo <PUNTOS>",IF(OR(MIN(TblF2[PUNTOS])<>VMin,MAX(TblF2[PUNTOS])<>10),"Atención, el mínimo debe ser "&VMin&" y el máximo 10","")) -> Atención, el mínimo debe ser 1 y el máximo 10 | M10: ESCALA | P10: =IF(COUNTA(TblF3[PUNTOS])<>COUNTA(TblF3[NIVEL]),"Atención, hay que completar el campo <PUNTOS>",IF(OR(MIN(TblF3[PUNTOS])<>VMin,MAX(TblF3[PUNTOS])<>10),"Atención, el mínimo debe ser "&VMin&" y el máximo 10","")) -> Atención, el mínimo debe ser 1 y el máximo 10 | R10: ESCALA | U10: =IF(COUNTA(TblF4[PUNTOS])<>COUNTA(TblF4[NIVEL]),"Atención, hay que completar el campo <PUNTOS>",IF(OR(MIN(TblF4[PUNTOS])<>VMin,MAX(TblF4[PUNTOS])<>10),"Atención, el mínimo debe ser "&VMin&" y el máximo 10","")) -> Atención, el mínimo debe ser 1 y el máximo 10 | W10: ESCALA | Z10: =IF(COUNTA(TblF5[PUNTOS])<>COUNTA(TblF5[NIVEL]),"Atención, hay que completar el campo <PUNTOS>",IF(OR(MIN(TblF5[PUNTOS])<>VMin,MAX(TblF5[PUNTOS])<>10),"Atención, el mínimo debe ser "&VMin&" y el máximo 10","")) -> Atención, el mínimo debe ser 1 y el máximo 10 | AB10: ESCALA | AE10: =IF(COUNTA(TblF6[PUNTOS])<>COUNTA(TblF6[NIVEL]),"Atención, hay que completar el campo <PUNTOS>",IF(OR(MIN(TblF6[PUNTOS])<>VMin,MAX(TblF6[PUNTOS])<>10),"Atención, el mínimo debe ser "&VMin&" y el máximo 10","")) -> Atención, el mínimo debe ser 1 y el máximo 10 | AG10: ESCALA | AJ10: =IF(COUNTA(TblF7[PUNTOS])<>COUNTA(TblF7[NIVEL]),"Atención, hay que completar el campo <PUNTOS>",IF(OR(MIN(TblF7[PUNTOS])<>VMin,MAX(TblF7[PUNTOS])<>10),"Atención, el mínimo debe ser "&VMin&" y el máximo 10","")) -> Atención, el mínimo debe ser 1 y el máximo 10 | AL10: ESCALA | AO10: =IF(COUNTA(TblF8[PUNTOS])<>COUNTA(TblF8[NIVEL]),"Atención, hay que completar el campo <PUNTOS>",IF(OR(MIN(TblF8[PUNTOS])<>VMin,MAX(TblF8[PUNTOS])<>10),"Atención, el mínimo debe ser "&VMin&" y el máximo 10","")) -> Atención, el mínimo debe ser 1 y el máximo 10 | AQ10: ESCALA | AT10: =IF(COUNTA(TblF9[PUNTOS])<>COUNTA(TblF9[NIVEL]),"Atención, hay que completar el campo <PUNTOS>",IF(OR(MIN(TblF9[PUNTOS])<>VMin,MAX(TblF9[PUNTOS])<>10),"Atención, el mínimo debe ser "&VMin&" y el máximo 10","")) -> Atención, el mínimo debe ser 1 y el máximo 10 | AV10: ESCALA | AY10: =IF(COUNTA(TblF10[PUNTOS])<>COUNTA(TblF10[NIVEL]),"Atención, hay que completar el campo <PUNTOS>",IF(OR(MIN(TblF10[PUNTOS])<>VMin,MAX(TblF10[PUNTOS])<>10),"Atención, el mínimo debe ser "&VMin&" y el máximo 10","")) -> Atención, el mínimo debe ser 1 y el máximo 10 | BA10: ESCALA | BD10: =IF(COUNTA(TblF11[PUNTOS])<>COUNTA(TblF11[NIVEL]),"Atención, hay que completar el campo <PUNTOS>",IF(OR(MIN(TblF11[PUNTOS])<>VMin,MAX(TblF11[PUNTOS])<>10),"Atención, el mínimo debe ser "&VMin&" y el máximo 10","")) -> Atención, el mínimo debe ser 1 y el máximo 10 | BF10: ESCALA | BI10: =IF(COUNTA(TblF12[PUNTOS])<>COUNTA(TblF12[NIVEL]),"Atención, hay que completar el campo <PUNTOS>",IF(OR(MIN(TblF12[PUNTOS])<>VMin,MAX(TblF12[PUNTOS])<>10),"Atención, el mínimo debe ser "&VMin&" y el máximo 10","")) -> Atención, el mínimo debe ser 1 y el máximo 10 | BK10: ESCALA | BN10: =IF(COUNTA(TblF13[PUNTOS])<>COUNTA(TblF13[NIVEL]),"Atención, hay que completar el campo <PUNTOS>",IF(OR(MIN(TblF13[PUNTOS])<>VMin,MAX(TblF13[PUNTOS])<>10),"Atención, el mínimo debe ser "&VMin&" y el máximo 10","")) -> Atención, el mínimo debe ser 1 y el máximo 10 | BP10: ESCALA | BS10: =IF(COUNTA(TblF14[PUNTOS])<>COUNTA(TblF14[NIVEL]),"Atención, hay que completar el campo <PUNTOS>",IF(OR(MIN(TblF14[PUNTOS])<>VMin,MAX(TblF14[PUNTOS])<>10),"Atención, el mínimo debe ser "&VMin&" y el máximo 10","")) -> Atención, el mínimo debe ser 1 y el máximo 10 | BU10: ESCALA | BX10: =IF(COUNTA(TblF15[PUNTOS])<>COUNTA(TblF15[NIVEL]),"Atención, hay que completar el campo <PUNTOS>",IF(OR(MIN(TblF15[PUNTOS])<>VMin,MAX(TblF15[PUNTOS])<>10),"Atención, el mínimo debe ser "&VMin&" y el máximo 10","")) -> Atención, el mínimo debe ser 1 y el máximo 10 | BZ10: ESCALA | CC10: =IF(COUNTA(TblF16[PUNTOS])<>COUNTA(TblF16[NIVEL]),"Atención, hay que completar el campo <PUNTOS>",IF(OR(MIN(TblF16[PUNTOS])<>VMin,MAX(TblF16[PUNTOS])<>10),"Atención, el mínimo debe ser "&VMin&" y el máximo 10","")) -> Atención, el mínimo debe ser 1 y el máximo 10 | CE10: ESCALA | CH10: =IF(COUNTA(TblF17[PUNTOS])<>COUNTA(TblF17[NIVEL]),"Atención, hay que completar el campo <PUNTOS>",IF(OR(MIN(TblF17[PUNTOS])<>VMin,MAX(TblF17[PUNTOS])<>10),"Atención, el mínimo debe ser "&VMin&" y el máximo 10","")) -> Atención, el mínimo debe ser 1 y el máximo 10 | CJ10: ESCALA | CM10: =IF(COUNTA(TblF18[PUNTOS])<>COUNTA(TblF18[NIVEL]),"Atención, hay que completar el campo <PUNTOS>",IF(OR(MIN(TblF18[PUNTOS])<>VMin,MAX(TblF18[PUNTOS])<>10),"Atención, el mínimo debe ser "&VMin&" y el máximo 10","")) -> Atención, el mínimo debe ser 1 y el máximo 10 | CO10: ESCALA | CR10: =IF(COUNTA(TblF19[PUNTOS])<>COUNTA(TblF19[NIVEL]),"Atención, hay que completar el campo <PUNTOS>",IF(OR(MIN(TblF19[PUNTOS])<>VMin,MAX(TblF19[PUNTOS])<>10),"Atención, el mínimo debe ser "&VMin&" y el máximo 10","")) -> Atención, el mínimo debe ser 1 y el máximo 10 | CT10: ESCALA | CW10: =IF(COUNTA(TblF20[PUNTOS])<>COUNTA(TblF20[NIVEL]),"Atención, hay que completar el campo <PUNTOS>",IF(OR(MIN(TblF20[PUNTOS])<>VMin,MAX(TblF20[PUNTOS])<>10),"Atención, el mínimo debe ser "&VMin&" y el máximo 10","")) -> Atención, el mínimo debe ser 1 y el máximo 10 | CY10: ESCALA | DB10: =IF(COUNTA(TblF21[PUNTOS])<>COUNTA(TblF21[NIVEL]),"Atención, hay que completar el campo <PUNTOS>",IF(OR(MIN(TblF21[PUNTOS])<>VMin,MAX(TblF21[PUNTOS])<>10),"Atención, el mínimo debe ser "&VMin&" y el máximo 10","")) -> Atención, el mínimo debe ser 1 y el máximo 10 | DD10: ESCALA | DG10: =IF(COUNTA(TblF22[PUNTOS])<>COUNTA(TblF22[NIVEL]),"Atención, hay que completar el campo <PUNTOS>",IF(OR(MIN(TblF22[PUNTOS])<>VMin,MAX(TblF22[PUNTOS])<>10),"Atención, el mínimo debe ser "&VMin&" y el máximo 10","")) -> Atención, el mínimo debe ser 1 y el máximo 10 | DI10: ESCALA | DL10: =IF(COUNTA(TblF23[PUNTOS])<>COUNTA(TblF23[NIVEL]),"Atención, hay que completar el campo <PUNTOS>",IF(OR(MIN(TblF23[PUNTOS])<>VMin,MAX(TblF23[PUNTOS])<>10),"Atención, el mínimo debe ser "&VMin&" y el máximo 10","")) -> Atención, el mínimo debe ser 1 y el máximo 10 | DN10: ESCALA | DQ10: =IF(COUNTA(TblF24[PUNTOS])<>COUNTA(TblF24[NIVEL]),"Atención, hay que completar el campo <PUNTOS>",IF(OR(MIN(TblF24[PUNTOS])<>VMin,MAX(TblF24[PUNTOS])<>10),"Atención, el mínimo debe ser "&VMin&" y el máximo 10","")) -> Atención, el mínimo debe ser 1 y el máximo 10 | DS10: ESCALA | DV10: =IF(COUNTA(TblF25[PUNTOS])<>COUNTA(TblF25[NIVEL]),"Atención, hay que completar el campo <PUNTOS>",IF(OR(MIN(TblF25[PUNTOS])<>VMin,MAX(TblF25[PUNTOS])<>10),"Atención, el mínimo debe ser "&VMin&" y el máximo 10","")) -> Atención, el mínimo debe ser 1 y el máximo 10 | DX10: ESCALA | EA10: =IF(COUNTA(TblF26[PUNTOS])<>COUNTA(TblF26[NIVEL]),"Atención, hay que completar el campo <PUNTOS>",IF(OR(MIN(TblF26[PUNTOS])<>VMin,MAX(TblF26[PUNTOS])<>10),"Atención, el mínimo debe ser "&VMin&" y el máximo 10","")) -> Atención, el mínimo debe ser 1 y el máximo 10 | EC10: ESCALA | EF10: =IF(COUNTA(TblF27[PUNTOS])<>COUNTA(TblF27[NIVEL]),"Atención, hay que completar el campo <PUNTOS>",IF(OR(MIN(TblF27[PUNTOS])<>VMin,MAX(TblF27[PUNTOS])<>10),"Atención, el mínimo debe ser "&VMin&" y el máximo 10","")) -> Atención, el mínimo debe ser 1 y el máximo 10 | EH10: ESCALA | EK10: =IF(COUNTA(TblF28[PUNTOS])<>COUNTA(TblF28[NIVEL]),"Atención, hay que completar el campo <PUNTOS>",IF(OR(MIN(TblF28[PUNTOS])<>VMin,MAX(TblF28[PUNTOS])<>10),"Atención, el mínimo debe ser "&VMin&" y el máximo 10","")) -> Atención, el mínimo debe ser 1 y el máximo 10 | EM10: ESCALA | EP10: =IF(COUNTA(TblF29[PUNTOS])<>COUNTA(TblF29[NIVEL]),"Atención, hay que completar el campo <PUNTOS>",IF(OR(MIN(TblF29[PUNTOS])<>VMin,MAX(TblF29[PUNTOS])<>10),"Atención, el mínimo debe ser "&VMin&" y el máximo 10","")) -> Atención, el mínimo debe ser 1 y el máximo 10 | ER10: ESCALA | EU10: =IF(COUNTA(TblF30[PUNTOS])<>COUNTA(TblF30[NIVEL]),"Atención, hay que completar el campo <PUNTOS>",IF(OR(MIN(TblF30[PUNTOS])<>VMin,MAX(TblF30[PUNTOS])<>10),"Atención, el mínimo debe ser "&VMin&" y el máximo 10","")) -> Atención, el mínimo debe ser 1 y el máximo 10
C11: NIVEL | D11: NOMBRE CORTO | E11: DESCRIPCIÓN | F11: PUNTOS | H11: NIVEL | I11: NOMBRE CORTO | J11: DESCRIPCIÓN | K11: PUNTOS | M11: NIVEL | N11: NOMBRE CORTO | O11: DESCRIPCIÓN | P11: PUNTOS | R11: NIVEL | S11: NOMBRE CORTO | T11: DESCRIPCIÓN | U11: PUNTOS | W11: NIVEL | X11: NOMBRE CORTO | Y11: DESCRIPCIÓN | Z11: PUNTOS | AB11: NIVEL | AC11: NOMBRE CORTO | AD11: DESCRIPCIÓN | AE11: PUNTOS | AG11: NIVEL | AH11: NOMBRE CORTO | AI11: DESCRIPCIÓN | AJ11: PUNTOS | AL11: NIVEL | AM11: NOMBRE CORTO | AN11: DESCRIPCIÓN | AO11: PUNTOS | AQ11: NIVEL | AR11: NOMBRE CORTO | AS11: DESCRIPCIÓN | AT11: PUNTOS | AV11: NIVEL | AW11: NOMBRE CORTO | AX11: DESCRIPCIÓN | AY11: PUNTOS | BA11: NIVEL | BB11: NOMBRE CORTO | BC11: DESCRIPCIÓN | BD11: PUNTOS | BF11: NIVEL | BG11: NOMBRE CORTO | BH11: DESCRIPCIÓN | BI11: PUNTOS | BK11: NIVEL | BL11: NOMBRE CORTO | BM11: DESCRIPCIÓN | BN11: PUNTOS | BP11: NIVEL | BQ11: NOMBRE CORTO | BR11: DESCRIPCIÓN | BS11: PUNTOS | BU11: NIVEL | BV11: NOMBRE CORTO | BW11: DESCRIPCIÓN | BX11: PUNTOS | BZ11: NIVEL | CA11: NOMBRE CORTO | CB11: DESCRIPCIÓN | CC11: PUNTOS | CE11: NIVEL | CF11: NOMBRE CORTO | CG11: DESCRIPCIÓN | CH11: PUNTOS | CJ11: NIVEL | CK11: NOMBRE CORTO | CL11: DESCRIPCIÓN | CM11: PUNTOS | CO11: NIVEL | CP11: NOMBRE CORTO | CQ11: DESCRIPCIÓN | CR11: PUNTOS | CT11: NIVEL | CU11: NOMBRE CORTO | CV11: DESCRIPCIÓN | CW11: PUNTOS | CY11: NIVEL | CZ11: NOMBRE CORTO | DA11: DESCRIPCIÓN | DB11: PUNTOS | DD11: NIVEL | DE11: NOMBRE CORTO | DF11: DESCRIPCIÓN | DG11: PUNTOS | DI11: NIVEL | DJ11: NOMBRE CORTO | DK11: DESCRIPCIÓN | DL11: PUNTOS | DN11: NIVEL | DO11: NOMBRE CORTO | DP11: DESCRIPCIÓN | DQ11: PUNTOS | DS11: NIVEL | DT11: NOMBRE CORTO | DU11: DESCRIPCIÓN | DV11: PUNTOS | DX11: NIVEL | DY11: NOMBRE CORTO | DZ11: DESCRIPCIÓN | EA11: PUNTOS | EC11: NIVEL | ED11: NOMBRE CORTO | EE11: DESCRIPCIÓN | EF11: PUNTOS | EH11: NIVEL | EI11: NOMBRE CORTO | EJ11: DESCRIPCIÓN | EK11: PUNTOS | EM11: NIVEL | EN11: NOMBRE CORTO | EO11: DESCRIPCIÓN | EP11: PUNTOS | ER11: NIVEL | ES11: NOMBRE CORTO | ET11: DESCRIPCIÓN | EU11: PUNTOS
C12: 0 | F12: =VLOOKUP(COUNTA(TblF1[NIVEL]),PtosFactores,MATCH(ROW()-ROW(TblF1[])+1,CabPtosFactores,0),0) -> 1 | H12: 0 | K12: =VLOOKUP(COUNTA(TblF2[NIVEL]),PtosFactores,MATCH(ROW()-ROW(TblF2[])+1,CabPtosFactores,0),0) -> 1 | M12: 0 | P12: =VLOOKUP(COUNTA(TblF3[NIVEL]),PtosFactores,MATCH(ROW()-ROW(TblF3[])+1,CabPtosFactores,0),0) -> 1 | R12: 0 | U12: =VLOOKUP(COUNTA(TblF4[NIVEL]),PtosFactores,MATCH(ROW()-ROW(TblF4[])+1,CabPtosFactores,0),0) -> 1 | W12: 0 | Z12: =VLOOKUP(COUNTA(TblF5[NIVEL]),PtosFactores,MATCH(ROW()-ROW(TblF5[])+1,CabPtosFactores,0),0) -> 1 | AB12: 0 | AE12: =VLOOKUP(COUNTA(TblF6[NIVEL]),PtosFactores,MATCH(ROW()-ROW(TblF6[])+1,CabPtosFactores,0),0) -> 1 | AG12: 0 | AJ12: =VLOOKUP(COUNTA(TblF7[NIVEL]),PtosFactores,MATCH(ROW()-ROW(TblF7[])+1,CabPtosFactores,0),0) -> 1 | AL12: 0 | AO12: =VLOOKUP(COUNTA(TblF8[NIVEL]),PtosFactores,MATCH(ROW()-ROW(TblF8[])+1,CabPtosFactores,0),0) -> 1 | AQ12: 0 | AT12: =VLOOKUP(COUNTA(TblF9[NIVEL]),PtosFactores,MATCH(ROW()-ROW(TblF9[])+1,CabPtosFactores,0),0) -> 1 | AV12: 0 | AY12: =VLOOKUP(COUNTA(TblF10[NIVEL]),PtosFactores,MATCH(ROW()-ROW(TblF10[])+1,CabPtosFactores,0),0) -> 1 | BA12: 0 | BD12: =VLOOKUP(COUNTA(TblF11[NIVEL]),PtosFactores,MATCH(ROW()-ROW(TblF11[])+1,CabPtosFactores,0),0) -> 1 | BF12: 0 | BI12: =VLOOKUP(COUNTA(TblF12[NIVEL]),PtosFactores,MATCH(ROW()-ROW(TblF12[])+1,CabPtosFactores,0),0) -> 1 | BK12: 0 | BN12: =VLOOKUP(COUNTA(TblF13[NIVEL]),PtosFactores,MATCH(ROW()-ROW(TblF13[])+1,CabPtosFactores,0),0) -> 1 | BP12: 0 | BS12: =VLOOKUP(COUNTA(TblF14[NIVEL]),PtosFactores,MATCH(ROW()-ROW(TblF14[])+1,CabPtosFactores,0),0) -> 1 | BU12: 0 | BX12: =VLOOKUP(COUNTA(TblF15[NIVEL]),PtosFactores,MATCH(ROW()-ROW(TblF15[])+1,CabPtosFactores,0),0) -> 1 | BZ12: 0 | CC12: =VLOOKUP(COUNTA(TblF16[NIVEL]),PtosFactores,MATCH(ROW()-ROW(TblF16[])+1,CabPtosFactores,0),0) -> 1 | CE12: 0 | CH12: =VLOOKUP(COUNTA(TblF17[NIVEL]),PtosFactores,MATCH(ROW()-ROW(TblF17[])+1,CabPtosFactores,0),0) -> 1 | CJ12: 0 | CM12: =VLOOKUP(COUNTA(TblF18[NIVEL]),PtosFactores,MATCH(ROW()-ROW(TblF18[])+1,CabPtosFactores,0),0) -> 1 | CO12: 0 | CR12: =VLOOKUP(COUNTA(TblF19[NIVEL]),PtosFactores,MATCH(ROW()-ROW(TblF19[])+1,CabPtosFactores,0),0) -> 1 | CT12: 0 | CW12: =VLOOKUP(COUNTA(TblF20[NIVEL]),PtosFactores,MATCH(ROW()-ROW(TblF20[])+1,CabPtosFactores,0),0) -> 1 | CY12: 0 | DB12: =VLOOKUP(COUNTA(TblF21[NIVEL]),PtosFactores,MATCH(ROW()-ROW(TblF21[])+1,CabPtosFactores,0),0) -> 1 | DD12: 0 | DG12: =VLOOKUP(COUNTA(TblF22[NIVEL]),PtosFactores,MATCH(ROW()-ROW(TblF22[])+1,CabPtosFactores,0),0) -> 1 | DI12: 0 | DL12: =VLOOKUP(COUNTA(TblF23[NIVEL]),PtosFactores,MATCH(ROW()-ROW(TblF23[])+1,CabPtosFactores,0),0) -> 1 | DN12: 0 | DQ12: =VLOOKUP(COUNTA(TblF24[NIVEL]),PtosFactores,MATCH(ROW()-ROW(TblF24[])+1,CabPtosFactores,0),0) -> 1 | DS12: 0 | DV12: =VLOOKUP(COUNTA(TblF25[NIVEL]),PtosFactores,MATCH(ROW()-ROW(TblF25[])+1,CabPtosFactores,0),0) -> 1 | DX12: 0 | EA12: =VLOOKUP(COUNTA(TblF26[NIVEL]),PtosFactores,MATCH(ROW()-ROW(TblF26[])+1,CabPtosFactores,0),0) -> 1 | EC12: 0 | EF12: =VLOOKUP(COUNTA(TblF27[NIVEL]),PtosFactores,MATCH(ROW()-ROW(TblF27[])+1,CabPtosFactores,0),0) -> 1 | EH12: 0 | EK12: =VLOOKUP(COUNTA(TblF28[NIVEL]),PtosFactores,MATCH(ROW()-ROW(TblF28[])+1,CabPtosFactores,0),0) -> 1 | EM12: 0 | EP12: =VLOOKUP(COUNTA(TblF29[NIVEL]),PtosFactores,MATCH(ROW()-ROW(TblF29[])+1,CabPtosFactores,0),0) -> 1 | ER12: 0 | EU12: =VLOOKUP(COUNTA(TblF30[NIVEL]),PtosFactores,MATCH(ROW()-ROW(TblF30[])+1,CabPtosFactores,0),0) -> 1

Sheet 2. Sistema_Valoración
B1: 1. Asignación de pesos a cada tipo de factores
B3: Tipo | C3: SVPT
B4: A. CONOCIMIENTO Y APTITUDES
B5: B. RESPONSABILIDAD
B6: C. ESFUERZO
B7: D. CONDICIONES DE TRABAJO
C8: =SUM(TblGrupos[SVPT]) -> 0
B9: Check: | C9: =IF(C8<>1,"Debe de sumar 100%","OK") -> Debe de sumar 100%
D12: CONTROL REPARTO: | E12: SVPT | F12: Puntos
D13: A. CONOCIMIENTO Y APTITUDES | E13: =SUMIF(TblFactor[Tipo],$D13,TblFactor[SVPT]) -> 0 | F13: =SUMIF(TblFactor[Tipo],$D13,TblFactor[Puntos]) -> 0
D14: B. RESPONSABILIDAD | E14: =SUMIF(TblFactor[Tipo],$D14,TblFactor[SVPT]) -> 0 | F14: =SUMIF(TblFactor[Tipo],$D14,TblFactor[Puntos]) -> 0
D15: C. ESFUERZO | E15: =SUMIF(TblFactor[Tipo],$D15,TblFactor[SVPT]) -> 0 | F15: =SUMIF(TblFactor[Tipo],$D15,TblFactor[Puntos]) -> 0
D16: D. CONDICIONES DE TRABAJO | E16: =SUMIF(TblFactor[Tipo],$D16,TblFactor[SVPT]) -> 0 | F16: =SUMIF(TblFactor[Tipo],$D16,TblFactor[Puntos]) -> 0
E17: =IF(SUM(E13:E16)<>400,"Cada TIPO (A,B,C o D), debe sumar 100","") -> Cada TIPO (A,B,C o D), debe sumar 100 | F17: =SUM(F13:F16) -> 0 | G17: =IF(F17<>1000,"Debe sumar 1.000","") -> Debe sumar 1.000
B18: 2. Asignación de pesos a cada uno de los factores, dentro de su tipo
A19: OCULTAR | B19: La columna tipo debe estar ordenada ascendentemente | E19: Puntuar de 0 a 100 cada factor dentro de su tipo
A20: Num Factor | B20: Tipo | C20: Nombre del Factor | D20: Género | E20: SVPT | F20: Puntos
A21: FACTOR 1 | B21: =IFERROR(VLOOKUP(TblFactor[[#This Row],[Num Factor]],Tbl_ListFactores[],MATCH(TblFactor[[#Headers],[Tipo]],Tbl_ListFactores[#Headers],0),0),"zz") -> zz | C21: =IFERROR(VLOOKUP(TblFactor[[#This Row],[Num Factor]],Tbl_ListFactores[],MATCH(TblFactor[[#Headers],[Nombre del Factor]],Tbl_ListFactores[#Headers],0),0),"") | D21: =IFERROR(VLOOKUP(TblFactor[[#This Row],[Num Factor]],Tbl_ListFactores[],MATCH(TblFactor[[#Headers],[Género]],Tbl_ListFactores[#Headers],0),0),"") | F21: =IFERROR(VLOOKUP(TblFactor[[#This Row],[Tipo]],TblGrupos[],2,0)*TblFactor[[#This Row],[SVPT]]*10,"")
A22: FACTOR 2 | B22: =IFERROR(VLOOKUP(TblFactor[[#This Row],[Num Factor]],Tbl_ListFactores[],MATCH(TblFactor[[#Headers],[Tipo]],Tbl_ListFactores[#Headers],0),0),"zz") -> zz | C22: =IFERROR(VLOOKUP(TblFactor[[#This Row],[Num Factor]],Tbl_ListFactores[],MATCH(TblFactor[[#Headers],[Nombre del Factor]],Tbl_ListFactores[#Headers],0),0),"") | D22: =IFERROR(VLOOKUP(TblFactor[[#This Row],[Num Factor]],Tbl_ListFactores[],MATCH(TblFactor[[#Headers],[Género]],Tbl_ListFactores[#Headers],0),0),"") | F22: =IFERROR(VLOOKUP(TblFactor[[#This Row],[Tipo]],TblGrupos[],2,0)*TblFactor[[#This Row],[SVPT]]*10,"")
A23: FACTOR 3 | B23: =IFERROR(VLOOKUP(TblFactor[[#This Row],[Num Factor]],Tbl_ListFactores[],MATCH(TblFactor[[#Headers],[Tipo]],Tbl_ListFactores[#Headers],0),0),"zz") -> zz | C23: =IFERROR(VLOOKUP(TblFactor[[#This Row],[Num Factor]],Tbl_ListFactores[],MATCH(TblFactor[[#Headers],[Nombre del Factor]],Tbl_ListFactores[#Headers],0),0),"") | D23: =IFERROR(VLOOKUP(TblFactor[[#This Row],[Num Factor]],Tbl_ListFactores[],MATCH(TblFactor[[#Headers],[Género]],Tbl_ListFactores[#Headers],0),0),"") | F23: =IFERROR(VLOOKUP(TblFactor[[#This Row],[Tipo]],TblGrupos[],2,0)*TblFactor[[#This Row],[SVPT]]*10,"")
A24: FACTOR 4 | B24: =IFERROR(VLOOKUP(TblFactor[[#This Row],[Num Factor]],Tbl_ListFactores[],MATCH(TblFactor[[#Headers],[Tipo]],Tbl_ListFactores[#Headers],0),0),"zz") -> zz | C24: =IFERROR(VLOOKUP(TblFactor[[#This Row],[Num Factor]],Tbl_ListFactores[],MATCH(TblFactor[[#Headers],[Nombre del Factor]],Tbl_ListFactores[#Headers],0),0),"") | D24: =IFERROR(VLOOKUP(TblFactor[[#This Row],[Num Factor]],Tbl_ListFactores[],MATCH(TblFactor[[#Headers],[Género]],Tbl_ListFactores[#Headers],0),0),"") | F24: =IFERROR(VLOOKUP(TblFactor[[#This Row],[Tipo]],TblGrupos[],2,0)*TblFactor[[#This Row],[SVPT]]*10,"")
A25: FACTOR 5 | B25: =IFERROR(VLOOKUP(TblFactor[[#This Row],[Num Factor]],Tbl_ListFactores[],MATCH(TblFactor[[#Headers],[Tipo]],Tbl_ListFactores[#Headers],0),0),"zz") -> zz | C25: =IFERROR(VLOOKUP(TblFactor[[#This Row],[Num Factor]],Tbl_ListFactores[],MATCH(TblFactor[[#Headers],[Nombre del Factor]],Tbl_ListFactores[#Headers],0),0),"") | D25: =IFERROR(VLOOKUP(TblFactor[[#This Row],[Num Factor]],Tbl_ListFactores[],MATCH(TblFactor[[#Headers],[Género]],Tbl_ListFactores[#Headers],0),0),"") | F25: =IFERROR(VLOOKUP(TblFactor[[#This Row],[Tipo]],TblGrupos[],2,0)*TblFactor[[#This Row],[SVPT]]*10,"")
A26: FACTOR 6 | B26: =IFERROR(VLOOKUP(TblFactor[[#This Row],[Num Factor]],Tbl_ListFactores[],MATCH(TblFactor[[#Headers],[Tipo]],Tbl_ListFactores[#Headers],0),0),"zz") -> zz | C26: =IFERROR(VLOOKUP(TblFactor[[#This Row],[Num Factor]],Tbl_ListFactores[],MATCH(TblFactor[[#Headers],[Nombre del Factor]],Tbl_ListFactores[#Headers],0),0),"") | D26: =IFERROR(VLOOKUP(TblFactor[[#This Row],[Num Factor]],Tbl_ListFactores[],MATCH(TblFactor[[#Headers],[Género]],Tbl_ListFactores[#Headers],0),0),"") | F26: =IFERROR(VLOOKUP(TblFactor[[#This Row],[Tipo]],TblGrupos[],2,0)*TblFactor[[#This Row],[SVPT]]*10,"")
A27: FACTOR 7 | B27: =IFERROR(VLOOKUP(TblFactor[[#This Row],[Num Factor]],Tbl_ListFactores[],MATCH(TblFactor[[#Headers],[Tipo]],Tbl_ListFactores[#Headers],0),0),"zz") -> zz | C27: =IFERROR(VLOOKUP(TblFactor[[#This Row],[Num Factor]],Tbl_ListFactores[],MATCH(TblFactor[[#Headers],[Nombre del Factor]],Tbl_ListFactores[#Headers],0),0),"") | D27: =IFERROR(VLOOKUP(TblFactor[[#This Row],[Num Factor]],Tbl_ListFactores[],MATCH(TblFactor[[#Headers],[Género]],Tbl_ListFactores[#Headers],0),0),"") | F27: =IFERROR(VLOOKUP(TblFactor[[#This Row],[Tipo]],TblGrupos[],2,0)*TblFactor[[#This Row],[SVPT]]*10,"")
A28: FACTOR 8 | B28: =IFERROR(VLOOKUP(TblFactor[[#This Row],[Num Factor]],Tbl_ListFactores[],MATCH(TblFactor[[#Headers],[Tipo]],Tbl_ListFactores[#Headers],0),0),"zz") -> zz | C28: =IFERROR(VLOOKUP(TblFactor[[#This Row],[Num Factor]],Tbl_ListFactores[],MATCH(TblFactor[[#Headers],[Nombre del Factor]],Tbl_ListFactores[#Headers],0),0),"") | D28: =IFERROR(VLOOKUP(TblFactor[[#This Row],[Num Factor]],Tbl_ListFactores[],MATCH(TblFactor[[#Headers],[Género]],Tbl_ListFactores[#Headers],0),0),"") | F28: =IFERROR(VLOOKUP(TblFactor[[#This Row],[Tipo]],TblGrupos[],2,0)*TblFactor[[#This Row],[SVPT]]*10,"")
A29: FACTOR 9 | B29: =IFERROR(VLOOKUP(TblFactor[[#This Row],[Num Factor]],Tbl_ListFactores[],MATCH(TblFactor[[#Headers],[Tipo]],Tbl_ListFactores[#Headers],0),0),"zz") -> zz | C29: =IFERROR(VLOOKUP(TblFactor[[#This Row],[Num Factor]],Tbl_ListFactores[],MATCH(TblFactor[[#Headers],[Nombre del Factor]],Tbl_ListFactores[#Headers],0),0),"") | D29: =IFERROR(VLOOKUP(TblFactor[[#This Row],[Num Factor]],Tbl_ListFactores[],MATCH(TblFactor[[#Headers],[Género]],Tbl_ListFactores[#Headers],0),0),"") | F29: =IFERROR(VLOOKUP(TblFactor[[#This Row],[Tipo]],TblGrupos[],2,0)*TblFactor[[#This Row],[SVPT]]*10,"")
A30: FACTOR 10 | B30: =IFERROR(VLOOKUP(TblFactor[[#This Row],[Num Factor]],Tbl_ListFactores[],MATCH(TblFactor[[#Headers],[Tipo]],Tbl_ListFactores[#Headers],0),0),"zz") -> zz | C30: =IFERROR(VLOOKUP(TblFactor[[#This Row],[Num Factor]],Tbl_ListFactores[],MATCH(TblFactor[[#Headers],[Nombre del Factor]],Tbl_ListFactores[#Headers],0),0),"") | D30: =IFERROR(VLOOKUP(TblFactor[[#This Row],[Num Factor]],Tbl_ListFactores[],MATCH(TblFactor[[#Headers],[Género]],Tbl_ListFactores[#Headers],0),0),"") | F30: =IFERROR(VLOOKUP(TblFactor[[#This Row],[Tipo]],TblGrupos[],2,0)*TblFactor[[#This Row],[SVPT]]*10,"")
A31: FACTOR 11 | B31: =IFERROR(VLOOKUP(TblFactor[[#This Row],[Num Factor]],Tbl_ListFactores[],MATCH(TblFactor[[#Headers],[Tipo]],Tbl_ListFactores[#Headers],0),0),"zz") -> zz | C31: =IFERROR(VLOOKUP(TblFactor[[#This Row],[Num Factor]],Tbl_ListFactores[],MATCH(TblFactor[[#Headers],[Nombre del Factor]],Tbl_ListFactores[#Headers],0),0),"") | D31: =IFERROR(VLOOKUP(TblFactor[[#This Row],[Num Factor]],Tbl_ListFactores[],MATCH(TblFactor[[#Headers],[Género]],Tbl_ListFactores[#Headers],0),0),"") | F31: =IFERROR(VLOOKUP(TblFactor[[#This Row],[Tipo]],TblGrupos[],2,0)*TblFactor[[#This Row],[SVPT]]*10,"")
A32: FACTOR 12 | B32: =IFERROR(VLOOKUP(TblFactor[[#This Row],[Num Factor]],Tbl_ListFactores[],MATCH(TblFactor[[#Headers],[Tipo]],Tbl_ListFactores[#Headers],0),0),"zz") -> zz | C32: =IFERROR(VLOOKUP(TblFactor[[#This Row],[Num Factor]],Tbl_ListFactores[],MATCH(TblFactor[[#Headers],[Nombre del Factor]],Tbl_ListFactores[#Headers],0),0),"") | D32: =IFERROR(VLOOKUP(TblFactor[[#This Row],[Num Factor]],Tbl_ListFactores[],MATCH(TblFactor[[#Headers],[Género]],Tbl_ListFactores[#Headers],0),0),"") | F32: =IFERROR(VLOOKUP(TblFactor[[#This Row],[Tipo]],TblGrupos[],2,0)*TblFactor[[#This Row],[SVPT]]*10,"")
... A50: FACTOR 30 | B50: =IFERROR(VLOOKUP(TblFactor[[#This Row],[Num Factor]],Tbl_ListFactores[],MATCH(TblFactor[[#Headers],[Tipo]],Tbl_ListFactores[#Headers],0),0),"zz") -> zz | C50: =IFERROR(VLOOKUP(TblFactor[[#This Row],[Num Factor]],Tbl_ListFactores[],MATCH(TblFactor[[#Headers],[Nombre del Factor]],Tbl_ListFactores[#Headers],0),0),"") | D50: =IFERROR(VLOOKUP(TblFactor[[#This Row],[Num Factor]],Tbl_ListFactores[],MATCH(TblFactor[[#Headers],[Género]],Tbl_ListFactores[#Headers],0),0),"") | F50: =IFERROR(VLOOKUP(TblFactor[[#This Row],[Tipo]],TblGrupos[],2,0)*TblFactor[[#This Row],[SVPT]]*10,"")

Sheet 3. Análisis_Sistema_Valoración

Sheet 3_ Análisis_Sistema_Valoración
B2: Tipo | C2: peso% | D2: FACTOR 1 | E2: FACTOR 2 | F2: FACTOR 3 | G2: FACTOR 4 | H2: FACTOR 5 | I2: FACTOR 6 | J2: FACTOR 7 | K2: FACTOR 8 | L2: FACTOR 9 | M2: FACTOR 10 | N2: FACTOR 11 | O2: FACTOR 12 | P2: FACTOR 13 | Q2: FACTOR 14 | R2: FACTOR 15 | S2: FACTOR 16 | T2: FACTOR 17 | U2: FACTOR 18 | V2: FACTOR 19 | W2: FACTOR 20 | X2: FACTOR 21 | Y2: FACTOR 22 | Z2: FACTOR 23 | AA2: FACTOR 24 | AB2: FACTOR 25 | AC2: FACTOR 26 | AD2: FACTOR 27 | AE2: FACTOR 28 | AF2: FACTOR 29 | AG2: FACTOR 30
A3: =+C3 -> 0 | B3: A. CONOCIMIENTO Y APTITUDES | C3: =INDEX(TblGrupos[SVPT],MATCH(B3,TblGrupos[Tipo],0))*100 -> 0 | D3: =SUMIFS(TblFactor[Puntos],TblFactor[Num Factor],D$2,TblFactor[Tipo],$B3) -> 0 | E3: =SUMIFS(TblFactor[Puntos],TblFactor[Num Factor],E$2,TblFactor[Tipo],$B3) -> 0 | F3: =SUMIFS(TblFactor[Puntos],TblFactor[Num Factor],F$2,TblFactor[Tipo],$B3) -> 0 | G3: =SUMIFS(TblFactor[Puntos],TblFactor[Num Factor],G$2,TblFactor[Tipo],$B3) -> 0 | H3: =SUMIFS(TblFactor[Puntos],TblFactor[Num Factor],H$2,TblFactor[Tipo],$B3) -> 0 | I3: =SUMIFS(TblFactor[Puntos],TblFactor[Num Factor],I$2,TblFactor[Tipo],$B3) -> 0 | J3: =SUMIFS(TblFactor[Puntos],TblFactor[Num Factor],J$2,TblFactor[Tipo],$B3) -> 0 | K3: =SUMIFS(TblFactor[Puntos],TblFactor[Num Factor],K$2,TblFactor[Tipo],$B3) -> 0 | ... AG3: =SUMIFS(TblFactor[Puntos],TblFactor[Num Factor],AG$2,TblFactor[Tipo],$B3) -> 0
A4: =+A3+C4 -> 0 | B4: B. RESPONSABILIDAD | C4: =INDEX(TblGrupos[SVPT],MATCH(B4,TblGrupos[Tipo],0))*100 -> 0 | D4: =SUMIFS(TblFactor[Puntos],TblFactor[Num Factor],D$2,TblFactor[Tipo],$B4) -> 0 | E4: =SUMIFS(TblFactor[Puntos],TblFactor[Num Factor],E$2,TblFactor[Tipo],$B4) -> 0 | F4: =SUMIFS(TblFactor[Puntos],TblFactor[Num Factor],F$2,TblFactor[Tipo],$B4) -> 0 | G4: =SUMIFS(TblFactor[Puntos],TblFactor[Num Factor],G$2,TblFactor[Tipo],$B4) -> 0 | H4: =SUMIFS(TblFactor[Puntos],TblFactor[Num Factor],H$2,TblFactor[Tipo],$B4) -> 0 | I4: =SUMIFS(TblFactor[Puntos],TblFactor[Num Factor],I$2,TblFactor[Tipo],$B4) -> 0 | J4: =SUMIFS(TblFactor[Puntos],TblFactor[Num Factor],J$2,TblFactor[Tipo],$B4) -> 0 | K4: =SUMIFS(TblFactor[Puntos],TblFactor[Num Factor],K$2,TblFactor[Tipo],$B4) -> 0 | ... AG4: =SUMIFS(TblFactor[Puntos],TblFactor[Num Factor],AG$2,TblFactor[Tipo],$B4) -> 0
A5: =+A4+C5 -> 0 | B5: C. ESFUERZO | C5: =INDEX(TblGrupos[SVPT],MATCH(B5,TblGrupos[Tipo],0))*100 -> 0 | D5: =SUMIFS(TblFactor[Puntos],TblFactor[Num Factor],D$2,TblFactor[Tipo],$B5) -> 0 | E5: =SUMIFS(TblFactor[Puntos],TblFactor[Num Factor],E$2,TblFactor[Tipo],$B5) -> 0 | F5: =SUMIFS(TblFactor[Puntos],TblFactor[Num Factor],F$2,TblFactor[Tipo],$B5) -> 0 | G5: =SUMIFS(TblFactor[Puntos],TblFactor[Num Factor],G$2,TblFactor[Tipo],$B5) -> 0 | H5: =SUMIFS(TblFactor[Puntos],TblFactor[Num Factor],H$2,TblFactor[Tipo],$B5) -> 0 | I5: =SUMIFS(TblFactor[Puntos],TblFactor[Num Factor],I$2,TblFactor[Tipo],$B5) -> 0 | J5: =SUMIFS(TblFactor[Puntos],TblFactor[Num Factor],J$2,TblFactor[Tipo],$B5) -> 0 | K5: =SUMIFS(TblFactor[Puntos],TblFactor[Num Factor],K$2,TblFactor[Tipo],$B5) -> 0 | ... AG5: =SUMIFS(TblFactor[Puntos],TblFactor[Num Factor],AG$2,TblFactor[Tipo],$B5) -> 0
A6: =+A5+C6 -> 0 | B6: D. CONDICIONES DE TRABAJO | C6: =INDEX(TblGrupos[SVPT],MATCH(B6,TblGrupos[Tipo],0))*100 -> 0 | D6: =SUMIFS(TblFactor[Puntos],TblFactor[Num Factor],D$2,TblFactor[Tipo],$B6) -> 0 | E6: =SUMIFS(TblFactor[Puntos],TblFactor[Num Factor],E$2,TblFactor[Tipo],$B6) -> 0 | F6: =SUMIFS(TblFactor[Puntos],TblFactor[Num Factor],F$2,TblFactor[Tipo],$B6) -> 0 | G6: =SUMIFS(TblFactor[Puntos],TblFactor[Num Factor],G$2,TblFactor[Tipo],$B6) -> 0 | H6: =SUMIFS(TblFactor[Puntos],TblFactor[Num Factor],H$2,TblFactor[Tipo],$B6) -> 0 | I6: =SUMIFS(TblFactor[Puntos],TblFactor[Num Factor],I$2,TblFactor[Tipo],$B6) -> 0 | J6: =SUMIFS(TblFactor[Puntos],TblFactor[Num Factor],J$2,TblFactor[Tipo],$B6) -> 0 | K6: =SUMIFS(TblFactor[Puntos],TblFactor[Num Factor],K$2,TblFactor[Tipo],$B6) -> 0 | ... AG6: =SUMIFS(TblFactor[Puntos],TblFactor[Num Factor],AG$2,TblFactor[Tipo],$B6) -> 0
D8: FACTOR 1 | E8: FACTOR 2 | F8: FACTOR 3 | G8: FACTOR 4 | H8: FACTOR 5 | I8: FACTOR 6 | J8: FACTOR 7 | K8: FACTOR 8 | L8: FACTOR 9 | M8: FACTOR 10 | N8: FACTOR 11 | O8: FACTOR 12 | P8: FACTOR 13 | Q8: FACTOR 14 | R8: FACTOR 15 | S8: FACTOR 16 | T8: FACTOR 17 | U8: FACTOR 18 | V8: FACTOR 19 | W8: FACTOR 20 | X8: FACTOR 21 | Y8: FACTOR 22 | Z8: FACTOR 23 | AA8: FACTOR 24 | AB8: FACTOR 25 | AC8: FACTOR 26 | AD8: FACTOR 27 | AE8: FACTOR 28 | AF8: FACTOR 29 | AG8: FACTOR 30 | AH8: Etiquetas Y | AI8: Etiquetas | AK8: FACTOR 1 | AL8: FACTOR 2 | AM8: FACTOR 3 | AN8: FACTOR 4 | AO8: FACTOR 5 | AP8: FACTOR 6 | AQ8: FACTOR 7 | AR8: FACTOR 8 | AS8: FACTOR 9 | AT8: FACTOR 10 | AU8: FACTOR 11 | AV8: FACTOR 12 | AW8: FACTOR 13 | AX8: FACTOR 14 | AY8: FACTOR 15 | AZ8: FACTOR 16 | BA8: FACTOR 17 | BB8: FACTOR 18 | BC8: FACTOR 19 | BD8: FACTOR 20 | BE8: FACTOR 21 | BF8: FACTOR 22 | BG8: FACTOR 23 | BH8: FACTOR 24 | BI8: FACTOR 25 | BJ8: FACTOR 26 | BK8: FACTOR 27 | BL8: FACTOR 28 | BM8: FACTOR 29 | BN8: FACTOR 30 | BQ8: =+BQ12/2 -> #DIV/0! | BR8: =+BR12/2 -> #DIV/0! | BS8: =+BS12/2 -> #DIV/0! | BT8: =+BT12/2 -> #DIV/0! | BU8: =+BU12/2 -> #DIV/0! | BV8: =+BV12/2 -> #DIV/0! | BW8: =+BW12/2 -> #DIV/0!
B9: Tratado: | D9: =VLOOKUP(D8,TblFactor[],3,0) | E9: =VLOOKUP(E8,TblFactor[],3,0) | F9: =VLOOKUP(F8,TblFactor[],3,0) | G9: =VLOOKUP(G8,TblFactor[],3,0) | H9: =VLOOKUP(H8,TblFactor[],3,0) | I9: =VLOOKUP(I8,TblFactor[],3,0) | J9: =VLOOKUP(J8,TblFactor[],3,0) | K9: =VLOOKUP(K8,TblFactor[],3,0) | ... AG9: =VLOOKUP(AG8,TblFactor[],3,0) | AH9: Etiquetas Y | AI9: Etiquetas | AK9: =IF(SUM(AK30:AK46)=0,"",VLOOKUP(AK8,TblFactor[],3,0)&CHAR(10)&" "&TEXT(SUM(AK30:AK46),"0"" puntos""")) | AL9: =IF(SUM(AL30:AL46)=0,"",VLOOKUP(AL8,TblFactor[],3,0)&CHAR(10)&" "&TEXT(SUM(AL30:AL46),"0"" puntos""")) | AM9: =IF(SUM(AM30:AM46)=0,"",VLOOKUP(AM8,TblFactor[],3,0)&CHAR(10)&" "&TEXT(SUM(AM30:AM46),"0"" puntos""")) | AN9: =IF(SUM(AN30:AN46)=0,"",VLOOKUP(AN8,TblFactor[],3,0)&CHAR(10)&" "&TEXT(SUM(AN30:AN46),"0"" puntos""")) | AO9: =IF(SUM(AO30:AO46)=0,"",VLOOKUP(AO8,TblFactor[],3,0)&CHAR(10)&" "&TEXT(SUM(AO30:AO46),"0"" puntos""")) | AP9: =IF(SUM(AP30:AP46)=0,"",VLOOKUP(AP8,TblFactor[],3,0)&CHAR(10)&" "&TEXT(SUM(AP30:AP46),"0"" puntos""")) | AQ9: =IF(SUM(AQ30:AQ46)=0,"",VLOOKUP(AQ8,TblFactor[],3,0)&CHAR(10)&" "&TEXT(SUM(AQ30:AQ46),"0"" puntos""")) | AR9: =IF(SUM(AR30:AR46)=0,"",VLOOKUP(AR8,TblFactor[],3,0)&CHAR(10)&" "&TEXT(SUM(AR30:AR46),"0"" puntos""")) | ... BN9: =IF(SUM(BN30:BN46)=0,"",VLOOKUP(BN8,TblFactor[],3,0)&CHAR(10)&" "&TEXT(SUM(BN30:BN46),"0"" puntos"""))
C10: 0 | D10: 0 | E10: 0 | F10: 0 | G10: 0 | H10: 0 | I10: 0 | J10: 0 | K10: 0 | L10: 0 | M10: 0 | N10: 0 | O10: 0 | P10: 0 | Q10: 0 | R10: 0 | S10: 0 | T10: 0 | U10: 0 | V10: 0 | W10: 0 | X10: 0 | Y10: 0 | Z10: 0 | AA10: 0 | AB10: 0 | AC10: 0 | AD10: 0 | AE10: 0 | AF10: 0 | AG10: 0 | AK10: =NA() -> #N/A | AL10: =NA() -> #N/A | AM10: =NA() -> #N/A | AN10: =NA() -> #N/A | AO10: =NA() -> #N/A | AP10: =NA() -> #N/A | AQ10: =NA() -> #N/A | AR10: =NA() -> #N/A | ... BN10: =NA() -> #N/A | BP10: 7.5 | BQ10: 19.6875 | BR10: 34.073276 | BS10: 51.483634 | BT10: 72.225916 | BU10: 94.066132
C11: 0 | D11: =D3 -> 0 | E11: =E3 -> 0 | F11: =F3 -> 0 | G11: =G3 -> 0 | H11: =H3 -> 0 | I11: =I3 -> 0 | J11: =J3 -> 0 | K11: =K3 -> 0 | ... AG11: =AG3 -> 0 | AK11: =NA() -> #N/A | AL11: =NA() -> #N/A | AM11: =NA() -> #N/A | AN11: =NA() -> #N/A | AO11: =NA() -> #N/A | AP11: =NA() -> #N/A | AQ11: =NA() -> #N/A | AR11: =NA() -> #N/A | ... BN11: =NA() -> #N/A
B12: =SUM(D12:AG12) -> 0 | C12: =C11+(C13-C11)/2 -> 0 | D12: =+D11 -> 0 | E12: =+E11 -> 0 | F12: =+F11 -> 0 | G12: =+G11 -> 0 | H12: =+H11 -> 0 | I12: =+I11 -> 0 | J12: =+J11 -> 0 | K12: =+K11 -> 0 | ... AG12: =+AG11 -> 0 | AH12: 1 | AI12: A. CONOCIMIENTO Y APTITUDES | AJ12: =+C12 -> 0 | AK12: =+IF(BP12/2=0,NA(),BP12/2) -> #DIV/0! | AL12: =IF(BQ12=0,NA(),IF(OR(SUM($BP12:BP12)+BQ12/2=0,SUM($BP12:BP12)+BQ12/2>=100),NA(),SUM($BP12:BP12)+BQ12/2)) -> #DIV/0! | AM12: =IF(BR12=0,NA(),IF(OR(SUM($BP12:BQ12)+BR12/2=0,SUM($BP12:BQ12)+BR12/2>=100),NA(),SUM($BP12:BQ12)+BR12/2)) -> #DIV/0! | AN12: =IF(BS12=0,NA(),IF(OR(SUM($BP12:BR12)+BS12/2=0,SUM($BP12:BR12)+BS12/2>=100),NA(),SUM($BP12:BR12)+BS12/2)) -> #DIV/0! | AO12: =IF(BT12=0,NA(),IF(OR(SUM($BP12:BS12)+BT12/2=0,SUM($BP12:BS12)+BT12/2>=100),NA(),SUM($BP12:BS12)+BT12/2)) -> #DIV/0! | AP12: =IF(BU12=0,NA(),IF(OR(SUM($BP12:BT12)+BU12/2=0,SUM($BP12:BT12)+BU12/2>=100),NA(),SUM($BP12:BT12)+BU12/2)) -> #DIV/0! | AQ12: =IF(BV12=0,NA(),IF(OR(SUM($BP12:BU12)+BV12/2=0,SUM($BP12:BU12)+BV12/2>=100),NA(),SUM($BP12:BU12)+BV12/2)) -> #DIV/0! | AR12: =IF(BW12=0,NA(),IF(OR(SUM($BP12:BV12)+BW12/2=0,SUM($BP12:BV12)+BW12/2>=100),NA(),SUM($BP12:BV12)+BW12/2)) -> #DIV/0! | AS12: =IF(BX12=0,NA(),IF(OR(SUM($BP12:BW12)+BX12/2=0,SUM($BP12:BW12)+BX12/2>=100),NA(),SUM($BP12:BW12)+BX12/2)) -> #DIV/0! | ... BN12: =IF(CS12=0,NA(),IF(OR(SUM($BP12:CR12)+CS12/2=0,SUM($BP12:CR12)+CS12/2>=100),NA(),SUM($BP12:CR12)+CS12/2)) -> #DIV/0! | BP12: =(D12/SUM($D12:$AG12))*100 -> #DIV/0! | BQ12: =(E12/SUM($D12:$AG12))*100 -> #DIV/0! | BR12: =(F12/SUM($D12:$AG12))*100 -> #DIV/0! | BS12: =(G12/SUM($D12:$AG12))*100 -> #DIV/0! | BT12: =(H12/SUM($D12:$AG12))*100 -> #DIV/0! | BU12: =(I12/SUM($D12:$AG12))*100 -> #DIV/0! | BV12: =(J12/SUM($D12:$AG12))*100 -> #DIV/0! | BW12: =(K12/SUM($D12:$AG12))*100 -> #DIV/0! | ... CS12: =(AG12/SUM($D12:$AG12))*100 -> #DIV/0!
C13: =+A3 -> 0 | D13: =+D12 -> 0 | E13: =+E12 -> 0 | F13: =+F12 -> 0 | G13: =+G12 -> 0 | H13: =+H12 -> 0 | I13: =+I12 -> 0 | J13: =+J12 -> 0 | K13: =+K12 -> 0 | ... AG13: =+AG12 -> 0 | AK13: =NA() -> #N/A | AL13: =NA() -> #N/A | AM13: =NA() -> #N/A | AN13: =NA() -> #N/A | AO13: =NA() -> #N/A | AP13: =NA() -> #N/A | AQ13: =NA() -> #N/A | AR13: =NA() -> #N/A | ... BN13: =NA() -> #N/A
C14: =+C13 -> 0 | D14: 0 | E14: 0 | F14: 0 | G14: 0 | H14: 0 | I14: 0 | J14: 0 | K14: 0 | L14: 0 | M14: 0 | N14: 0 | O14: 0 | P14: 0 | Q14: 0 | R14: 0 | S14: 0 | T14: 0 | U14: 0 | V14: 0 | W14: 0 | X14: 0 | Y14: 0 | Z14: 0 | AA14: 0 | AB14: 0 | AC14: 0 | AD14: 0 | AE14: 0 | AF14: 0 | AG14: 0 | AK14: =NA() -> #N/A | AL14: =NA() -> #N/A | AM14: =NA() -> #N/A | AN14: =NA() -> #N/A | AO14: =NA() -> #N/A | AP14: =NA() -> #N/A | AQ14: =NA() -> #N/A | AR14: =NA() -> #N/A | ... BN14: =NA() -> #N/A
C15: =+C14 -> 0 | D15: =D4 -> 0 | E15: =E4 -> 0 | F15: =F4 -> 0 | G15: =G4 -> 0 | H15: =H4 -> 0 | I15: =I4 -> 0 | J15: =J4 -> 0 | K15: =K4 -> 0 | ... AG15: =AG4 -> 0 | AK15: =NA() -> #N/A | AL15: =NA() -> #N/A | AM15: =NA() -> #N/A | AN15: =NA() -> #N/A | AO15: =NA() -> #N/A | AP15: =NA() -> #N/A | AQ15: =NA() -> #N/A | AR15: =NA() -> #N/A | ... BN15: =NA() -> #N/A
B16: =SUM(D16:AG16) -> 0 | C16: =C15+(C17-C15)/2 -> 0 | D16: =+D15 -> 0 | E16: =+E15 -> 0 | F16: =+F15 -> 0 | G16: =+G15 -> 0 | H16: =+H15 -> 0 | I16: =+I15 -> 0 | J16: =+J15 -> 0 | K16: =+K15 -> 0 | ... AG16: =+AG15 -> 0 | AH16: 1 | AI16: B. RESPONSABILIDAD | AJ16: =+C16 -> 0 | AK16: =+IF(BP16/2=0,NA(),BP16/2) -> #DIV/0! | AL16: =IF(BQ16=0,NA(),IF(OR(SUM($BP16:BP16)+BQ16/2=0,SUM($BP16:BP16)+BQ16/2>=100),NA(),SUM($BP16:BP16)+BQ16/2)) -> #DIV/0! | AM16: =IF(BR16=0,NA(),IF(OR(SUM($BP16:BQ16)+BR16/2=0,SUM($BP16:BQ16)+BR16/2>=100),NA(),SUM($BP16:BQ16)+BR16/2)) -> #DIV/0! | AN16: =IF(BS16=0,NA(),IF(OR(SUM($BP16:BR16)+BS16/2=0,SUM($BP16:BR16)+BS16/2>=100),NA(),SUM($BP16:BR16)+BS16/2)) -> #DIV/0! | AO16: =IF(BT16=0,NA(),IF(OR(SUM($BP16:BS16)+BT16/2=0,SUM($BP16:BS16)+BT16/2>=100),NA(),SUM($BP16:BS16)+BT16/2)) -> #DIV/0! | AP16: =IF(BU16=0,NA(),IF(OR(SUM($BP16:BT16)+BU16/2=0,SUM($BP16:BT16)+BU16/2>=100),NA(),SUM($BP16:BT16)+BU16/2)) -> #DIV/0! | AQ16: =IF(BV16=0,NA(),IF(OR(SUM($BP16:BU16)+BV16/2=0,SUM($BP16:BU16)+BV16/2>=100),NA(),SUM($BP16:BU16)+BV16/2)) -> #DIV/0! | AR16: =IF(BW16=0,NA(),IF(OR(SUM($BP16:BV16)+BW16/2=0,SUM($BP16:BV16)+BW16/2>=100),NA(),SUM($BP16:BV16)+BW16/2)) -> #DIV/0! | AS16: =IF(BX16=0,NA(),IF(OR(SUM($BP16:BW16)+BX16/2=0,SUM($BP16:BW16)+BX16/2>=100),NA(),SUM($BP16:BW16)+BX16/2)) -> #DIV/0! | ... BN16: =IF(CS16=0,NA(),IF(OR(SUM($BP16:CR16)+CS16/2=0,SUM($BP16:CR16)+CS16/2>=100),NA(),SUM($BP16:CR16)+CS16/2)) -> #DIV/0! | BP16: =(D16/SUM($D16:$AG16))*100 -> #DIV/0! | BQ16: =(E16/SUM($D16:$AG16))*100 -> #DIV/0! | BR16: =(F16/SUM($D16:$AG16))*100 -> #DIV/0! | BS16: =(G16/SUM($D16:$AG16))*100 -> #DIV/0! | BT16: =(H16/SUM($D16:$AG16))*100 -> #DIV/0! | BU16: =(I16/SUM($D16:$AG16))*100 -> #DIV/0! | BV16: =(J16/SUM($D16:$AG16))*100 -> #DIV/0! | BW16: =(K16/SUM($D16:$AG16))*100 -> #DIV/0! | ... CS16: =(AG16/SUM($D16:$AG16))*100 -> #DIV/0!
C17: =+A4 -> 0 | D17: =+D16 -> 0 | E17: =+E16 -> 0 | F17: =+F16 -> 0 | G17: =+G16 -> 0 | H17: =+H16 -> 0 | I17: =+I16 -> 0 | J17: =+J16 -> 0 | K17: =+K16 -> 0 | ... AG17: =+AG16 -> 0 | AK17: =NA() -> #N/A | AL17: =NA() -> #N/A | AM17: =NA() -> #N/A | AN17: =NA() -> #N/A | AO17: =NA() -> #N/A | AP17: =NA() -> #N/A | AQ17: =NA() -> #N/A | AR17: =NA() -> #N/A | ... BN17: =NA() -> #N/A
C18: =+C17 -> 0 | D18: 0 | E18: 0 | F18: 0 | G18: 0 | H18: 0 | I18: 0 | J18: 0 | K18: 0 | L18: 0 | M18: 0 | N18: 0 | O18: 0 | P18: 0 | Q18: 0 | R18: 0 | S18: 0 | T18: 0 | U18: 0 | V18: 0 | W18: 0 | X18: 0 | Y18: 0 | Z18: 0 | AA18: 0 | AB18: 0 | AC18: 0 | AD18: 0 | AE18: 0 | AF18: 0 | AG18: 0 | AK18: =NA() -> #N/A | AL18: =NA() -> #N/A | AM18: =NA() -> #N/A | AN18: =NA() -> #N/A | AO18: =NA() -> #N/A | AP18: =NA() -> #N/A | AQ18: =NA() -> #N/A | AR18: =NA() -> #N/A | ... BN18: =NA() -> #N/A
C19: =+C18 -> 0 | D19: =D5 -> 0 | E19: =E5 -> 0 | F19: =F5 -> 0 | G19: =G5 -> 0 | H19: =H5 -> 0 | I19: =I5 -> 0 | J19: =J5 -> 0 | K19: =K5 -> 0 | ... AG19: =AG5 -> 0 | AK19: =NA() -> #N/A | AL19: =NA() -> #N/A | AM19: =NA() -> #N/A | AN19: =NA() -> #N/A | AO19: =NA() -> #N/A | AP19: =NA() -> #N/A | AQ19: =NA() -> #N/A | AR19: =NA() -> #N/A | ... BN19: =NA() -> #N/A
B20: =SUM(D20:AG20) -> 0 | C20: =C19+(C21-C19)/2 -> 0 | D20: =+D19 -> 0 | E20: =+E19 -> 0 | F20: =+F19 -> 0 | G20: =+G19 -> 0 | H20: =+H19 -> 0 | I20: =+I19 -> 0 | J20: =+J19 -> 0 | K20: =+K19 -> 0 | ... AG20: =+AG19 -> 0 | AH20: 1 | AI20: C. ESFUERZO | AJ20: =+C20 -> 0 | AK20: =+IF(BP20/2=0,NA(),BP20/2) -> #DIV/0! | AL20: =IF(BQ20=0,NA(),IF(OR(SUM($BP20:BP20)+BQ20/2=0,SUM($BP20:BP20)+BQ20/2>=100),NA(),SUM($BP20:BP20)+BQ20/2)) -> #DIV/0! | AM20: =IF(BR20=0,NA(),IF(OR(SUM($BP20:BQ20)+BR20/2=0,SUM($BP20:BQ20)+BR20/2>=100),NA(),SUM($BP20:BQ20)+BR20/2)) -> #DIV/0! | AN20: =IF(BS20=0,NA(),IF(OR(SUM($BP20:BR20)+BS20/2=0,SUM($BP20:BR20)+BS20/2>=100),NA(),SUM($BP20:BR20)+BS20/2)) -> #DIV/0! | AO20: =IF(BT20=0,NA(),IF(OR(SUM($BP20:BS20)+BT20/2=0,SUM($BP20:BS20)+BT20/2>=100),NA(),SUM($BP20:BS20)+BT20/2)) -> #DIV/0! | AP20: =IF(BU20=0,NA(),IF(OR(SUM($BP20:BT20)+BU20/2=0,SUM($BP20:BT20)+BU20/2>=100),NA(),SUM($BP20:BT20)+BU20/2)) -> #DIV/0! | AQ20: =IF(BV20=0,NA(),IF(OR(SUM($BP20:BU20)+BV20/2=0,SUM($BP20:BU20)+BV20/2>=100),NA(),SUM($BP20:BU20)+BV20/2)) -> #DIV/0! | AR20: =IF(BW20=0,NA(),IF(OR(SUM($BP20:BV20)+BW20/2=0,SUM($BP20:BV20)+BW20/2>=100),NA(),SUM($BP20:BV20)+BW20/2)) -> #DIV/0! | AS20: =IF(BX20=0,NA(),IF(OR(SUM($BP20:BW20)+BX20/2=0,SUM($BP20:BW20)+BX20/2>=100),NA(),SUM($BP20:BW20)+BX20/2)) -> #DIV/0! | ... BN20: =IF(CS20=0,NA(),IF(OR(SUM($BP20:CR20)+CS20/2=0,SUM($BP20:CR20)+CS20/2>=100),NA(),SUM($BP20:CR20)+CS20/2)) -> #DIV/0! | BP20: =(D20/SUM($D20:$AG20))*100 -> #DIV/0! | BQ20: =(E20/SUM($D20:$AG20))*100 -> #DIV/0! | BR20: =(F20/SUM($D20:$AG20))*100 -> #DIV/0! | BS20: =(G20/SUM($D20:$AG20))*100 -> #DIV/0! | BT20: =(H20/SUM($D20:$AG20))*100 -> #DIV/0! | BU20: =(I20/SUM($D20:$AG20))*100 -> #DIV/0! | BV20: =(J20/SUM($D20:$AG20))*100 -> #DIV/0! | BW20: =(K20/SUM($D20:$AG20))*100 -> #DIV/0! | ... CS20: =(AG20/SUM($D20:$AG20))*100 -> #DIV/0!
C21: =+A5 -> 0 | D21: =+D20 -> 0 | E21: =+E20 -> 0 | F21: =+F20 -> 0 | G21: =+G20 -> 0 | H21: =+H20 -> 0 | I21: =+I20 -> 0 | J21: =+J20 -> 0 | K21: =+K20 -> 0 | ... AG21: =+AG20 -> 0 | AK21: =NA() -> #N/A | AL21: =NA() -> #N/A | AM21: =NA() -> #N/A | AN21: =NA() -> #N/A | AO21: =NA() -> #N/A | AP21: =NA() -> #N/A | AQ21: =NA() -> #N/A | AR21: =NA() -> #N/A | ... BN21: =NA() -> #N/A
C22: =+C21 -> 0 | D22: 0 | E22: 0 | F22: 0 | G22: 0 | H22: 0 | I22: 0 | J22: 0 | K22: 0 | L22: 0 | M22: 0 | N22: 0 | O22: 0 | P22: 0 | Q22: 0 | R22: 0 | S22: 0 | T22: 0 | U22: 0 | V22: 0 | W22: 0 | X22: 0 | Y22: 0 | Z22: 0 | AA22: 0 | AB22: 0 | AC22: 0 | AD22: 0 | AE22: 0 | AF22: 0 | AG22: 0 | AK22: =NA() -> #N/A | AL22: =NA() -> #N/A | AM22: =NA() -> #N/A | AN22: =NA() -> #N/A | AO22: =NA() -> #N/A | AP22: =NA() -> #N/A | AQ22: =NA() -> #N/A | AR22: =NA() -> #N/A | ... BN22: =NA() -> #N/A
C23: =+C22 -> 0 | D23: =D6 -> 0 | E23: =E6 -> 0 | F23: =F6 -> 0 | G23: =G6 -> 0 | H23: =H6 -> 0 | I23: =I6 -> 0 | J23: =J6 -> 0 | K23: =K6 -> 0 | ... AG23: =AG6 -> 0 | AK23: =NA() -> #N/A | AL23: =NA() -> #N/A | AM23: =NA() -> #N/A | AN23: =NA() -> #N/A | AO23: =NA() -> #N/A | AP23: =NA() -> #N/A | AQ23: =NA() -> #N/A | AR23: =NA() -> #N/A | ... BN23: =NA() -> #N/A
B24: =SUM(D24:AG24) -> 0 | C24: =C23+(C25-C23)/2 -> 50 | D24: =+D23 -> 0 | E24: =+E23 -> 0 | F24: =+F23 -> 0 | G24: =+G23 -> 0 | H24: =+H23 -> 0 | I24: =+I23 -> 0 | J24: =+J23 -> 0 | K24: =+K23 -> 0 | ... AG24: =+AG23 -> 0 | AH24: 1 | AI24: D. CONDICIONES DE TRABAJO | AJ24: =+C24 -> 50 | AK24: =+IF(BP24/2=0,NA(),BP24/2) -> #DIV/0! | AL24: =IF(BQ24=0,NA(),IF(OR(SUM($BP24:BP24)+BQ24/2=0,SUM($BP24:BP24)+BQ24/2>=100),NA(),SUM($BP24:BP24)+BQ24/2)) -> #DIV/0! | AM24: =IF(BR24=0,NA(),IF(OR(SUM($BP24:BQ24)+BR24/2=0,SUM($BP24:BQ24)+BR24/2>=100),NA(),SUM($BP24:BQ24)+BR24/2)) -> #DIV/0! | AN24: =IF(BS24=0,NA(),IF(OR(SUM($BP24:BR24)+BS24/2=0,SUM($BP24:BR24)+BS24/2>=100),NA(),SUM($BP24:BR24)+BS24/2)) -> #DIV/0! | AO24: =IF(BT24=0,NA(),IF(OR(SUM($BP24:BS24)+BT24/2=0,SUM($BP24:BS24)+BT24/2>=100),NA(),SUM($BP24:BS24)+BT24/2)) -> #DIV/0! | AP24: =IF(BU24=0,NA(),IF(OR(SUM($BP24:BT24)+BU24/2=0,SUM($BP24:BT24)+BU24/2>=100),NA(),SUM($BP24:BT24)+BU24/2)) -> #DIV/0! | AQ24: =IF(BV24=0,NA(),IF(OR(SUM($BP24:BU24)+BV24/2=0,SUM($BP24:BU24)+BV24/2>=100),NA(),SUM($BP24:BU24)+BV24/2)) -> #DIV/0! | AR24: =IF(BW24=0,NA(),IF(OR(SUM($BP24:BV24)+BW24/2=0,SUM($BP24:BV24)+BW24/2>=100),NA(),SUM($BP24:BV24)+BW24/2)) -> #DIV/0! | AS24: =IF(BX24=0,NA(),IF(OR(SUM($BP24:BW24)+BX24/2=0,SUM($BP24:BW24)+BX24/2>=100),NA(),SUM($BP24:BW24)+BX24/2)) -> #DIV/0! | ... BN24: =IF(CS24=0,NA(),IF(OR(SUM($BP24:CR24)+CS24/2=0,SUM($BP24:CR24)+CS24/2>=100),NA(),SUM($BP24:CR24)+CS24/2)) -> #DIV/0! | BP24: =(D24/SUM($D24:$AG24))*100 -> #DIV/0! | BQ24: =(E24/SUM($D24:$AG24))*100 -> #DIV/0! | BR24: =(F24/SUM($D24:$AG24))*100 -> #DIV/0! | BS24: =(G24/SUM($D24:$AG24))*100 -> #DIV/0! | BT24: =(H24/SUM($D24:$AG24))*100 -> #DIV/0! | BU24: =(I24/SUM($D24:$AG24))*100 -> #DIV/0! | BV24: =(J24/SUM($D24:$AG24))*100 -> #DIV/0! | BW24: =(K24/SUM($D24:$AG24))*100 -> #DIV/0! | ... CS24: =(AG24/SUM($D24:$AG24))*100 -> #DIV/0!
C25: 100 | D25: =+D24 -> 0 | E25: =+E24 -> 0 | F25: =+F24 -> 0 | G25: =+G24 -> 0 | H25: =+H24 -> 0 | I25: =+I24 -> 0 | J25: =+J24 -> 0 | K25: =+K24 -> 0 | ... AG25: =+AG24 -> 0 | AK25: =NA() -> #N/A | AL25: =NA() -> #N/A | AM25: =NA() -> #N/A | AN25: =NA() -> #N/A | AO25: =NA() -> #N/A | AP25: =NA() -> #N/A | AQ25: =NA() -> #N/A | AR25: =NA() -> #N/A | ... BN25: =NA() -> #N/A
C26: 100 | D26: 0 | E26: 0 | F26: 0 | G26: 0 | H26: 0 | I26: 0 | J26: 0 | K26: 0 | L26: 0 | M26: 0 | N26: 0 | O26: 0 | P26: 0 | Q26: 0 | R26: 0 | S26: 0 | T26: 0 | U26: 0 | V26: 0 | W26: 0 | X26: 0 | Y26: 0 | Z26: 0 | AA26: 0 | AB26: 0 | AC26: 0 | AD26: 0 | AE26: 0 | AF26: 0 | AG26: 0 | AK26: =NA() -> #N/A | AL26: =NA() -> #N/A | AM26: =NA() -> #N/A | AN26: =NA() -> #N/A | AO26: =NA() -> #N/A | AP26: =NA() -> #N/A | AQ26: =NA() -> #N/A | AR26: =NA() -> #N/A | ... BN26: =NA() -> #N/A
AK28: FACTOR 1 | AL28: FACTOR 2 | AM28: FACTOR 3 | AN28: FACTOR 4 | AO28: FACTOR 5 | AP28: FACTOR 6 | AQ28: FACTOR 7 | AR28: FACTOR 8 | AS28: FACTOR 9 | AT28: FACTOR 10 | AU28: FACTOR 11 | AV28: FACTOR 12 | AW28: FACTOR 13 | AX28: FACTOR 14 | AY28: FACTOR 15 | AZ28: FACTOR 16 | BA28: FACTOR 17 | BB28: FACTOR 18 | BC28: FACTOR 19 | BD28: FACTOR 20 | BE28: FACTOR 21 | BF28: FACTOR 22 | BG28: FACTOR 23 | BH28: FACTOR 24 | BI28: FACTOR 25 | BJ28: FACTOR 26 | BK28: FACTOR 27 | BL28: FACTOR 28 | BM28: FACTOR 29 | BN28: FACTOR 30
AK29: =VLOOKUP(AK28,TblFactor[],3,0) | AL29: =VLOOKUP(AL28,TblFactor[],3,0) | AM29: =VLOOKUP(AM28,TblFactor[],3,0) | AN29: =VLOOKUP(AN28,TblFactor[],3,0) | AO29: =VLOOKUP(AO28,TblFactor[],3,0) | AP29: =VLOOKUP(AP28,TblFactor[],3,0) | AQ29: =VLOOKUP(AQ28,TblFactor[],3,0) | AR29: =VLOOKUP(AR28,TblFactor[],3,0) | ... BN29: =VLOOKUP(BN28,TblFactor[],3,0)
AK32: =IF(D12=0,"",D12) | AL32: =IF(E12=0,"",E12) | AM32: =IF(F12=0,"",F12) | AN32: =IF(G12=0,"",G12) | AO32: =IF(H12=0,"",H12) | AP32: =IF(I12=0,"",I12) | AQ32: =IF(J12=0,"",J12) | AR32: =IF(K12=0,"",K12) | ... BN32: =IF(AG12=0,"",AG12)
AK36: =IF(D16=0,"",D16) | AL36: =IF(E16=0,"",E16) | AM36: =IF(F16=0,"",F16) | AN36: =IF(G16=0,"",G16) | AO36: =IF(H16=0,"",H16) | AP36: =IF(I16=0,"",I16) | AQ36: =IF(J16=0,"",J16) | AR36: =IF(K16=0,"",K16) | ... BN36: =IF(AG16=0,"",AG16)
AK40: =IF(D20=0,"",D20) | AL40: =IF(E20=0,"",E20) | AM40: =IF(F20=0,"",F20) | AN40: =IF(G20=0,"",G20) | AO40: =IF(H20=0,"",H20) | AP40: =IF(I20=0,"",I20) | AQ40: =IF(J20=0,"",J20) | AR40: =IF(K20=0,"",K20) | ... BN40: =IF(AG20=0,"",AG20)
AK44: =IF(D24=0,"",D24) | AL44: =IF(E24=0,"",E24) | AM44: =IF(F24=0,"",F24) | AN44: =IF(G24=0,"",G24) | AO44: =IF(H24=0,"",H24) | AP44: =IF(I24=0,"",I24) | AQ44: =IF(J24=0,"",J24) | AR44: =IF(K24=0,"",K24) | ... BN44: =IF(AG24=0,"",AG24)

Sheet 4. Análisis_Género_SVPT

Sheet 4_ Análisis_Género_SVPT
B1: Etiquetas de fila | C1: Suma de Puntos
B2: FEMENINO | C2: 500
B3: MASCULINO | C3: 200
B4: NEUTRO | C4: 300
B5: Total general | C5: 1000
B28: Suma de Puntos | C28: Etiquetas de columna
B29: Etiquetas de fila | C29: FEMENINO | D29: MASCULINO | E29: NEUTRO | F29: Total general
B30: A. CONOCIMIENTO Y APTITUDES
B31: foactor uno | C31: 100 | F31: 100
B32: B. RESPONSABILIDAD
B33: factor dos | D33: 200 | F33: 200
B34: C. ESFUERZO
B35: factor tres | E35: 300 | F35: 300
B36: D. CONDICIONES DE TRABAJO
B37: factor cuatro | C37: 400 | F37: 400
B38: Total general | C38: 500 | D38: 200 | E38: 300 | F38: 1000

Sheet 5_6. Determinación_Puestos
B2: Departamento | E2: Grupo Profesional | H2: Puestos
B4: Valor | C4: Descripción | E4: Valor | F4: Descripción | H4: Clave | I4: Valor | J4: Departamento | K4: Grupo Profesional | L4: Ir a
H5: P01 | L5: =IF(OR(TblPuestos[[#This Row],[Valor]]="",TblPuestos[[#This Row],[Departamento]]="",TblPuestos[[#This Row],[Grupo Profesional]]=""),"",HYPERLINK("#"&TblPuestos[[#This Row],[Clave]]&"!$B$1",TblPuestos[[#This Row],[Clave]]))
H6: P02 | L6: =IF(OR(TblPuestos[[#This Row],[Valor]]="",TblPuestos[[#This Row],[Departamento]]="",TblPuestos[[#This Row],[Grupo Profesional]]=""),"",HYPERLINK("#"&TblPuestos[[#This Row],[Clave]]&"!$B$1",TblPuestos[[#This Row],[Clave]]))
H7: P03 | L7: =IF(OR(TblPuestos[[#This Row],[Valor]]="",TblPuestos[[#This Row],[Departamento]]="",TblPuestos[[#This Row],[Grupo Profesional]]=""),"",HYPERLINK("#"&TblPuestos[[#This Row],[Clave]]&"!$B$1",TblPuestos[[#This Row],[Clave]]))
H8: P04 | L8: =IF(OR(TblPuestos[[#This Row],[Valor]]="",TblPuestos[[#This Row],[Departamento]]="",TblPuestos[[#This Row],[Grupo Profesional]]=""),"",HYPERLINK("#"&TblPuestos[[#This Row],[Clave]]&"!$B$1",TblPuestos[[#This Row],[Clave]]))
H9: P05 | L9: =IF(OR(TblPuestos[[#This Row],[Valor]]="",TblPuestos[[#This Row],[Departamento]]="",TblPuestos[[#This Row],[Grupo Profesional]]=""),"",HYPERLINK("#"&TblPuestos[[#This Row],[Clave]]&"!$B$1",TblPuestos[[#This Row],[Clave]]))
H10: P06 | L10: =IF(OR(TblPuestos[[#This Row],[Valor]]="",TblPuestos[[#This Row],[Departamento]]="",TblPuestos[[#This Row],[Grupo Profesional]]=""),"",HYPERLINK("#"&TblPuestos[[#This Row],[Clave]]&"!$B$1",TblPuestos[[#This Row],[Clave]]))
H11: P07 | L11: =IF(OR(TblPuestos[[#This Row],[Valor]]="",TblPuestos[[#This Row],[Departamento]]="",TblPuestos[[#This Row],[Grupo Profesional]]=""),"",HYPERLINK("#"&TblPuestos[[#This Row],[Clave]]&"!$B$1",TblPuestos[[#This Row],[Clave]]))
H12: P08 | L12: =IF(OR(TblPuestos[[#This Row],[Valor]]="",TblPuestos[[#This Row],[Departamento]]="",TblPuestos[[#This Row],[Grupo Profesional]]=""),"",HYPERLINK("#"&TblPuestos[[#This Row],[Clave]]&"!$B$1",TblPuestos[[#This Row],[Clave]]))
H13: P09 | L13: =IF(OR(TblPuestos[[#This Row],[Valor]]="",TblPuestos[[#This Row],[Departamento]]="",TblPuestos[[#This Row],[Grupo Profesional]]=""),"",HYPERLINK("#"&TblPuestos[[#This Row],[Clave]]&"!$B$1",TblPuestos[[#This Row],[Clave]]))
H14: P10 | L14: =IF(OR(TblPuestos[[#This Row],[Valor]]="",TblPuestos[[#This Row],[Departamento]]="",TblPuestos[[#This Row],[Grupo Profesional]]=""),"",HYPERLINK("#"&TblPuestos[[#This Row],[Clave]]&"!$B$1",TblPuestos[[#This Row],[Clave]]))
H15: P11 | L15: =IF(OR(TblPuestos[[#This Row],[Valor]]="",TblPuestos[[#This Row],[Departamento]]="",TblPuestos[[#This Row],[Grupo Profesional]]=""),"",HYPERLINK("#"&TblPuestos[[#This Row],[Clave]]&"!$B$1",TblPuestos[[#This Row],[Clave]]))
H16: P12 | L16: =IF(OR(TblPuestos[[#This Row],[Valor]]="",TblPuestos[[#This Row],[Departamento]]="",TblPuestos[[#This Row],[Grupo Profesional]]=""),"",HYPERLINK("#"&TblPuestos[[#This Row],[Clave]]&"!$B$1",TblPuestos[[#This Row],[Clave]]))
... H54: P50 | L54: =IF(OR(TblPuestos[[#This Row],[Valor]]="",TblPuestos[[#This Row],[Departamento]]="",TblPuestos[[#This Row],[Grupo Profesional]]=""),"",HYPERLINK("#"&TblPuestos[[#This Row],[Clave]]&"!$B$1",TblPuestos[[#This Row],[Clave]]))

Sheet 7. Puntuación_Puestos
G1: =+G14 -> P01 | H1: =+H14 -> P02 | I1: =+I14 -> P03 | J1: =+J14 -> P04 | K1: =+K14 -> P05 | L1: =+L14 -> P06 | M1: =+M14 -> P07 | N1: =+N14 -> P08 | ... BD1: =+BD14 -> P50
F2: Total Puntos por Factor | G2: =+G15 -> P01_ | H2: =+H15 -> P02_ | I2: =+I15 -> P03_ | J2: =+J15 -> P04_ | K2: =+K15 -> P05_ | L2: =+L15 -> P06_ | M2: =+M15 -> P07_ | N2: =+N15 -> P08_ | ... BD2: =+BD15 -> P50_
A3: =INDEX(TblGrupos[Tipo],1,1) -> A. CONOCIMIENTO Y APTITUDES | D3: =PROPER(A3) -> A. Conocimiento Y Aptitudes | F3: =SUMIF($B$16:$B$45,$A3,F$16:F$45) -> 0 | G3: =SUMIF($B$16:$B$45,$A3,G$16:G$45) -> 0 | H3: =SUMIF($B$16:$B$45,$A3,H$16:H$45) -> 0 | I3: =SUMIF($B$16:$B$45,$A3,I$16:I$45) -> 0 | J3: =SUMIF($B$16:$B$45,$A3,J$16:J$45) -> 0 | K3: =SUMIF($B$16:$B$45,$A3,K$16:K$45) -> 0 | L3: =SUMIF($B$16:$B$45,$A3,L$16:L$45) -> 0 | M3: =SUMIF($B$16:$B$45,$A3,M$16:M$45) -> 0 | ... BD3: =SUMIF($B$16:$B$45,$A3,BD$16:BD$45) -> 0
A4: =INDEX(TblGrupos[Tipo],2,1) -> B. RESPONSABILIDAD | D4: =PROPER(A4) -> B. Responsabilidad | F4: =SUMIF($B$16:$B$45,$A4,F$16:F$45) -> 0 | G4: =SUMIF($B$16:$B$45,$A4,G$16:G$45) -> 0 | H4: =SUMIF($B$16:$B$45,$A4,H$16:H$45) -> 0 | I4: =SUMIF($B$16:$B$45,$A4,I$16:I$45) -> 0 | J4: =SUMIF($B$16:$B$45,$A4,J$16:J$45) -> 0 | K4: =SUMIF($B$16:$B$45,$A4,K$16:K$45) -> 0 | L4: =SUMIF($B$16:$B$45,$A4,L$16:L$45) -> 0 | M4: =SUMIF($B$16:$B$45,$A4,M$16:M$45) -> 0 | ... BD4: =SUMIF($B$16:$B$45,$A4,BD$16:BD$45) -> 0
A5: =INDEX(TblGrupos[Tipo],3,1) -> C. ESFUERZO | D5: =PROPER(A5) -> C. Esfuerzo | F5: =SUMIF($B$16:$B$45,$A5,F$16:F$45) -> 0 | G5: =SUMIF($B$16:$B$45,$A5,G$16:G$45) -> 0 | H5: =SUMIF($B$16:$B$45,$A5,H$16:H$45) -> 0 | I5: =SUMIF($B$16:$B$45,$A5,I$16:I$45) -> 0 | J5: =SUMIF($B$16:$B$45,$A5,J$16:J$45) -> 0 | K5: =SUMIF($B$16:$B$45,$A5,K$16:K$45) -> 0 | L5: =SUMIF($B$16:$B$45,$A5,L$16:L$45) -> 0 | M5: =SUMIF($B$16:$B$45,$A5,M$16:M$45) -> 0 | ... BD5: =SUMIF($B$16:$B$45,$A5,BD$16:BD$45) -> 0
A6: =INDEX(TblGrupos[Tipo],4,1) -> D. CONDICIONES DE TRABAJO | D6: =PROPER(A6) -> D. Condiciones De Trabajo | F6: =SUMIF($B$16:$B$45,$A6,F$16:F$45) -> 0 | G6: =SUMIF($B$16:$B$45,$A6,G$16:G$45) -> 0 | H6: =SUMIF($B$16:$B$45,$A6,H$16:H$45) -> 0 | I6: =SUMIF($B$16:$B$45,$A6,I$16:I$45) -> 0 | J6: =SUMIF($B$16:$B$45,$A6,J$16:J$45) -> 0 | K6: =SUMIF($B$16:$B$45,$A6,K$16:K$45) -> 0 | L6: =SUMIF($B$16:$B$45,$A6,L$16:L$45) -> 0 | M6: =SUMIF($B$16:$B$45,$A6,M$16:M$45) -> 0 | ... BD6: =SUMIF($B$16:$B$45,$A6,BD$16:BD$45) -> 0
F7: =SUM(F3:F6) -> 0 | G7: =SUM(G3:G6) -> 0 | H7: =SUM(H3:H6) -> 0 | I7: =SUM(I3:I6) -> 0 | J7: =SUM(J3:J6) -> 0 | K7: =SUM(K3:K6) -> 0 | L7: =SUM(L3:L6) -> 0 | M7: =SUM(M3:M6) -> 0 | ... BD7: =SUM(BD3:BD6) -> 0
D8: Puntos Femeninos | F8: =SUMIF($E$16:$E$45,"FEMENINO",F$16:F$45) -> 0 | G8: =SUMIF($E$16:$E$45,"FEMENINO",G$16:G$45) -> 0 | H8: =SUMIF($E$16:$E$45,"FEMENINO",H$16:H$45) -> 0 | I8: =SUMIF($E$16:$E$45,"FEMENINO",I$16:I$45) -> 0 | J8: =SUMIF($E$16:$E$45,"FEMENINO",J$16:J$45) -> 0 | K8: =SUMIF($E$16:$E$45,"FEMENINO",K$16:K$45) -> 0 | L8: =SUMIF($E$16:$E$45,"FEMENINO",L$16:L$45) -> 0 | M8: =SUMIF($E$16:$E$45,"FEMENINO",M$16:M$45) -> 0 | ... BD8: =SUMIF($E$16:$E$45,"FEMENINO",BD$16:BD$45) -> 0
D9: Puntos Masculinos | F9: =SUMIF($E$16:$E$45,"MASCULINO",F$16:F$45) -> 0 | G9: =SUMIF($E$16:$E$45,"MASCULINO",G$16:G$45) -> 0 | H9: =SUMIF($E$16:$E$45,"MASCULINO",H$16:H$45) -> 0 | I9: =SUMIF($E$16:$E$45,"MASCULINO",I$16:I$45) -> 0 | J9: =SUMIF($E$16:$E$45,"MASCULINO",J$16:J$45) -> 0 | K9: =SUMIF($E$16:$E$45,"MASCULINO",K$16:K$45) -> 0 | L9: =SUMIF($E$16:$E$45,"MASCULINO",L$16:L$45) -> 0 | M9: =SUMIF($E$16:$E$45,"MASCULINO",M$16:M$45) -> 0 | ... BD9: =SUMIF($E$16:$E$45,"MASCULINO",BD$16:BD$45) -> 0
D10: Puntos Neutros | F10: =SUMIF($E$16:$E$45,"NEUTRO",F$16:F$45) -> 0 | G10: =SUMIF($E$16:$E$45,"NEUTRO",G$16:G$45) -> 0 | H10: =SUMIF($E$16:$E$45,"NEUTRO",H$16:H$45) -> 0 | I10: =SUMIF($E$16:$E$45,"NEUTRO",I$16:I$45) -> 0 | J10: =SUMIF($E$16:$E$45,"NEUTRO",J$16:J$45) -> 0 | K10: =SUMIF($E$16:$E$45,"NEUTRO",K$16:K$45) -> 0 | L10: =SUMIF($E$16:$E$45,"NEUTRO",L$16:L$45) -> 0 | M10: =SUMIF($E$16:$E$45,"NEUTRO",M$16:M$45) -> 0 | ... BD10: =SUMIF($E$16:$E$45,"NEUTRO",BD$16:BD$45) -> 0
F11: =SUM(F8:F10) -> 0 | G11: =SUM(G8:G10) -> 0 | H11: =SUM(H8:H10) -> 0 | I11: =SUM(I8:I10) -> 0 | J11: =SUM(J8:J10) -> 0 | K11: =SUM(K8:K10) -> 0 | L11: =SUM(L8:L10) -> 0 | M11: =SUM(M8:M10) -> 0 | ... BD11: =SUM(BD8:BD10) -> 0
D13: Totales | F13: =SUM(F16:F45) -> 0 | G13: =SUM(G16:G45) -> 0 | H13: =SUM(H16:H45) -> 0 | I13: =SUM(I16:I45) -> 0 | J13: =SUM(J16:J45) -> 0 | K13: =SUM(K16:K45) -> 0 | L13: =SUM(L16:L45) -> 0 | M13: =SUM(M16:M45) -> 0 | ... BD13: =SUM(BD16:BD45) -> 0
A14: Ocultar | C14: Ocultar | G14: P01 | H14: P02 | I14: P03 | J14: P04 | K14: P05 | L14: P06 | M14: P07 | N14: P08 | O14: P09 | P14: P10 | Q14: P11 | R14: P12 | S14: P13 | T14: P14 | U14: P15 | V14: P16 | W14: P17 | X14: P18 | Y14: P19 | Z14: P20 | AA14: P21 | AB14: P22 | AC14: P23 | AD14: P24 | AE14: P25 | AF14: P26 | AG14: P27 | AH14: P28 | AI14: P29 | AJ14: P30 | AK14: P31 | AL14: P32 | AM14: P33 | AN14: P34 | AO14: P35 | AP14: P36 | AQ14: P37 | AR14: P38 | AS14: P39 | AT14: P40 | AU14: P41 | AV14: P42 | AW14: P43 | AX14: P44 | AY14: P45 | AZ14: P46 | BA14: P47 | BB14: P48 | BC14: P49 | BD14: P50
B15: Tipo | C15: Factor | D15: Nombre del Factor | E15: Género | F15: Total Puntos por Factor | G15: =IFERROR(G$14&"_"&VLOOKUP(G$14,TblListPuestos[],2,0),"") -> P01_ | H15: =IFERROR(H$14&"_"&VLOOKUP(H$14,TblListPuestos[],2,0),"") -> P02_ | I15: =IFERROR(I$14&"_"&VLOOKUP(I$14,TblListPuestos[],2,0),"") -> P03_ | J15: =IFERROR(J$14&"_"&VLOOKUP(J$14,TblListPuestos[],2,0),"") -> P04_ | K15: =IFERROR(K$14&"_"&VLOOKUP(K$14,TblListPuestos[],2,0),"") -> P05_ | L15: =IFERROR(L$14&"_"&VLOOKUP(L$14,TblListPuestos[],2,0),"") -> P06_ | M15: =IFERROR(M$14&"_"&VLOOKUP(M$14,TblListPuestos[],2,0),"") -> P07_ | N15: =IFERROR(N$14&"_"&VLOOKUP(N$14,TblListPuestos[],2,0),"") -> P08_ | ... BD15: =IFERROR(BD$14&"_"&VLOOKUP(BD$14,TblListPuestos[],2,0),"") -> P50_
A16: 1 | B16: =IF($C16="","",IFERROR(VLOOKUP($C16,Tbl_ListFactores[],MATCH(B$15,Tbl_ListFactores[#Headers],0),0),"")) -> zz | C16: FACTOR 1 | D16: =IF($C16="","",IFERROR(VLOOKUP($C16,Tbl_ListFactores[],MATCH(D$15,Tbl_ListFactores[#Headers],0),0),"")) | E16: =IF($C16="","",IFERROR(VLOOKUP($C16,Tbl_ListFactores[],MATCH(E$15,Tbl_ListFactores[#Headers],0),0),"")) | F16: =SUM(G16:BD16) -> 0 | G16: =IFERROR(VLOOKUP($C16,INDIRECT("Tbl"&G$14),MATCH("Puntos",TblP01[#Headers],0),0)* VLOOKUP($C16,TblFactor[],MATCH("SVPT",TblFactor[#Headers],0),0)* VLOOKUP($B16,TblGrupos[],MATCH("SVPT",TblGrupos[#Headers],0),0),"") | H16: =IFERROR(VLOOKUP($C16,INDIRECT("Tbl"&H$14),MATCH("Puntos",TblP01[#Headers],0),0)* VLOOKUP($C16,TblFactor[],MATCH("SVPT",TblFactor[#Headers],0),0)* VLOOKUP($B16,TblGrupos[],MATCH("SVPT",TblGrupos[#Headers],0),0),"") | I16: =IFERROR(VLOOKUP($C16,INDIRECT("Tbl"&I$14),MATCH("Puntos",TblP01[#Headers],0),0)* VLOOKUP($C16,TblFactor[],MATCH("SVPT",TblFactor[#Headers],0),0)* VLOOKUP($B16,TblGrupos[],MATCH("SVPT",TblGrupos[#Headers],0),0),"") | J16: =IFERROR(VLOOKUP($C16,INDIRECT("Tbl"&J$14),MATCH("Puntos",TblP01[#Headers],0),0)* VLOOKUP($C16,TblFactor[],MATCH("SVPT",TblFactor[#Headers],0),0)* VLOOKUP($B16,TblGrupos[],MATCH("SVPT",TblGrupos[#Headers],0),0),"") | K16: =IFERROR(VLOOKUP($C16,INDIRECT("Tbl"&K$14),MATCH("Puntos",TblP01[#Headers],0),0)* VLOOKUP($C16,TblFactor[],MATCH("SVPT",TblFactor[#Headers],0),0)* VLOOKUP($B16,TblGrupos[],MATCH("SVPT",TblGrupos[#Headers],0),0),"") | L16: =IFERROR(VLOOKUP($C16,INDIRECT("Tbl"&L$14),MATCH("Puntos",TblP01[#Headers],0),0)* VLOOKUP($C16,TblFactor[],MATCH("SVPT",TblFactor[#Headers],0),0)* VLOOKUP($B16,TblGrupos[],MATCH("SVPT",TblGrupos[#Headers],0),0),"") | M16: =IFERROR(VLOOKUP($C16,INDIRECT("Tbl"&M$14),MATCH("Puntos",TblP01[#Headers],0),0)* VLOOKUP($C16,TblFactor[],MATCH("SVPT",TblFactor[#Headers],0),0)* VLOOKUP($B16,TblGrupos[],MATCH("SVPT",TblGrupos[#Headers],0),0),"") | N16: =IFERROR(VLOOKUP($C16,INDIRECT("Tbl"&N$14),MATCH("Puntos",TblP01[#Headers],0),0)* VLOOKUP($C16,TblFactor[],MATCH("SVPT",TblFactor[#Headers],0),0)* VLOOKUP($B16,TblGrupos[],MATCH("SVPT",TblGrupos[#Headers],0),0),"") | ... BD16: =IFERROR(VLOOKUP($C16,INDIRECT("Tbl"&BD$14),MATCH("Puntos",TblP01[#Headers],0),0)* VLOOKUP($C16,TblFactor[],MATCH("SVPT",TblFactor[#Headers],0),0)* VLOOKUP($B16,TblGrupos[],MATCH("SVPT",TblGrupos[#Headers],0),0),"")
A17: 2 | B17: =IF($C17="","",IFERROR(VLOOKUP($C17,Tbl_ListFactores[],MATCH(B$15,Tbl_ListFactores[#Headers],0),0),"")) -> zz | C17: FACTOR 2 | D17: =IF($C17="","",IFERROR(VLOOKUP($C17,Tbl_ListFactores[],MATCH(D$15,Tbl_ListFactores[#Headers],0),0),"")) | E17: =IF($C17="","",IFERROR(VLOOKUP($C17,Tbl_ListFactores[],MATCH(E$15,Tbl_ListFactores[#Headers],0),0),"")) | F17: =SUM(G17:BD17) -> 0 | G17: =IFERROR(VLOOKUP($C17,INDIRECT("Tbl"&G$14),MATCH("Puntos",TblP01[#Headers],0),0)* VLOOKUP($C17,TblFactor[],MATCH("SVPT",TblFactor[#Headers],0),0)* VLOOKUP($B17,TblGrupos[],MATCH("SVPT",TblGrupos[#Headers],0),0),"") | H17: =IFERROR(VLOOKUP($C17,INDIRECT("Tbl"&H$14),MATCH("Puntos",TblP01[#Headers],0),0)* VLOOKUP($C17,TblFactor[],MATCH("SVPT",TblFactor[#Headers],0),0)* VLOOKUP($B17,TblGrupos[],MATCH("SVPT",TblGrupos[#Headers],0),0),"") | I17: =IFERROR(VLOOKUP($C17,INDIRECT("Tbl"&I$14),MATCH("Puntos",TblP01[#Headers],0),0)* VLOOKUP($C17,TblFactor[],MATCH("SVPT",TblFactor[#Headers],0),0)* VLOOKUP($B17,TblGrupos[],MATCH("SVPT",TblGrupos[#Headers],0),0),"") | J17: =IFERROR(VLOOKUP($C17,INDIRECT("Tbl"&J$14),MATCH("Puntos",TblP01[#Headers],0),0)* VLOOKUP($C17,TblFactor[],MATCH("SVPT",TblFactor[#Headers],0),0)* VLOOKUP($B17,TblGrupos[],MATCH("SVPT",TblGrupos[#Headers],0),0),"") | K17: =IFERROR(VLOOKUP($C17,INDIRECT("Tbl"&K$14),MATCH("Puntos",TblP01[#Headers],0),0)* VLOOKUP($C17,TblFactor[],MATCH("SVPT",TblFactor[#Headers],0),0)* VLOOKUP($B17,TblGrupos[],MATCH("SVPT",TblGrupos[#Headers],0),0),"") | L17: =IFERROR(VLOOKUP($C17,INDIRECT("Tbl"&L$14),MATCH("Puntos",TblP01[#Headers],0),0)* VLOOKUP($C17,TblFactor[],MATCH("SVPT",TblFactor[#Headers],0),0)* VLOOKUP($B17,TblGrupos[],MATCH("SVPT",TblGrupos[#Headers],0),0),"") | M17: =IFERROR(VLOOKUP($C17,INDIRECT("Tbl"&M$14),MATCH("Puntos",TblP01[#Headers],0),0)* VLOOKUP($C17,TblFactor[],MATCH("SVPT",TblFactor[#Headers],0),0)* VLOOKUP($B17,TblGrupos[],MATCH("SVPT",TblGrupos[#Headers],0),0),"") | N17: =IFERROR(VLOOKUP($C17,INDIRECT("Tbl"&N$14),MATCH("Puntos",TblP01[#Headers],0),0)* VLOOKUP($C17,TblFactor[],MATCH("SVPT",TblFactor[#Headers],0),0)* VLOOKUP($B17,TblGrupos[],MATCH("SVPT",TblGrupos[#Headers],0),0),"") | ... BD17: =IFERROR(VLOOKUP($C17,INDIRECT("Tbl"&BD$14),MATCH("Puntos",TblP01[#Headers],0),0)* VLOOKUP($C17,TblFactor[],MATCH("SVPT",TblFactor[#Headers],0),0)* VLOOKUP($B17,TblGrupos[],MATCH("SVPT",TblGrupos[#Headers],0),0),"")
A18: 3 | B18: =IF($C18="","",IFERROR(VLOOKUP($C18,Tbl_ListFactores[],MATCH(B$15,Tbl_ListFactores[#Headers],0),0),"")) -> zz | C18: FACTOR 3 | D18: =IF($C18="","",IFERROR(VLOOKUP($C18,Tbl_ListFactores[],MATCH(D$15,Tbl_ListFactores[#Headers],0),0),"")) | E18: =IF($C18="","",IFERROR(VLOOKUP($C18,Tbl_ListFactores[],MATCH(E$15,Tbl_ListFactores[#Headers],0),0),"")) | F18: =SUM(G18:BD18) -> 0 | G18: =IFERROR(VLOOKUP($C18,INDIRECT("Tbl"&G$14),MATCH("Puntos",TblP01[#Headers],0),0)* VLOOKUP($C18,TblFactor[],MATCH("SVPT",TblFactor[#Headers],0),0)* VLOOKUP($B18,TblGrupos[],MATCH("SVPT",TblGrupos[#Headers],0),0),"") | H18: =IFERROR(VLOOKUP($C18,INDIRECT("Tbl"&H$14),MATCH("Puntos",TblP01[#Headers],0),0)* VLOOKUP($C18,TblFactor[],MATCH("SVPT",TblFactor[#Headers],0),0)* VLOOKUP($B18,TblGrupos[],MATCH("SVPT",TblGrupos[#Headers],0),0),"") | I18: =IFERROR(VLOOKUP($C18,INDIRECT("Tbl"&I$14),MATCH("Puntos",TblP01[#Headers],0),0)* VLOOKUP($C18,TblFactor[],MATCH("SVPT",TblFactor[#Headers],0),0)* VLOOKUP($B18,TblGrupos[],MATCH("SVPT",TblGrupos[#Headers],0),0),"") | J18: =IFERROR(VLOOKUP($C18,INDIRECT("Tbl"&J$14),MATCH("Puntos",TblP01[#Headers],0),0)* VLOOKUP($C18,TblFactor[],MATCH("SVPT",TblFactor[#Headers],0),0)* VLOOKUP($B18,TblGrupos[],MATCH("SVPT",TblGrupos[#Headers],0),0),"") | K18: =IFERROR(VLOOKUP($C18,INDIRECT("Tbl"&K$14),MATCH("Puntos",TblP01[#Headers],0),0)* VLOOKUP($C18,TblFactor[],MATCH("SVPT",TblFactor[#Headers],0),0)* VLOOKUP($B18,TblGrupos[],MATCH("SVPT",TblGrupos[#Headers],0),0),"") | L18: =IFERROR(VLOOKUP($C18,INDIRECT("Tbl"&L$14),MATCH("Puntos",TblP01[#Headers],0),0)* VLOOKUP($C18,TblFactor[],MATCH("SVPT",TblFactor[#Headers],0),0)* VLOOKUP($B18,TblGrupos[],MATCH("SVPT",TblGrupos[#Headers],0),0),"") | M18: =IFERROR(VLOOKUP($C18,INDIRECT("Tbl"&M$14),MATCH("Puntos",TblP01[#Headers],0),0)* VLOOKUP($C18,TblFactor[],MATCH("SVPT",TblFactor[#Headers],0),0)* VLOOKUP($B18,TblGrupos[],MATCH("SVPT",TblGrupos[#Headers],0),0),"") | N18: =IFERROR(VLOOKUP($C18,INDIRECT("Tbl"&N$14),MATCH("Puntos",TblP01[#Headers],0),0)* VLOOKUP($C18,TblFactor[],MATCH("SVPT",TblFactor[#Headers],0),0)* VLOOKUP($B18,TblGrupos[],MATCH("SVPT",TblGrupos[#Headers],0),0),"") | ... BD18: =IFERROR(VLOOKUP($C18,INDIRECT("Tbl"&BD$14),MATCH("Puntos",TblP01[#Headers],0),0)* VLOOKUP($C18,TblFactor[],MATCH("SVPT",TblFactor[#Headers],0),0)* VLOOKUP($B18,TblGrupos[],MATCH("SVPT",TblGrupos[#Headers],0),0),"")
A19: 4 | B19: =IF($C19="","",IFERROR(VLOOKUP($C19,Tbl_ListFactores[],MATCH(B$15,Tbl_ListFactores[#Headers],0),0),"")) -> zz | C19: FACTOR 4 | D19: =IF($C19="","",IFERROR(VLOOKUP($C19,Tbl_ListFactores[],MATCH(D$15,Tbl_ListFactores[#Headers],0),0),"")) | E19: =IF($C19="","",IFERROR(VLOOKUP($C19,Tbl_ListFactores[],MATCH(E$15,Tbl_ListFactores[#Headers],0),0),"")) | F19: =SUM(G19:BD19) -> 0 | G19: =IFERROR(VLOOKUP($C19,INDIRECT("Tbl"&G$14),MATCH("Puntos",TblP01[#Headers],0),0)* VLOOKUP($C19,TblFactor[],MATCH("SVPT",TblFactor[#Headers],0),0)* VLOOKUP($B19,TblGrupos[],MATCH("SVPT",TblGrupos[#Headers],0),0),"") | H19: =IFERROR(VLOOKUP($C19,INDIRECT("Tbl"&H$14),MATCH("Puntos",TblP01[#Headers],0),0)* VLOOKUP($C19,TblFactor[],MATCH("SVPT",TblFactor[#Headers],0),0)* VLOOKUP($B19,TblGrupos[],MATCH("SVPT",TblGrupos[#Headers],0),0),"") | I19: =IFERROR(VLOOKUP($C19,INDIRECT("Tbl"&I$14),MATCH("Puntos",TblP01[#Headers],0),0)* VLOOKUP($C19,TblFactor[],MATCH("SVPT",TblFactor[#Headers],0),0)* VLOOKUP($B19,TblGrupos[],MATCH("SVPT",TblGrupos[#Headers],0),0),"") | J19: =IFERROR(VLOOKUP($C19,INDIRECT("Tbl"&J$14),MATCH("Puntos",TblP01[#Headers],0),0)* VLOOKUP($C19,TblFactor[],MATCH("SVPT",TblFactor[#Headers],0),0)* VLOOKUP($B19,TblGrupos[],MATCH("SVPT",TblGrupos[#Headers],0),0),"") | K19: =IFERROR(VLOOKUP($C19,INDIRECT("Tbl"&K$14),MATCH("Puntos",TblP01[#Headers],0),0)* VLOOKUP($C19,TblFactor[],MATCH("SVPT",TblFactor[#Headers],0),0)* VLOOKUP($B19,TblGrupos[],MATCH("SVPT",TblGrupos[#Headers],0),0),"") | L19: =IFERROR(VLOOKUP($C19,INDIRECT("Tbl"&L$14),MATCH("Puntos",TblP01[#Headers],0),0)* VLOOKUP($C19,TblFactor[],MATCH("SVPT",TblFactor[#Headers],0),0)* VLOOKUP($B19,TblGrupos[],MATCH("SVPT",TblGrupos[#Headers],0),0),"") | M19: =IFERROR(VLOOKUP($C19,INDIRECT("Tbl"&M$14),MATCH("Puntos",TblP01[#Headers],0),0)* VLOOKUP($C19,TblFactor[],MATCH("SVPT",TblFactor[#Headers],0),0)* VLOOKUP($B19,TblGrupos[],MATCH("SVPT",TblGrupos[#Headers],0),0),"") | N19: =IFERROR(VLOOKUP($C19,INDIRECT("Tbl"&N$14),MATCH("Puntos",TblP01[#Headers],0),0)* VLOOKUP($C19,TblFactor[],MATCH("SVPT",TblFactor[#Headers],0),0)* VLOOKUP($B19,TblGrupos[],MATCH("SVPT",TblGrupos[#Headers],0),0),"") | ... BD19: =IFERROR(VLOOKUP($C19,INDIRECT("Tbl"&BD$14),MATCH("Puntos",TblP01[#Headers],0),0)* VLOOKUP($C19,TblFactor[],MATCH("SVPT",TblFactor[#Headers],0),0)* VLOOKUP($B19,TblGrupos[],MATCH("SVPT",TblGrupos[#Headers],0),0),"")
A20: 5 | B20: =IF($C20="","",IFERROR(VLOOKUP($C20,Tbl_ListFactores[],MATCH(B$15,Tbl_ListFactores[#Headers],0),0),"")) -> zz | C20: FACTOR 5 | D20: =IF($C20="","",IFERROR(VLOOKUP($C20,Tbl_ListFactores[],MATCH(D$15,Tbl_ListFactores[#Headers],0),0),"")) | E20: =IF($C20="","",IFERROR(VLOOKUP($C20,Tbl_ListFactores[],MATCH(E$15,Tbl_ListFactores[#Headers],0),0),"")) | F20: =SUM(G20:BD20) -> 0 | G20: =IFERROR(VLOOKUP($C20,INDIRECT("Tbl"&G$14),MATCH("Puntos",TblP01[#Headers],0),0)* VLOOKUP($C20,TblFactor[],MATCH("SVPT",TblFactor[#Headers],0),0)* VLOOKUP($B20,TblGrupos[],MATCH("SVPT",TblGrupos[#Headers],0),0),"") | H20: =IFERROR(VLOOKUP($C20,INDIRECT("Tbl"&H$14),MATCH("Puntos",TblP01[#Headers],0),0)* VLOOKUP($C20,TblFactor[],MATCH("SVPT",TblFactor[#Headers],0),0)* VLOOKUP($B20,TblGrupos[],MATCH("SVPT",TblGrupos[#Headers],0),0),"") | I20: =IFERROR(VLOOKUP($C20,INDIRECT("Tbl"&I$14),MATCH("Puntos",TblP01[#Headers],0),0)* VLOOKUP($C20,TblFactor[],MATCH("SVPT",TblFactor[#Headers],0),0)* VLOOKUP($B20,TblGrupos[],MATCH("SVPT",TblGrupos[#Headers],0),0),"") | J20: =IFERROR(VLOOKUP($C20,INDIRECT("Tbl"&J$14),MATCH("Puntos",TblP01[#Headers],0),0)* VLOOKUP($C20,TblFactor[],MATCH("SVPT",TblFactor[#Headers],0),0)* VLOOKUP($B20,TblGrupos[],MATCH("SVPT",TblGrupos[#Headers],0),0),"") | K20: =IFERROR(VLOOKUP($C20,INDIRECT("Tbl"&K$14),MATCH("Puntos",TblP01[#Headers],0),0)* VLOOKUP($C20,TblFactor[],MATCH("SVPT",TblFactor[#Headers],0),0)* VLOOKUP($B20,TblGrupos[],MATCH("SVPT",TblGrupos[#Headers],0),0),"") | L20: =IFERROR(VLOOKUP($C20,INDIRECT("Tbl"&L$14),MATCH("Puntos",TblP01[#Headers],0),0)* VLOOKUP($C20,TblFactor[],MATCH("SVPT",TblFactor[#Headers],0),0)* VLOOKUP($B20,TblGrupos[],MATCH("SVPT",TblGrupos[#Headers],0),0),"") | M20: =IFERROR(VLOOKUP($C20,INDIRECT("Tbl"&M$14),MATCH("Puntos",TblP01[#Headers],0),0)* VLOOKUP($C20,TblFactor[],MATCH("SVPT",TblFactor[#Headers],0),0)* VLOOKUP($B20,TblGrupos[],MATCH("SVPT",TblGrupos[#Headers],0),0),"") | N20: =IFERROR(VLOOKUP($C20,INDIRECT("Tbl"&N$14),MATCH("Puntos",TblP01[#Headers],0),0)* VLOOKUP($C20,TblFactor[],MATCH("SVPT",TblFactor[#Headers],0),0)* VLOOKUP($B20,TblGrupos[],MATCH("SVPT",TblGrupos[#Headers],0),0),"") | ... BD20: =IFERROR(VLOOKUP($C20,INDIRECT("Tbl"&BD$14),MATCH("Puntos",TblP01[#Headers],0),0)* VLOOKUP($C20,TblFactor[],MATCH("SVPT",TblFactor[#Headers],0),0)* VLOOKUP($B20,TblGrupos[],MATCH("SVPT",TblGrupos[#Headers],0),0),"")
A21: 6 | B21: =IF($C21="","",IFERROR(VLOOKUP($C21,Tbl_ListFactores[],MATCH(B$15,Tbl_ListFactores[#Headers],0),0),"")) -> zz | C21: FACTOR 6 | D21: =IF($C21="","",IFERROR(VLOOKUP($C21,Tbl_ListFactores[],MATCH(D$15,Tbl_ListFactores[#Headers],0),0),"")) | E21: =IF($C21="","",IFERROR(VLOOKUP($C21,Tbl_ListFactores[],MATCH(E$15,Tbl_ListFactores[#Headers],0),0),"")) | F21: =SUM(G21:BD21) -> 0 | G21: =IFERROR(VLOOKUP($C21,INDIRECT("Tbl"&G$14),MATCH("Puntos",TblP01[#Headers],0),0)* VLOOKUP($C21,TblFactor[],MATCH("SVPT",TblFactor[#Headers],0),0)* VLOOKUP($B21,TblGrupos[],MATCH("SVPT",TblGrupos[#Headers],0),0),"") | H21: =IFERROR(VLOOKUP($C21,INDIRECT("Tbl"&H$14),MATCH("Puntos",TblP01[#Headers],0),0)* VLOOKUP($C21,TblFactor[],MATCH("SVPT",TblFactor[#Headers],0),0)* VLOOKUP($B21,TblGrupos[],MATCH("SVPT",TblGrupos[#Headers],0),0),"") | I21: =IFERROR(VLOOKUP($C21,INDIRECT("Tbl"&I$14),MATCH("Puntos",TblP01[#Headers],0),0)* VLOOKUP($C21,TblFactor[],MATCH("SVPT",TblFactor[#Headers],0),0)* VLOOKUP($B21,TblGrupos[],MATCH("SVPT",TblGrupos[#Headers],0),0),"") | J21: =IFERROR(VLOOKUP($C21,INDIRECT("Tbl"&J$14),MATCH("Puntos",TblP01[#Headers],0),0)* VLOOKUP($C21,TblFactor[],MATCH("SVPT",TblFactor[#Headers],0),0)* VLOOKUP($B21,TblGrupos[],MATCH("SVPT",TblGrupos[#Headers],0),0),"") | K21: =IFERROR(VLOOKUP($C21,INDIRECT("Tbl"&K$14),MATCH("Puntos",TblP01[#Headers],0),0)* VLOOKUP($C21,TblFactor[],MATCH("SVPT",TblFactor[#Headers],0),0)* VLOOKUP($B21,TblGrupos[],MATCH("SVPT",TblGrupos[#Headers],0),0),"") | L21: =IFERROR(VLOOKUP($C21,INDIRECT("Tbl"&L$14),MATCH("Puntos",TblP01[#Headers],0),0)* VLOOKUP($C21,TblFactor[],MATCH("SVPT",TblFactor[#Headers],0),0)* VLOOKUP($B21,TblGrupos[],MATCH("SVPT",TblGrupos[#Headers],0),0),"") | M21: =IFERROR(VLOOKUP($C21,INDIRECT("Tbl"&M$14),MATCH("Puntos",TblP01[#Headers],0),0)* VLOOKUP($C21,TblFactor[],MATCH("SVPT",TblFactor[#Headers],0),0)* VLOOKUP($B21,TblGrupos[],MATCH("SVPT",TblGrupos[#Headers],0),0),"") | N21: =IFERROR(VLOOKUP($C21,INDIRECT("Tbl"&N$14),MATCH("Puntos",TblP01[#Headers],0),0)* VLOOKUP($C21,TblFactor[],MATCH("SVPT",TblFactor[#Headers],0),0)* VLOOKUP($B21,TblGrupos[],MATCH("SVPT",TblGrupos[#Headers],0),0),"") | ... BD21: =IFERROR(VLOOKUP($C21,INDIRECT("Tbl"&BD$14),MATCH("Puntos",TblP01[#Headers],0),0)* VLOOKUP($C21,TblFactor[],MATCH("SVPT",TblFactor[#Headers],0),0)* VLOOKUP($B21,TblGrupos[],MATCH("SVPT",TblGrupos[#Headers],0),0),"")
A22: 7 | B22: =IF($C22="","",IFERROR(VLOOKUP($C22,Tbl_ListFactores[],MATCH(B$15,Tbl_ListFactores[#Headers],0),0),"")) -> zz | C22: FACTOR 7 | D22: =IF($C22="","",IFERROR(VLOOKUP($C22,Tbl_ListFactores[],MATCH(D$15,Tbl_ListFactores[#Headers],0),0),"")) | E22: =IF($C22="","",IFERROR(VLOOKUP($C22,Tbl_ListFactores[],MATCH(E$15,Tbl_ListFactores[#Headers],0),0),"")) | F22: =SUM(G22:BD22) -> 0 | G22: =IFERROR(VLOOKUP($C22,INDIRECT("Tbl"&G$14),MATCH("Puntos",TblP01[#Headers],0),0)* VLOOKUP($C22,TblFactor[],MATCH("SVPT",TblFactor[#Headers],0),0)* VLOOKUP($B22,TblGrupos[],MATCH("SVPT",TblGrupos[#Headers],0),0),"") | H22: =IFERROR(VLOOKUP($C22,INDIRECT("Tbl"&H$14),MATCH("Puntos",TblP01[#Headers],0),0)* VLOOKUP($C22,TblFactor[],MATCH("SVPT",TblFactor[#Headers],0),0)* VLOOKUP($B22,TblGrupos[],MATCH("SVPT",TblGrupos[#Headers],0),0),"") | I22: =IFERROR(VLOOKUP($C22,INDIRECT("Tbl"&I$14),MATCH("Puntos",TblP01[#Headers],0),0)* VLOOKUP($C22,TblFactor[],MATCH("SVPT",TblFactor[#Headers],0),0)* VLOOKUP($B22,TblGrupos[],MATCH("SVPT",TblGrupos[#Headers],0),0),"") | J22: =IFERROR(VLOOKUP($C22,INDIRECT("Tbl"&J$14),MATCH("Puntos",TblP01[#Headers],0),0)* VLOOKUP($C22,TblFactor[],MATCH("SVPT",TblFactor[#Headers],0),0)* VLOOKUP($B22,TblGrupos[],MATCH("SVPT",TblGrupos[#Headers],0),0),"") | K22: =IFERROR(VLOOKUP($C22,INDIRECT("Tbl"&K$14),MATCH("Puntos",TblP01[#Headers],0),0)* VLOOKUP($C22,TblFactor[],MATCH("SVPT",TblFactor[#Headers],0),0)* VLOOKUP($B22,TblGrupos[],MATCH("SVPT",TblGrupos[#Headers],0),0),"") | L22: =IFERROR(VLOOKUP($C22,INDIRECT("Tbl"&L$14),MATCH("Puntos",TblP01[#Headers],0),0)* VLOOKUP($C22,TblFactor[],MATCH("SVPT",TblFactor[#Headers],0),0)* VLOOKUP($B22,TblGrupos[],MATCH("SVPT",TblGrupos[#Headers],0),0),"") | M22: =IFERROR(VLOOKUP($C22,INDIRECT("Tbl"&M$14),MATCH("Puntos",TblP01[#Headers],0),0)* VLOOKUP($C22,TblFactor[],MATCH("SVPT",TblFactor[#Headers],0),0)* VLOOKUP($B22,TblGrupos[],MATCH("SVPT",TblGrupos[#Headers],0),0),"") | N22: =IFERROR(VLOOKUP($C22,INDIRECT("Tbl"&N$14),MATCH("Puntos",TblP01[#Headers],0),0)* VLOOKUP($C22,TblFactor[],MATCH("SVPT",TblFactor[#Headers],0),0)* VLOOKUP($B22,TblGrupos[],MATCH("SVPT",TblGrupos[#Headers],0),0),"") | ... BD22: =IFERROR(VLOOKUP($C22,INDIRECT("Tbl"&BD$14),MATCH("Puntos",TblP01[#Headers],0),0)* VLOOKUP($C22,TblFactor[],MATCH("SVPT",TblFactor[#Headers],0),0)* VLOOKUP($B22,TblGrupos[],MATCH("SVPT",TblGrupos[#Headers],0),0),"")
A23: 8 | B23: =IF($C23="","",IFERROR(VLOOKUP($C23,Tbl_ListFactores[],MATCH(B$15,Tbl_ListFactores[#Headers],0),0),"")) -> zz | C23: FACTOR 8 | D23: =IF($C23="","",IFERROR(VLOOKUP($C23,Tbl_ListFactores[],MATCH(D$15,Tbl_ListFactores[#Headers],0),0),"")) | E23: =IF($C23="","",IFERROR(VLOOKUP($C23,Tbl_ListFactores[],MATCH(E$15,Tbl_ListFactores[#Headers],0),0),"")) | F23: =SUM(G23:BD23) -> 0 | G23: =IFERROR(VLOOKUP($C23,INDIRECT("Tbl"&G$14),MATCH("Puntos",TblP01[#Headers],0),0)* VLOOKUP($C23,TblFactor[],MATCH("SVPT",TblFactor[#Headers],0),0)* VLOOKUP($B23,TblGrupos[],MATCH("SVPT",TblGrupos[#Headers],0),0),"") | H23: =IFERROR(VLOOKUP($C23,INDIRECT("Tbl"&H$14),MATCH("Puntos",TblP01[#Headers],0),0)* VLOOKUP($C23,TblFactor[],MATCH("SVPT",TblFactor[#Headers],0),0)* VLOOKUP($B23,TblGrupos[],MATCH("SVPT",TblGrupos[#Headers],0),0),"") | I23: =IFERROR(VLOOKUP($C23,INDIRECT("Tbl"&I$14),MATCH("Puntos",TblP01[#Headers],0),0)* VLOOKUP($C23,TblFactor[],MATCH("SVPT",TblFactor[#Headers],0),0)* VLOOKUP($B23,TblGrupos[],MATCH("SVPT",TblGrupos[#Headers],0),0),"") | J23: =IFERROR(VLOOKUP($C23,INDIRECT("Tbl"&J$14),MATCH("Puntos",TblP01[#Headers],0),0)* VLOOKUP($C23,TblFactor[],MATCH("SVPT",TblFactor[#Headers],0),0)* VLOOKUP($B23,TblGrupos[],MATCH("SVPT",TblGrupos[#Headers],0),0),"") | K23: =IFERROR(VLOOKUP($C23,INDIRECT("Tbl"&K$14),MATCH("Puntos",TblP01[#Headers],0),0)* VLOOKUP($C23,TblFactor[],MATCH("SVPT",TblFactor[#Headers],0),0)* VLOOKUP($B23,TblGrupos[],MATCH("SVPT",TblGrupos[#Headers],0),0),"") | L23: =IFERROR(VLOOKUP($C23,INDIRECT("Tbl"&L$14),MATCH("Puntos",TblP01[#Headers],0),0)* VLOOKUP($C23,TblFactor[],MATCH("SVPT",TblFactor[#Headers],0),0)* VLOOKUP($B23,TblGrupos[],MATCH("SVPT",TblGrupos[#Headers],0),0),"") | M23: =IFERROR(VLOOKUP($C23,INDIRECT("Tbl"&M$14),MATCH("Puntos",TblP01[#Headers],0),0)* VLOOKUP($C23,TblFactor[],MATCH("SVPT",TblFactor[#Headers],0),0)* VLOOKUP($B23,TblGrupos[],MATCH("SVPT",TblGrupos[#Headers],0),0),"") | N23: =IFERROR(VLOOKUP($C23,INDIRECT("Tbl"&N$14),MATCH("Puntos",TblP01[#Headers],0),0)* VLOOKUP($C23,TblFactor[],MATCH("SVPT",TblFactor[#Headers],0),0)* VLOOKUP($B23,TblGrupos[],MATCH("SVPT",TblGrupos[#Headers],0),0),"") | ... BD23: =IFERROR(VLOOKUP($C23,INDIRECT("Tbl"&BD$14),MATCH("Puntos",TblP01[#Headers],0),0)* VLOOKUP($C23,TblFactor[],MATCH("SVPT",TblFactor[#Headers],0),0)* VLOOKUP($B23,TblGrupos[],MATCH("SVPT",TblGrupos[#Headers],0),0),"")
A24: 9 | B24: =IF($C24="","",IFERROR(VLOOKUP($C24,Tbl_ListFactores[],MATCH(B$15,Tbl_ListFactores[#Headers],0),0),"")) -> zz | C24: FACTOR 9 | D24: =IF($C24="","",IFERROR(VLOOKUP($C24,Tbl_ListFactores[],MATCH(D$15,Tbl_ListFactores[#Headers],0),0),"")) | E24: =IF($C24="","",IFERROR(VLOOKUP($C24,Tbl_ListFactores[],MATCH(E$15,Tbl_ListFactores[#Headers],0),0),"")) | F24: =SUM(G24:BD24) -> 0 | G24: =IFERROR(VLOOKUP($C24,INDIRECT("Tbl"&G$14),MATCH("Puntos",TblP01[#Headers],0),0)* VLOOKUP($C24,TblFactor[],MATCH("SVPT",TblFactor[#Headers],0),0)* VLOOKUP($B24,TblGrupos[],MATCH("SVPT",TblGrupos[#Headers],0),0),"") | H24: =IFERROR(VLOOKUP($C24,INDIRECT("Tbl"&H$14),MATCH("Puntos",TblP01[#Headers],0),0)* VLOOKUP($C24,TblFactor[],MATCH("SVPT",TblFactor[#Headers],0),0)* VLOOKUP($B24,TblGrupos[],MATCH("SVPT",TblGrupos[#Headers],0),0),"") | I24: =IFERROR(VLOOKUP($C24,INDIRECT("Tbl"&I$14),MATCH("Puntos",TblP01[#Headers],0),0)* VLOOKUP($C24,TblFactor[],MATCH("SVPT",TblFactor[#Headers],0),0)* VLOOKUP($B24,TblGrupos[],MATCH("SVPT",TblGrupos[#Headers],0),0),"") | J24: =IFERROR(VLOOKUP($C24,INDIRECT("Tbl"&J$14),MATCH("Puntos",TblP01[#Headers],0),0)* VLOOKUP($C24,TblFactor[],MATCH("SVPT",TblFactor[#Headers],0),0)* VLOOKUP($B24,TblGrupos[],MATCH("SVPT",TblGrupos[#Headers],0),0),"") | K24: =IFERROR(VLOOKUP($C24,INDIRECT("Tbl"&K$14),MATCH("Puntos",TblP01[#Headers],0),0)* VLOOKUP($C24,TblFactor[],MATCH("SVPT",TblFactor[#Headers],0),0)* VLOOKUP($B24,TblGrupos[],MATCH("SVPT",TblGrupos[#Headers],0),0),"") | L24: =IFERROR(VLOOKUP($C24,INDIRECT("Tbl"&L$14),MATCH("Puntos",TblP01[#Headers],0),0)* VLOOKUP($C24,TblFactor[],MATCH("SVPT",TblFactor[#Headers],0),0)* VLOOKUP($B24,TblGrupos[],MATCH("SVPT",TblGrupos[#Headers],0),0),"") | M24: =IFERROR(VLOOKUP($C24,INDIRECT("Tbl"&M$14),MATCH("Puntos",TblP01[#Headers],0),0)* VLOOKUP($C24,TblFactor[],MATCH("SVPT",TblFactor[#Headers],0),0)* VLOOKUP($B24,TblGrupos[],MATCH("SVPT",TblGrupos[#Headers],0),0),"") | N24: =IFERROR(VLOOKUP($C24,INDIRECT("Tbl"&N$14),MATCH("Puntos",TblP01[#Headers],0),0)* VLOOKUP($C24,TblFactor[],MATCH("SVPT",TblFactor[#Headers],0),0)* VLOOKUP($B24,TblGrupos[],MATCH("SVPT",TblGrupos[#Headers],0),0),"") | ... BD24: =IFERROR(VLOOKUP($C24,INDIRECT("Tbl"&BD$14),MATCH("Puntos",TblP01[#Headers],0),0)* VLOOKUP($C24,TblFactor[],MATCH("SVPT",TblFactor[#Headers],0),0)* VLOOKUP($B24,TblGrupos[],MATCH("SVPT",TblGrupos[#Headers],0),0),"")
A25: 10 | B25: =IF($C25="","",IFERROR(VLOOKUP($C25,Tbl_ListFactores[],MATCH(B$15,Tbl_ListFactores[#Headers],0),0),"")) -> zz | C25: FACTOR 10 | D25: =IF($C25="","",IFERROR(VLOOKUP($C25,Tbl_ListFactores[],MATCH(D$15,Tbl_ListFactores[#Headers],0),0),"")) | E25: =IF($C25="","",IFERROR(VLOOKUP($C25,Tbl_ListFactores[],MATCH(E$15,Tbl_ListFactores[#Headers],0),0),"")) | F25: =SUM(G25:BD25) -> 0 | G25: =IFERROR(VLOOKUP($C25,INDIRECT("Tbl"&G$14),MATCH("Puntos",TblP01[#Headers],0),0)* VLOOKUP($C25,TblFactor[],MATCH("SVPT",TblFactor[#Headers],0),0)* VLOOKUP($B25,TblGrupos[],MATCH("SVPT",TblGrupos[#Headers],0),0),"") | H25: =IFERROR(VLOOKUP($C25,INDIRECT("Tbl"&H$14),MATCH("Puntos",TblP01[#Headers],0),0)* VLOOKUP($C25,TblFactor[],MATCH("SVPT",TblFactor[#Headers],0),0)* VLOOKUP($B25,TblGrupos[],MATCH("SVPT",TblGrupos[#Headers],0),0),"") | I25: =IFERROR(VLOOKUP($C25,INDIRECT("Tbl"&I$14),MATCH("Puntos",TblP01[#Headers],0),0)* VLOOKUP($C25,TblFactor[],MATCH("SVPT",TblFactor[#Headers],0),0)* VLOOKUP($B25,TblGrupos[],MATCH("SVPT",TblGrupos[#Headers],0),0),"") | J25: =IFERROR(VLOOKUP($C25,INDIRECT("Tbl"&J$14),MATCH("Puntos",TblP01[#Headers],0),0)* VLOOKUP($C25,TblFactor[],MATCH("SVPT",TblFactor[#Headers],0),0)* VLOOKUP($B25,TblGrupos[],MATCH("SVPT",TblGrupos[#Headers],0),0),"") | K25: =IFERROR(VLOOKUP($C25,INDIRECT("Tbl"&K$14),MATCH("Puntos",TblP01[#Headers],0),0)* VLOOKUP($C25,TblFactor[],MATCH("SVPT",TblFactor[#Headers],0),0)* VLOOKUP($B25,TblGrupos[],MATCH("SVPT",TblGrupos[#Headers],0),0),"") | L25: =IFERROR(VLOOKUP($C25,INDIRECT("Tbl"&L$14),MATCH("Puntos",TblP01[#Headers],0),0)* VLOOKUP($C25,TblFactor[],MATCH("SVPT",TblFactor[#Headers],0),0)* VLOOKUP($B25,TblGrupos[],MATCH("SVPT",TblGrupos[#Headers],0),0),"") | M25: =IFERROR(VLOOKUP($C25,INDIRECT("Tbl"&M$14),MATCH("Puntos",TblP01[#Headers],0),0)* VLOOKUP($C25,TblFactor[],MATCH("SVPT",TblFactor[#Headers],0),0)* VLOOKUP($B25,TblGrupos[],MATCH("SVPT",TblGrupos[#Headers],0),0),"") | N25: =IFERROR(VLOOKUP($C25,INDIRECT("Tbl"&N$14),MATCH("Puntos",TblP01[#Headers],0),0)* VLOOKUP($C25,TblFactor[],MATCH("SVPT",TblFactor[#Headers],0),0)* VLOOKUP($B25,TblGrupos[],MATCH("SVPT",TblGrupos[#Headers],0),0),"") | ... BD25: =IFERROR(VLOOKUP($C25,INDIRECT("Tbl"&BD$14),MATCH("Puntos",TblP01[#Headers],0),0)* VLOOKUP($C25,TblFactor[],MATCH("SVPT",TblFactor[#Headers],0),0)* VLOOKUP($B25,TblGrupos[],MATCH("SVPT",TblGrupos[#Headers],0),0),"")
A26: 11 | B26: =IF($C26="","",IFERROR(VLOOKUP($C26,Tbl_ListFactores[],MATCH(B$15,Tbl_ListFactores[#Headers],0),0),"")) -> zz | C26: FACTOR 11 | D26: =IF($C26="","",IFERROR(VLOOKUP($C26,Tbl_ListFactores[],MATCH(D$15,Tbl_ListFactores[#Headers],0),0),"")) | E26: =IF($C26="","",IFERROR(VLOOKUP($C26,Tbl_ListFactores[],MATCH(E$15,Tbl_ListFactores[#Headers],0),0),"")) | F26: =SUM(G26:BD26) -> 0 | G26: =IFERROR(VLOOKUP($C26,INDIRECT("Tbl"&G$14),MATCH("Puntos",TblP01[#Headers],0),0)* VLOOKUP($C26,TblFactor[],MATCH("SVPT",TblFactor[#Headers],0),0)* VLOOKUP($B26,TblGrupos[],MATCH("SVPT",TblGrupos[#Headers],0),0),"") | H26: =IFERROR(VLOOKUP($C26,INDIRECT("Tbl"&H$14),MATCH("Puntos",TblP01[#Headers],0),0)* VLOOKUP($C26,TblFactor[],MATCH("SVPT",TblFactor[#Headers],0),0)* VLOOKUP($B26,TblGrupos[],MATCH("SVPT",TblGrupos[#Headers],0),0),"") | I26: =IFERROR(VLOOKUP($C26,INDIRECT("Tbl"&I$14),MATCH("Puntos",TblP01[#Headers],0),0)* VLOOKUP($C26,TblFactor[],MATCH("SVPT",TblFactor[#Headers],0),0)* VLOOKUP($B26,TblGrupos[],MATCH("SVPT",TblGrupos[#Headers],0),0),"") | J26: =IFERROR(VLOOKUP($C26,INDIRECT("Tbl"&J$14),MATCH("Puntos",TblP01[#Headers],0),0)* VLOOKUP($C26,TblFactor[],MATCH("SVPT",TblFactor[#Headers],0),0)* VLOOKUP($B26,TblGrupos[],MATCH("SVPT",TblGrupos[#Headers],0),0),"") | K26: =IFERROR(VLOOKUP($C26,INDIRECT("Tbl"&K$14),MATCH("Puntos",TblP01[#Headers],0),0)* VLOOKUP($C26,TblFactor[],MATCH("SVPT",TblFactor[#Headers],0),0)* VLOOKUP($B26,TblGrupos[],MATCH("SVPT",TblGrupos[#Headers],0),0),"") | L26: =IFERROR(VLOOKUP($C26,INDIRECT("Tbl"&L$14),MATCH("Puntos",TblP01[#Headers],0),0)* VLOOKUP($C26,TblFactor[],MATCH("SVPT",TblFactor[#Headers],0),0)* VLOOKUP($B26,TblGrupos[],MATCH("SVPT",TblGrupos[#Headers],0),0),"") | M26: =IFERROR(VLOOKUP($C26,INDIRECT("Tbl"&M$14),MATCH("Puntos",TblP01[#Headers],0),0)* VLOOKUP($C26,TblFactor[],MATCH("SVPT",TblFactor[#Headers],0),0)* VLOOKUP($B26,TblGrupos[],MATCH("SVPT",TblGrupos[#Headers],0),0),"") | N26: =IFERROR(VLOOKUP($C26,INDIRECT("Tbl"&N$14),MATCH("Puntos",TblP01[#Headers],0),0)* VLOOKUP($C26,TblFactor[],MATCH("SVPT",TblFactor[#Headers],0),0)* VLOOKUP($B26,TblGrupos[],MATCH("SVPT",TblGrupos[#Headers],0),0),"") | ... BD26: =IFERROR(VLOOKUP($C26,INDIRECT("Tbl"&BD$14),MATCH("Puntos",TblP01[#Headers],0),0)* VLOOKUP($C26,TblFactor[],MATCH("SVPT",TblFactor[#Headers],0),0)* VLOOKUP($B26,TblGrupos[],MATCH("SVPT",TblGrupos[#Headers],0),0),"")
A27: 12 | B27: =IF($C27="","",IFERROR(VLOOKUP($C27,Tbl_ListFactores[],MATCH(B$15,Tbl_ListFactores[#Headers],0),0),"")) -> zz | C27: FACTOR 12 | D27: =IF($C27="","",IFERROR(VLOOKUP($C27,Tbl_ListFactores[],MATCH(D$15,Tbl_ListFactores[#Headers],0),0),"")) | E27: =IF($C27="","",IFERROR(VLOOKUP($C27,Tbl_ListFactores[],MATCH(E$15,Tbl_ListFactores[#Headers],0),0),"")) | F27: =SUM(G27:BD27) -> 0 | G27: =IFERROR(VLOOKUP($C27,INDIRECT("Tbl"&G$14),MATCH("Puntos",TblP01[#Headers],0),0)* VLOOKUP($C27,TblFactor[],MATCH("SVPT",TblFactor[#Headers],0),0)* VLOOKUP($B27,TblGrupos[],MATCH("SVPT",TblGrupos[#Headers],0),0),"") | H27: =IFERROR(VLOOKUP($C27,INDIRECT("Tbl"&H$14),MATCH("Puntos",TblP01[#Headers],0),0)* VLOOKUP($C27,TblFactor[],MATCH("SVPT",TblFactor[#Headers],0),0)* VLOOKUP($B27,TblGrupos[],MATCH("SVPT",TblGrupos[#Headers],0),0),"") | I27: =IFERROR(VLOOKUP($C27,INDIRECT("Tbl"&I$14),MATCH("Puntos",TblP01[#Headers],0),0)* VLOOKUP($C27,TblFactor[],MATCH("SVPT",TblFactor[#Headers],0),0)* VLOOKUP($B27,TblGrupos[],MATCH("SVPT",TblGrupos[#Headers],0),0),"") | J27: =IFERROR(VLOOKUP($C27,INDIRECT("Tbl"&J$14),MATCH("Puntos",TblP01[#Headers],0),0)* VLOOKUP($C27,TblFactor[],MATCH("SVPT",TblFactor[#Headers],0),0)* VLOOKUP($B27,TblGrupos[],MATCH("SVPT",TblGrupos[#Headers],0),0),"") | K27: =IFERROR(VLOOKUP($C27,INDIRECT("Tbl"&K$14),MATCH("Puntos",TblP01[#Headers],0),0)* VLOOKUP($C27,TblFactor[],MATCH("SVPT",TblFactor[#Headers],0),0)* VLOOKUP($B27,TblGrupos[],MATCH("SVPT",TblGrupos[#Headers],0),0),"") | L27: =IFERROR(VLOOKUP($C27,INDIRECT("Tbl"&L$14),MATCH("Puntos",TblP01[#Headers],0),0)* VLOOKUP($C27,TblFactor[],MATCH("SVPT",TblFactor[#Headers],0),0)* VLOOKUP($B27,TblGrupos[],MATCH("SVPT",TblGrupos[#Headers],0),0),"") | M27: =IFERROR(VLOOKUP($C27,INDIRECT("Tbl"&M$14),MATCH("Puntos",TblP01[#Headers],0),0)* VLOOKUP($C27,TblFactor[],MATCH("SVPT",TblFactor[#Headers],0),0)* VLOOKUP($B27,TblGrupos[],MATCH("SVPT",TblGrupos[#Headers],0),0),"") | N27: =IFERROR(VLOOKUP($C27,INDIRECT("Tbl"&N$14),MATCH("Puntos",TblP01[#Headers],0),0)* VLOOKUP($C27,TblFactor[],MATCH("SVPT",TblFactor[#Headers],0),0)* VLOOKUP($B27,TblGrupos[],MATCH("SVPT",TblGrupos[#Headers],0),0),"") | ... BD27: =IFERROR(VLOOKUP($C27,INDIRECT("Tbl"&BD$14),MATCH("Puntos",TblP01[#Headers],0),0)* VLOOKUP($C27,TblFactor[],MATCH("SVPT",TblFactor[#Headers],0),0)* VLOOKUP($B27,TblGrupos[],MATCH("SVPT",TblGrupos[#Headers],0),0),"")
... A45: 30 | B45: =IF($C45="","",IFERROR(VLOOKUP($C45,Tbl_ListFactores[],MATCH(B$15,Tbl_ListFactores[#Headers],0),0),"")) -> zz | C45: FACTOR 30 | D45: =IF($C45="","",IFERROR(VLOOKUP($C45,Tbl_ListFactores[],MATCH(D$15,Tbl_ListFactores[#Headers],0),0),"")) | E45: =IF($C45="","",IFERROR(VLOOKUP($C45,Tbl_ListFactores[],MATCH(E$15,Tbl_ListFactores[#Headers],0),0),"")) | F45: =SUM(G45:BD45) -> 0 | G45: =IFERROR(VLOOKUP($C45,INDIRECT("Tbl"&G$14),MATCH("Puntos",TblP01[#Headers],0),0)* VLOOKUP($C45,TblFactor[],MATCH("SVPT",TblFactor[#Headers],0),0)* VLOOKUP($B45,TblGrupos[],MATCH("SVPT",TblGrupos[#Headers],0),0),"") | H45: =IFERROR(VLOOKUP($C45,INDIRECT("Tbl"&H$14),MATCH("Puntos",TblP01[#Headers],0),0)* VLOOKUP($C45,TblFactor[],MATCH("SVPT",TblFactor[#Headers],0),0)* VLOOKUP($B45,TblGrupos[],MATCH("SVPT",TblGrupos[#Headers],0),0),"") | I45: =IFERROR(VLOOKUP($C45,INDIRECT("Tbl"&I$14),MATCH("Puntos",TblP01[#Headers],0),0)* VLOOKUP($C45,TblFactor[],MATCH("SVPT",TblFactor[#Headers],0),0)* VLOOKUP($B45,TblGrupos[],MATCH("SVPT",TblGrupos[#Headers],0),0),"") | J45: =IFERROR(VLOOKUP($C45,INDIRECT("Tbl"&J$14),MATCH("Puntos",TblP01[#Headers],0),0)* VLOOKUP($C45,TblFactor[],MATCH("SVPT",TblFactor[#Headers],0),0)* VLOOKUP($B45,TblGrupos[],MATCH("SVPT",TblGrupos[#Headers],0),0),"") | K45: =IFERROR(VLOOKUP($C45,INDIRECT("Tbl"&K$14),MATCH("Puntos",TblP01[#Headers],0),0)* VLOOKUP($C45,TblFactor[],MATCH("SVPT",TblFactor[#Headers],0),0)* VLOOKUP($B45,TblGrupos[],MATCH("SVPT",TblGrupos[#Headers],0),0),"") | L45: =IFERROR(VLOOKUP($C45,INDIRECT("Tbl"&L$14),MATCH("Puntos",TblP01[#Headers],0),0)* VLOOKUP($C45,TblFactor[],MATCH("SVPT",TblFactor[#Headers],0),0)* VLOOKUP($B45,TblGrupos[],MATCH("SVPT",TblGrupos[#Headers],0),0),"") | M45: =IFERROR(VLOOKUP($C45,INDIRECT("Tbl"&M$14),MATCH("Puntos",TblP01[#Headers],0),0)* VLOOKUP($C45,TblFactor[],MATCH("SVPT",TblFactor[#Headers],0),0)* VLOOKUP($B45,TblGrupos[],MATCH("SVPT",TblGrupos[#Headers],0),0),"") | N45: =IFERROR(VLOOKUP($C45,INDIRECT("Tbl"&N$14),MATCH("Puntos",TblP01[#Headers],0),0)* VLOOKUP($C45,TblFactor[],MATCH("SVPT",TblFactor[#Headers],0),0)* VLOOKUP($B45,TblGrupos[],MATCH("SVPT",TblGrupos[#Headers],0),0),"") | ... BD45: =IFERROR(VLOOKUP($C45,INDIRECT("Tbl"&BD$14),MATCH("Puntos",TblP01[#Headers],0),0)* VLOOKUP($C45,TblFactor[],MATCH("SVPT",TblFactor[#Headers],0),0)* VLOOKUP($B45,TblGrupos[],MATCH("SVPT",TblGrupos[#Headers],0),0),"")

Sheet Puntos_Puesto
A1: Clave | B1: Valor | C1: Departamento | D1: Grupo Profesional | E1: Puntos Femeninos | F1: Puntos Masculinos | G1: Puntos Neutros | H1: Puntos Totales
A2: SVPT | B2: SVPT | C2: SVPT | D2: SVPT | E2: =SUMIF(TblFactor[Género],"FEMENINO",TblFactor[Puntos]) -> 0 | F2: =SUMIF(TblFactor[Género],"MASCULINO",TblFactor[Puntos]) -> 0 | G2: =SUMIF(TblFactor[Género],"NEUTRO",TblFactor[Puntos]) -> 0 | H2: =SUM(TblListPuestos[[#This Row],[Puntos Femeninos]:[Puntos Neutros]]) -> 0
A3: P01 | B3: =IFERROR(IF(VLOOKUP(TblListPuestos[[#This Row],[Clave]],TblPuestos[],MATCH(B$1,TblPuestos[#Headers],0),0)=0,"",VLOOKUP(TblListPuestos[[#This Row],[Clave]],TblPuestos[],MATCH(B$1,TblPuestos[#Headers],0),0)),"") | C3: =IFERROR(IF(VLOOKUP(TblListPuestos[[#This Row],[Clave]],TblPuestos[],MATCH(C$1,TblPuestos[#Headers],0),0)=0,"",VLOOKUP(TblListPuestos[[#This Row],[Clave]],TblPuestos[],MATCH(C$1,TblPuestos[#Headers],0),0)),"") | D3: =IFERROR(IF(VLOOKUP(TblListPuestos[[#This Row],[Clave]],TblPuestos[],MATCH(D$1,TblPuestos[#Headers],0),0)=0,"",VLOOKUP(TblListPuestos[[#This Row],[Clave]],TblPuestos[],MATCH(D$1,TblPuestos[#Headers],0),0)),"") | E3: =IFERROR(HLOOKUP(TblListPuestos[[#This Row],[Clave]],'7. Puntuación_Puestos'!$G$1:$BD$11,MATCH(E$1,'7. Puntuación_Puestos'!$D$1:$D$11,0),0),"") -> 0 | F3: =IFERROR(HLOOKUP(TblListPuestos[[#This Row],[Clave]],'7. Puntuación_Puestos'!$G$1:$BD$11,MATCH(F$1,'7. Puntuación_Puestos'!$D$1:$D$11,0),0),"") -> 0 | G3: =IFERROR(HLOOKUP(TblListPuestos[[#This Row],[Clave]],'7. Puntuación_Puestos'!$G$1:$BD$11,MATCH(G$1,'7. Puntuación_Puestos'!$D$1:$D$11,0),0),"") -> 0 | H3: =SUM(TblListPuestos[[#This Row],[Puntos Femeninos]:[Puntos Neutros]]) -> 0
A4: P02 | B4: =IFERROR(IF(VLOOKUP(TblListPuestos[[#This Row],[Clave]],TblPuestos[],MATCH(B$1,TblPuestos[#Headers],0),0)=0,"",VLOOKUP(TblListPuestos[[#This Row],[Clave]],TblPuestos[],MATCH(B$1,TblPuestos[#Headers],0),0)),"") | C4: =IFERROR(IF(VLOOKUP(TblListPuestos[[#This Row],[Clave]],TblPuestos[],MATCH(C$1,TblPuestos[#Headers],0),0)=0,"",VLOOKUP(TblListPuestos[[#This Row],[Clave]],TblPuestos[],MATCH(C$1,TblPuestos[#Headers],0),0)),"") | D4: =IFERROR(IF(VLOOKUP(TblListPuestos[[#This Row],[Clave]],TblPuestos[],MATCH(D$1,TblPuestos[#Headers],0),0)=0,"",VLOOKUP(TblListPuestos[[#This Row],[Clave]],TblPuestos[],MATCH(D$1,TblPuestos[#Headers],0),0)),"") | E4: =IFERROR(HLOOKUP(TblListPuestos[[#This Row],[Clave]],'7. Puntuación_Puestos'!$G$1:$BD$11,MATCH(E$1,'7. Puntuación_Puestos'!$D$1:$D$11,0),0),"") -> 0 | F4: =IFERROR(HLOOKUP(TblListPuestos[[#This Row],[Clave]],'7. Puntuación_Puestos'!$G$1:$BD$11,MATCH(F$1,'7. Puntuación_Puestos'!$D$1:$D$11,0),0),"") -> 0 | G4: =IFERROR(HLOOKUP(TblListPuestos[[#This Row],[Clave]],'7. Puntuación_Puestos'!$G$1:$BD$11,MATCH(G$1,'7. Puntuación_Puestos'!$D$1:$D$11,0),0),"") -> 0 | H4: =SUM(TblListPuestos[[#This Row],[Puntos Femeninos]:[Puntos Neutros]]) -> 0
A5: P03 | B5: =IFERROR(IF(VLOOKUP(TblListPuestos[[#This Row],[Clave]],TblPuestos[],MATCH(B$1,TblPuestos[#Headers],0),0)=0,"",VLOOKUP(TblListPuestos[[#This Row],[Clave]],TblPuestos[],MATCH(B$1,TblPuestos[#Headers],0),0)),"") | C5: =IFERROR(IF(VLOOKUP(TblListPuestos[[#This Row],[Clave]],TblPuestos[],MATCH(C$1,TblPuestos[#Headers],0),0)=0,"",VLOOKUP(TblListPuestos[[#This Row],[Clave]],TblPuestos[],MATCH(C$1,TblPuestos[#Headers],0),0)),"") | D5: =IFERROR(IF(VLOOKUP(TblListPuestos[[#This Row],[Clave]],TblPuestos[],MATCH(D$1,TblPuestos[#Headers],0),0)=0,"",VLOOKUP(TblListPuestos[[#This Row],[Clave]],TblPuestos[],MATCH(D$1,TblPuestos[#Headers],0),0)),"") | E5: =IFERROR(HLOOKUP(TblListPuestos[[#This Row],[Clave]],'7. Puntuación_Puestos'!$G$1:$BD$11,MATCH(E$1,'7. Puntuación_Puestos'!$D$1:$D$11,0),0),"") -> 0 | F5: =IFERROR(HLOOKUP(TblListPuestos[[#This Row],[Clave]],'7. Puntuación_Puestos'!$G$1:$BD$11,MATCH(F$1,'7. Puntuación_Puestos'!$D$1:$D$11,0),0),"") -> 0 | G5: =IFERROR(HLOOKUP(TblListPuestos[[#This Row],[Clave]],'7. Puntuación_Puestos'!$G$1:$BD$11,MATCH(G$1,'7. Puntuación_Puestos'!$D$1:$D$11,0),0),"") -> 0 | H5: =SUM(TblListPuestos[[#This Row],[Puntos Femeninos]:[Puntos Neutros]]) -> 0
A6: P04 | B6: =IFERROR(IF(VLOOKUP(TblListPuestos[[#This Row],[Clave]],TblPuestos[],MATCH(B$1,TblPuestos[#Headers],0),0)=0,"",VLOOKUP(TblListPuestos[[#This Row],[Clave]],TblPuestos[],MATCH(B$1,TblPuestos[#Headers],0),0)),"") | C6: =IFERROR(IF(VLOOKUP(TblListPuestos[[#This Row],[Clave]],TblPuestos[],MATCH(C$1,TblPuestos[#Headers],0),0)=0,"",VLOOKUP(TblListPuestos[[#This Row],[Clave]],TblPuestos[],MATCH(C$1,TblPuestos[#Headers],0),0)),"") | D6: =IFERROR(IF(VLOOKUP(TblListPuestos[[#This Row],[Clave]],TblPuestos[],MATCH(D$1,TblPuestos[#Headers],0),0)=0,"",VLOOKUP(TblListPuestos[[#This Row],[Clave]],TblPuestos[],MATCH(D$1,TblPuestos[#Headers],0),0)),"") | E6: =IFERROR(HLOOKUP(TblListPuestos[[#This Row],[Clave]],'7. Puntuación_Puestos'!$G$1:$BD$11,MATCH(E$1,'7. Puntuación_Puestos'!$D$1:$D$11,0),0),"") -> 0 | F6: =IFERROR(HLOOKUP(TblListPuestos[[#This Row],[Clave]],'7. Puntuación_Puestos'!$G$1:$BD$11,MATCH(F$1,'7. Puntuación_Puestos'!$D$1:$D$11,0),0),"") -> 0 | G6: =IFERROR(HLOOKUP(TblListPuestos[[#This Row],[Clave]],'7. Puntuación_Puestos'!$G$1:$BD$11,MATCH(G$1,'7. Puntuación_Puestos'!$D$1:$D$11,0),0),"") -> 0 | H6: =SUM(TblListPuestos[[#This Row],[Puntos Femeninos]:[Puntos Neutros]]) -> 0
A7: P05 | B7: =IFERROR(IF(VLOOKUP(TblListPuestos[[#This Row],[Clave]],TblPuestos[],MATCH(B$1,TblPuestos[#Headers],0),0)=0,"",VLOOKUP(TblListPuestos[[#This Row],[Clave]],TblPuestos[],MATCH(B$1,TblPuestos[#Headers],0),0)),"") | C7: =IFERROR(IF(VLOOKUP(TblListPuestos[[#This Row],[Clave]],TblPuestos[],MATCH(C$1,TblPuestos[#Headers],0),0)=0,"",VLOOKUP(TblListPuestos[[#This Row],[Clave]],TblPuestos[],MATCH(C$1,TblPuestos[#Headers],0),0)),"") | D7: =IFERROR(IF(VLOOKUP(TblListPuestos[[#This Row],[Clave]],TblPuestos[],MATCH(D$1,TblPuestos[#Headers],0),0)=0,"",VLOOKUP(TblListPuestos[[#This Row],[Clave]],TblPuestos[],MATCH(D$1,TblPuestos[#Headers],0),0)),"") | E7: =IFERROR(HLOOKUP(TblListPuestos[[#This Row],[Clave]],'7. Puntuación_Puestos'!$G$1:$BD$11,MATCH(E$1,'7. Puntuación_Puestos'!$D$1:$D$11,0),0),"") -> 0 | F7: =IFERROR(HLOOKUP(TblListPuestos[[#This Row],[Clave]],'7. Puntuación_Puestos'!$G$1:$BD$11,MATCH(F$1,'7. Puntuación_Puestos'!$D$1:$D$11,0),0),"") -> 0 | G7: =IFERROR(HLOOKUP(TblListPuestos[[#This Row],[Clave]],'7. Puntuación_Puestos'!$G$1:$BD$11,MATCH(G$1,'7. Puntuación_Puestos'!$D$1:$D$11,0),0),"") -> 0 | H7: =SUM(TblListPuestos[[#This Row],[Puntos Femeninos]:[Puntos Neutros]]) -> 0
A8: P06 | B8: =IFERROR(IF(VLOOKUP(TblListPuestos[[#This Row],[Clave]],TblPuestos[],MATCH(B$1,TblPuestos[#Headers],0),0)=0,"",VLOOKUP(TblListPuestos[[#This Row],[Clave]],TblPuestos[],MATCH(B$1,TblPuestos[#Headers],0),0)),"") | C8: =IFERROR(IF(VLOOKUP(TblListPuestos[[#This Row],[Clave]],TblPuestos[],MATCH(C$1,TblPuestos[#Headers],0),0)=0,"",VLOOKUP(TblListPuestos[[#This Row],[Clave]],TblPuestos[],MATCH(C$1,TblPuestos[#Headers],0),0)),"") | D8: =IFERROR(IF(VLOOKUP(TblListPuestos[[#This Row],[Clave]],TblPuestos[],MATCH(D$1,TblPuestos[#Headers],0),0)=0,"",VLOOKUP(TblListPuestos[[#This Row],[Clave]],TblPuestos[],MATCH(D$1,TblPuestos[#Headers],0),0)),"") | E8: =IFERROR(HLOOKUP(TblListPuestos[[#This Row],[Clave]],'7. Puntuación_Puestos'!$G$1:$BD$11,MATCH(E$1,'7. Puntuación_Puestos'!$D$1:$D$11,0),0),"") -> 0 | F8: =IFERROR(HLOOKUP(TblListPuestos[[#This Row],[Clave]],'7. Puntuación_Puestos'!$G$1:$BD$11,MATCH(F$1,'7. Puntuación_Puestos'!$D$1:$D$11,0),0),"") -> 0 | G8: =IFERROR(HLOOKUP(TblListPuestos[[#This Row],[Clave]],'7. Puntuación_Puestos'!$G$1:$BD$11,MATCH(G$1,'7. Puntuación_Puestos'!$D$1:$D$11,0),0),"") -> 0 | H8: =SUM(TblListPuestos[[#This Row],[Puntos Femeninos]:[Puntos Neutros]]) -> 0
A9: P07 | B9: =IFERROR(IF(VLOOKUP(TblListPuestos[[#This Row],[Clave]],TblPuestos[],MATCH(B$1,TblPuestos[#Headers],0),0)=0,"",VLOOKUP(TblListPuestos[[#This Row],[Clave]],TblPuestos[],MATCH(B$1,TblPuestos[#Headers],0),0)),"") | C9: =IFERROR(IF(VLOOKUP(TblListPuestos[[#This Row],[Clave]],TblPuestos[],MATCH(C$1,TblPuestos[#Headers],0),0)=0,"",VLOOKUP(TblListPuestos[[#This Row],[Clave]],TblPuestos[],MATCH(C$1,TblPuestos[#Headers],0),0)),"") | D9: =IFERROR(IF(VLOOKUP(TblListPuestos[[#This Row],[Clave]],TblPuestos[],MATCH(D$1,TblPuestos[#Headers],0),0)=0,"",VLOOKUP(TblListPuestos[[#This Row],[Clave]],TblPuestos[],MATCH(D$1,TblPuestos[#Headers],0),0)),"") | E9: =IFERROR(HLOOKUP(TblListPuestos[[#This Row],[Clave]],'7. Puntuación_Puestos'!$G$1:$BD$11,MATCH(E$1,'7. Puntuación_Puestos'!$D$1:$D$11,0),0),"") -> 0 | F9: =IFERROR(HLOOKUP(TblListPuestos[[#This Row],[Clave]],'7. Puntuación_Puestos'!$G$1:$BD$11,MATCH(F$1,'7. Puntuación_Puestos'!$D$1:$D$11,0),0),"") -> 0 | G9: =IFERROR(HLOOKUP(TblListPuestos[[#This Row],[Clave]],'7. Puntuación_Puestos'!$G$1:$BD$11,MATCH(G$1,'7. Puntuación_Puestos'!$D$1:$D$11,0),0),"") -> 0 | H9: =SUM(TblListPuestos[[#This Row],[Puntos Femeninos]:[Puntos Neutros]]) -> 0
A10: P08 | B10: =IFERROR(IF(VLOOKUP(TblListPuestos[[#This Row],[Clave]],TblPuestos[],MATCH(B$1,TblPuestos[#Headers],0),0)=0,"",VLOOKUP(TblListPuestos[[#This Row],[Clave]],TblPuestos[],MATCH(B$1,TblPuestos[#Headers],0),0)),"") | C10: =IFERROR(IF(VLOOKUP(TblListPuestos[[#This Row],[Clave]],TblPuestos[],MATCH(C$1,TblPuestos[#Headers],0),0)=0,"",VLOOKUP(TblListPuestos[[#This Row],[Clave]],TblPuestos[],MATCH(C$1,TblPuestos[#Headers],0),0)),"") | D10: =IFERROR(IF(VLOOKUP(TblListPuestos[[#This Row],[Clave]],TblPuestos[],MATCH(D$1,TblPuestos[#Headers],0),0)=0,"",VLOOKUP(TblListPuestos[[#This Row],[Clave]],TblPuestos[],MATCH(D$1,TblPuestos[#Headers],0),0)),"") | E10: =IFERROR(HLOOKUP(TblListPuestos[[#This Row],[Clave]],'7. Puntuación_Puestos'!$G$1:$BD$11,MATCH(E$1,'7. Puntuación_Puestos'!$D$1:$D$11,0),0),"") -> 0 | F10: =IFERROR(HLOOKUP(TblListPuestos[[#This Row],[Clave]],'7. Puntuación_Puestos'!$G$1:$BD$11,MATCH(F$1,'7. Puntuación_Puestos'!$D$1:$D$11,0),0),"") -> 0 | G10: =IFERROR(HLOOKUP(TblListPuestos[[#This Row],[Clave]],'7. Puntuación_Puestos'!$G$1:$BD$11,MATCH(G$1,'7. Puntuación_Puestos'!$D$1:$D$11,0),0),"") -> 0 | H10: =SUM(TblListPuestos[[#This Row],[Puntos Femeninos]:[Puntos Neutros]]) -> 0
A11: P09 | B11: =IFERROR(IF(VLOOKUP(TblListPuestos[[#This Row],[Clave]],TblPuestos[],MATCH(B$1,TblPuestos[#Headers],0),0)=0,"",VLOOKUP(TblListPuestos[[#This Row],[Clave]],TblPuestos[],MATCH(B$1,TblPuestos[#Headers],0),0)),"") | C11: =IFERROR(IF(VLOOKUP(TblListPuestos[[#This Row],[Clave]],TblPuestos[],MATCH(C$1,TblPuestos[#Headers],0),0)=0,"",VLOOKUP(TblListPuestos[[#This Row],[Clave]],TblPuestos[],MATCH(C$1,TblPuestos[#Headers],0),0)),"") | D11: =IFERROR(IF(VLOOKUP(TblListPuestos[[#This Row],[Clave]],TblPuestos[],MATCH(D$1,TblPuestos[#Headers],0),0)=0,"",VLOOKUP(TblListPuestos[[#This Row],[Clave]],TblPuestos[],MATCH(D$1,TblPuestos[#Headers],0),0)),"") | E11: =IFERROR(HLOOKUP(TblListPuestos[[#This Row],[Clave]],'7. Puntuación_Puestos'!$G$1:$BD$11,MATCH(E$1,'7. Puntuación_Puestos'!$D$1:$D$11,0),0),"") -> 0 | F11: =IFERROR(HLOOKUP(TblListPuestos[[#This Row],[Clave]],'7. Puntuación_Puestos'!$G$1:$BD$11,MATCH(F$1,'7. Puntuación_Puestos'!$D$1:$D$11,0),0),"") -> 0 | G11: =IFERROR(HLOOKUP(TblListPuestos[[#This Row],[Clave]],'7. Puntuación_Puestos'!$G$1:$BD$11,MATCH(G$1,'7. Puntuación_Puestos'!$D$1:$D$11,0),0),"") -> 0 | H11: =SUM(TblListPuestos[[#This Row],[Puntos Femeninos]:[Puntos Neutros]]) -> 0
A12: P10 | B12: =IFERROR(IF(VLOOKUP(TblListPuestos[[#This Row],[Clave]],TblPuestos[],MATCH(B$1,TblPuestos[#Headers],0),0)=0,"",VLOOKUP(TblListPuestos[[#This Row],[Clave]],TblPuestos[],MATCH(B$1,TblPuestos[#Headers],0),0)),"") | C12: =IFERROR(IF(VLOOKUP(TblListPuestos[[#This Row],[Clave]],TblPuestos[],MATCH(C$1,TblPuestos[#Headers],0),0)=0,"",VLOOKUP(TblListPuestos[[#This Row],[Clave]],TblPuestos[],MATCH(C$1,TblPuestos[#Headers],0),0)),"") | D12: =IFERROR(IF(VLOOKUP(TblListPuestos[[#This Row],[Clave]],TblPuestos[],MATCH(D$1,TblPuestos[#Headers],0),0)=0,"",VLOOKUP(TblListPuestos[[#This Row],[Clave]],TblPuestos[],MATCH(D$1,TblPuestos[#Headers],0),0)),"") | E12: =IFERROR(HLOOKUP(TblListPuestos[[#This Row],[Clave]],'7. Puntuación_Puestos'!$G$1:$BD$11,MATCH(E$1,'7. Puntuación_Puestos'!$D$1:$D$11,0),0),"") -> 0 | F12: =IFERROR(HLOOKUP(TblListPuestos[[#This Row],[Clave]],'7. Puntuación_Puestos'!$G$1:$BD$11,MATCH(F$1,'7. Puntuación_Puestos'!$D$1:$D$11,0),0),"") -> 0 | G12: =IFERROR(HLOOKUP(TblListPuestos[[#This Row],[Clave]],'7. Puntuación_Puestos'!$G$1:$BD$11,MATCH(G$1,'7. Puntuación_Puestos'!$D$1:$D$11,0),0),"") -> 0 | H12: =SUM(TblListPuestos[[#This Row],[Puntos Femeninos]:[Puntos Neutros]]) -> 0
A13: P11 | B13: =IFERROR(IF(VLOOKUP(TblListPuestos[[#This Row],[Clave]],TblPuestos[],MATCH(B$1,TblPuestos[#Headers],0),0)=0,"",VLOOKUP(TblListPuestos[[#This Row],[Clave]],TblPuestos[],MATCH(B$1,TblPuestos[#Headers],0),0)),"") | C13: =IFERROR(IF(VLOOKUP(TblListPuestos[[#This Row],[Clave]],TblPuestos[],MATCH(C$1,TblPuestos[#Headers],0),0)=0,"",VLOOKUP(TblListPuestos[[#This Row],[Clave]],TblPuestos[],MATCH(C$1,TblPuestos[#Headers],0),0)),"") | D13: =IFERROR(IF(VLOOKUP(TblListPuestos[[#This Row],[Clave]],TblPuestos[],MATCH(D$1,TblPuestos[#Headers],0),0)=0,"",VLOOKUP(TblListPuestos[[#This Row],[Clave]],TblPuestos[],MATCH(D$1,TblPuestos[#Headers],0),0)),"") | E13: =IFERROR(HLOOKUP(TblListPuestos[[#This Row],[Clave]],'7. Puntuación_Puestos'!$G$1:$BD$11,MATCH(E$1,'7. Puntuación_Puestos'!$D$1:$D$11,0),0),"") -> 0 | F13: =IFERROR(HLOOKUP(TblListPuestos[[#This Row],[Clave]],'7. Puntuación_Puestos'!$G$1:$BD$11,MATCH(F$1,'7. Puntuación_Puestos'!$D$1:$D$11,0),0),"") -> 0 | G13: =IFERROR(HLOOKUP(TblListPuestos[[#This Row],[Clave]],'7. Puntuación_Puestos'!$G$1:$BD$11,MATCH(G$1,'7. Puntuación_Puestos'!$D$1:$D$11,0),0),"") -> 0 | H13: =SUM(TblListPuestos[[#This Row],[Puntos Femeninos]:[Puntos Neutros]]) -> 0
A14: P12 | B14: =IFERROR(IF(VLOOKUP(TblListPuestos[[#This Row],[Clave]],TblPuestos[],MATCH(B$1,TblPuestos[#Headers],0),0)=0,"",VLOOKUP(TblListPuestos[[#This Row],[Clave]],TblPuestos[],MATCH(B$1,TblPuestos[#Headers],0),0)),"") | C14: =IFERROR(IF(VLOOKUP(TblListPuestos[[#This Row],[Clave]],TblPuestos[],MATCH(C$1,TblPuestos[#Headers],0),0)=0,"",VLOOKUP(TblListPuestos[[#This Row],[Clave]],TblPuestos[],MATCH(C$1,TblPuestos[#Headers],0),0)),"") | D14: =IFERROR(IF(VLOOKUP(TblListPuestos[[#This Row],[Clave]],TblPuestos[],MATCH(D$1,TblPuestos[#Headers],0),0)=0,"",VLOOKUP(TblListPuestos[[#This Row],[Clave]],TblPuestos[],MATCH(D$1,TblPuestos[#Headers],0),0)),"") | E14: =IFERROR(HLOOKUP(TblListPuestos[[#This Row],[Clave]],'7. Puntuación_Puestos'!$G$1:$BD$11,MATCH(E$1,'7. Puntuación_Puestos'!$D$1:$D$11,0),0),"") -> 0 | F14: =IFERROR(HLOOKUP(TblListPuestos[[#This Row],[Clave]],'7. Puntuación_Puestos'!$G$1:$BD$11,MATCH(F$1,'7. Puntuación_Puestos'!$D$1:$D$11,0),0),"") -> 0 | G14: =IFERROR(HLOOKUP(TblListPuestos[[#This Row],[Clave]],'7. Puntuación_Puestos'!$G$1:$BD$11,MATCH(G$1,'7. Puntuación_Puestos'!$D$1:$D$11,0),0),"") -> 0 | H14: =SUM(TblListPuestos[[#This Row],[Puntos Femeninos]:[Puntos Neutros]]) -> 0
... A52: P50 | B52: =IFERROR(IF(VLOOKUP(TblListPuestos[[#This Row],[Clave]],TblPuestos[],MATCH(B$1,TblPuestos[#Headers],0),0)=0,"",VLOOKUP(TblListPuestos[[#This Row],[Clave]],TblPuestos[],MATCH(B$1,TblPuestos[#Headers],0),0)),"") | C52: =IFERROR(IF(VLOOKUP(TblListPuestos[[#This Row],[Clave]],TblPuestos[],MATCH(C$1,TblPuestos[#Headers],0),0)=0,"",VLOOKUP(TblListPuestos[[#This Row],[Clave]],TblPuestos[],MATCH(C$1,TblPuestos[#Headers],0),0)),"") | D52: =IFERROR(IF(VLOOKUP(TblListPuestos[[#This Row],[Clave]],TblPuestos[],MATCH(D$1,TblPuestos[#Headers],0),0)=0,"",VLOOKUP(TblListPuestos[[#This Row],[Clave]],TblPuestos[],MATCH(D$1,TblPuestos[#Headers],0),0)),"") | E52: =IFERROR(HLOOKUP(TblListPuestos[[#This Row],[Clave]],'7. Puntuación_Puestos'!$G$1:$BD$11,MATCH(E$1,'7. Puntuación_Puestos'!$D$1:$D$11,0),0),"") -> 0 | F52: =IFERROR(HLOOKUP(TblListPuestos[[#This Row],[Clave]],'7. Puntuación_Puestos'!$G$1:$BD$11,MATCH(F$1,'7. Puntuación_Puestos'!$D$1:$D$11,0),0),"") -> 0 | G52: =IFERROR(HLOOKUP(TblListPuestos[[#This Row],[Clave]],'7. Puntuación_Puestos'!$G$1:$BD$11,MATCH(G$1,'7. Puntuación_Puestos'!$D$1:$D$11,0),0),"") -> 0 | H52: =SUM(TblListPuestos[[#This Row],[Puntos Femeninos]:[Puntos Neutros]]) -> 0
A53: Total | E53: =SUBTOTAL(109,TblListPuestos[Puntos Femeninos]) -> 0 | F53: =SUBTOTAL(109,TblListPuestos[Puntos Masculinos]) -> 0 | G53: =SUBTOTAL(109,TblListPuestos[Puntos Neutros]) -> 0 | H53: =SUBTOTAL(109,TblListPuestos[Puntos Totales]) -> 0

Sheet 8_ Análisis_Género_Puestos_Ind
B1: ="Puntos por factor del puesto de trabajo: "&$F$1 -> Puntos por factor del puesto de trabajo: Puesto01 | E1: Puesto seleccionado: | F1: =+'9. Análisis_Género_Puestos_Ind'!$B$1 -> Puesto01
F2: =INDEX(TblPuestos[Clave],MATCH($F$1,TblPuestos[Valor],0))&"_"&F1 -> #N/A | H2: Total puntos | I2: =SUM(G6:I35) -> 0
E3: Rango a sumar: | F3: ="'7. Puntuación_Puestos'!"&ADDRESS(16,MATCH(F2,'7. Puntuación_Puestos'!$15:$15,0))&":"&ADDRESS(45,MATCH(F2,'7. Puntuación_Puestos'!$15:$15,0)) -> #N/A
G4: Puntos alcanzados para el factor
D5: Tipo | E5: Tipo | F5: Nombre del factor | G5: FEMENINO | H5: MASCULINO | I5: NEUTRO
B6: 1 | C6: =INDEX(TblFactor[Num Factor],B6) -> FACTOR 1 | D6: =IF(INDEX(TblFactor[Tipo],B6)="zz","",INDEX(TblFactor[Tipo],B6)) | E6: =IF(COUNTIF($D$6:D6,D6)>1,"",D6) | F6: =INDEX(TblFactor[Nombre del Factor],B6) | G6: =IFERROR(SUMIFS(INDIRECT($F$3),'7. Puntuación_Puestos'!$D$16:$D$45,$F6,'7. Puntuación_Puestos'!$E$16:$E$45,G$5,'7. Puntuación_Puestos'!$C$16:$C$45,$C6),0) -> 0 | H6: =IFERROR(SUMIFS(INDIRECT($F$3),'7. Puntuación_Puestos'!$D$16:$D$45,$F6,'7. Puntuación_Puestos'!$E$16:$E$45,H$5,'7. Puntuación_Puestos'!$C$16:$C$45,$C6),0) -> 0 | I6: =IFERROR(SUMIFS(INDIRECT($F$3),'7. Puntuación_Puestos'!$D$16:$D$45,$F6,'7. Puntuación_Puestos'!$E$16:$E$45,I$5,'7. Puntuación_Puestos'!$C$16:$C$45,$C6),0) -> 0
B7: 2 | C7: =INDEX(TblFactor[Num Factor],B7) -> FACTOR 2 | D7: =IF(INDEX(TblFactor[Tipo],B7)="zz","",INDEX(TblFactor[Tipo],B7)) | E7: =IF(COUNTIF($D$6:D7,D7)>1,"",D7) | F7: =INDEX(TblFactor[Nombre del Factor],B7) | G7: =IFERROR(SUMIFS(INDIRECT($F$3),'7. Puntuación_Puestos'!$D$16:$D$45,$F7,'7. Puntuación_Puestos'!$E$16:$E$45,G$5,'7. Puntuación_Puestos'!$C$16:$C$45,$C7),0) -> 0 | H7: =IFERROR(SUMIFS(INDIRECT($F$3),'7. Puntuación_Puestos'!$D$16:$D$45,$F7,'7. Puntuación_Puestos'!$E$16:$E$45,H$5,'7. Puntuación_Puestos'!$C$16:$C$45,$C7),0) -> 0 | I7: =IFERROR(SUMIFS(INDIRECT($F$3),'7. Puntuación_Puestos'!$D$16:$D$45,$F7,'7. Puntuación_Puestos'!$E$16:$E$45,I$5,'7. Puntuación_Puestos'!$C$16:$C$45,$C7),0) -> 0
B8: 3 | C8: =INDEX(TblFactor[Num Factor],B8) -> FACTOR 3 | D8: =IF(INDEX(TblFactor[Tipo],B8)="zz","",INDEX(TblFactor[Tipo],B8)) | E8: =IF(COUNTIF($D$6:D8,D8)>1,"",D8) | F8: =INDEX(TblFactor[Nombre del Factor],B8) | G8: =IFERROR(SUMIFS(INDIRECT($F$3),'7. Puntuación_Puestos'!$D$16:$D$45,$F8,'7. Puntuación_Puestos'!$E$16:$E$45,G$5,'7. Puntuación_Puestos'!$C$16:$C$45,$C8),0) -> 0 | H8: =IFERROR(SUMIFS(INDIRECT($F$3),'7. Puntuación_Puestos'!$D$16:$D$45,$F8,'7. Puntuación_Puestos'!$E$16:$E$45,H$5,'7. Puntuación_Puestos'!$C$16:$C$45,$C8),0) -> 0 | I8: =IFERROR(SUMIFS(INDIRECT($F$3),'7. Puntuación_Puestos'!$D$16:$D$45,$F8,'7. Puntuación_Puestos'!$E$16:$E$45,I$5,'7. Puntuación_Puestos'!$C$16:$C$45,$C8),0) -> 0
B9: 4 | C9: =INDEX(TblFactor[Num Factor],B9) -> FACTOR 4 | D9: =IF(INDEX(TblFactor[Tipo],B9)="zz","",INDEX(TblFactor[Tipo],B9)) | E9: =IF(COUNTIF($D$6:D9,D9)>1,"",D9) | F9: =INDEX(TblFactor[Nombre del Factor],B9) | G9: =IFERROR(SUMIFS(INDIRECT($F$3),'7. Puntuación_Puestos'!$D$16:$D$45,$F9,'7. Puntuación_Puestos'!$E$16:$E$45,G$5,'7. Puntuación_Puestos'!$C$16:$C$45,$C9),0) -> 0 | H9: =IFERROR(SUMIFS(INDIRECT($F$3),'7. Puntuación_Puestos'!$D$16:$D$45,$F9,'7. Puntuación_Puestos'!$E$16:$E$45,H$5,'7. Puntuación_Puestos'!$C$16:$C$45,$C9),0) -> 0 | I9: =IFERROR(SUMIFS(INDIRECT($F$3),'7. Puntuación_Puestos'!$D$16:$D$45,$F9,'7. Puntuación_Puestos'!$E$16:$E$45,I$5,'7. Puntuación_Puestos'!$C$16:$C$45,$C9),0) -> 0
B10: 5 | C10: =INDEX(TblFactor[Num Factor],B10) -> FACTOR 5 | D10: =IF(INDEX(TblFactor[Tipo],B10)="zz","",INDEX(TblFactor[Tipo],B10)) | E10: =IF(COUNTIF($D$6:D10,D10)>1,"",D10) | F10: =INDEX(TblFactor[Nombre del Factor],B10) | G10: =IFERROR(SUMIFS(INDIRECT($F$3),'7. Puntuación_Puestos'!$D$16:$D$45,$F10,'7. Puntuación_Puestos'!$E$16:$E$45,G$5,'7. Puntuación_Puestos'!$C$16:$C$45,$C10),0) -> 0 | H10: =IFERROR(SUMIFS(INDIRECT($F$3),'7. Puntuación_Puestos'!$D$16:$D$45,$F10,'7. Puntuación_Puestos'!$E$16:$E$45,H$5,'7. Puntuación_Puestos'!$C$16:$C$45,$C10),0) -> 0 | I10: =IFERROR(SUMIFS(INDIRECT($F$3),'7. Puntuación_Puestos'!$D$16:$D$45,$F10,'7. Puntuación_Puestos'!$E$16:$E$45,I$5,'7. Puntuación_Puestos'!$C$16:$C$45,$C10),0) -> 0
B11: 6 | C11: =INDEX(TblFactor[Num Factor],B11) -> FACTOR 6 | D11: =IF(INDEX(TblFactor[Tipo],B11)="zz","",INDEX(TblFactor[Tipo],B11)) | E11: =IF(COUNTIF($D$6:D11,D11)>1,"",D11) | F11: =INDEX(TblFactor[Nombre del Factor],B11) | G11: =IFERROR(SUMIFS(INDIRECT($F$3),'7. Puntuación_Puestos'!$D$16:$D$45,$F11,'7. Puntuación_Puestos'!$E$16:$E$45,G$5,'7. Puntuación_Puestos'!$C$16:$C$45,$C11),0) -> 0 | H11: =IFERROR(SUMIFS(INDIRECT($F$3),'7. Puntuación_Puestos'!$D$16:$D$45,$F11,'7. Puntuación_Puestos'!$E$16:$E$45,H$5,'7. Puntuación_Puestos'!$C$16:$C$45,$C11),0) -> 0 | I11: =IFERROR(SUMIFS(INDIRECT($F$3),'7. Puntuación_Puestos'!$D$16:$D$45,$F11,'7. Puntuación_Puestos'!$E$16:$E$45,I$5,'7. Puntuación_Puestos'!$C$16:$C$45,$C11),0) -> 0
B12: 7 | C12: =INDEX(TblFactor[Num Factor],B12) -> FACTOR 7 | D12: =IF(INDEX(TblFactor[Tipo],B12)="zz","",INDEX(TblFactor[Tipo],B12)) | E12: =IF(COUNTIF($D$6:D12,D12)>1,"",D12) | F12: =INDEX(TblFactor[Nombre del Factor],B12) | G12: =IFERROR(SUMIFS(INDIRECT($F$3),'7. Puntuación_Puestos'!$D$16:$D$45,$F12,'7. Puntuación_Puestos'!$E$16:$E$45,G$5,'7. Puntuación_Puestos'!$C$16:$C$45,$C12),0) -> 0 | H12: =IFERROR(SUMIFS(INDIRECT($F$3),'7. Puntuación_Puestos'!$D$16:$D$45,$F12,'7. Puntuación_Puestos'!$E$16:$E$45,H$5,'7. Puntuación_Puestos'!$C$16:$C$45,$C12),0) -> 0 | I12: =IFERROR(SUMIFS(INDIRECT($F$3),'7. Puntuación_Puestos'!$D$16:$D$45,$F12,'7. Puntuación_Puestos'!$E$16:$E$45,I$5,'7. Puntuación_Puestos'!$C$16:$C$45,$C12),0) -> 0
B13: 8 | C13: =INDEX(TblFactor[Num Factor],B13) -> FACTOR 8 | D13: =IF(INDEX(TblFactor[Tipo],B13)="zz","",INDEX(TblFactor[Tipo],B13)) | E13: =IF(COUNTIF($D$6:D13,D13)>1,"",D13) | F13: =INDEX(TblFactor[Nombre del Factor],B13) | G13: =IFERROR(SUMIFS(INDIRECT($F$3),'7. Puntuación_Puestos'!$D$16:$D$45,$F13,'7. Puntuación_Puestos'!$E$16:$E$45,G$5,'7. Puntuación_Puestos'!$C$16:$C$45,$C13),0) -> 0 | H13: =IFERROR(SUMIFS(INDIRECT($F$3),'7. Puntuación_Puestos'!$D$16:$D$45,$F13,'7. Puntuación_Puestos'!$E$16:$E$45,H$5,'7. Puntuación_Puestos'!$C$16:$C$45,$C13),0) -> 0 | I13: =IFERROR(SUMIFS(INDIRECT($F$3),'7. Puntuación_Puestos'!$D$16:$D$45,$F13,'7. Puntuación_Puestos'!$E$16:$E$45,I$5,'7. Puntuación_Puestos'!$C$16:$C$45,$C13),0) -> 0
B14: 9 | C14: =INDEX(TblFactor[Num Factor],B14) -> FACTOR 9 | D14: =IF(INDEX(TblFactor[Tipo],B14)="zz","",INDEX(TblFactor[Tipo],B14)) | E14: =IF(COUNTIF($D$6:D14,D14)>1,"",D14) | F14: =INDEX(TblFactor[Nombre del Factor],B14) | G14: =IFERROR(SUMIFS(INDIRECT($F$3),'7. Puntuación_Puestos'!$D$16:$D$45,$F14,'7. Puntuación_Puestos'!$E$16:$E$45,G$5,'7. Puntuación_Puestos'!$C$16:$C$45,$C14),0) -> 0 | H14: =IFERROR(SUMIFS(INDIRECT($F$3),'7. Puntuación_Puestos'!$D$16:$D$45,$F14,'7. Puntuación_Puestos'!$E$16:$E$45,H$5,'7. Puntuación_Puestos'!$C$16:$C$45,$C14),0) -> 0 | I14: =IFERROR(SUMIFS(INDIRECT($F$3),'7. Puntuación_Puestos'!$D$16:$D$45,$F14,'7. Puntuación_Puestos'!$E$16:$E$45,I$5,'7. Puntuación_Puestos'!$C$16:$C$45,$C14),0) -> 0
B15: 10 | C15: =INDEX(TblFactor[Num Factor],B15) -> FACTOR 10 | D15: =IF(INDEX(TblFactor[Tipo],B15)="zz","",INDEX(TblFactor[Tipo],B15)) | E15: =IF(COUNTIF($D$6:D15,D15)>1,"",D15) | F15: =INDEX(TblFactor[Nombre del Factor],B15) | G15: =IFERROR(SUMIFS(INDIRECT($F$3),'7. Puntuación_Puestos'!$D$16:$D$45,$F15,'7. Puntuación_Puestos'!$E$16:$E$45,G$5,'7. Puntuación_Puestos'!$C$16:$C$45,$C15),0) -> 0 | H15: =IFERROR(SUMIFS(INDIRECT($F$3),'7. Puntuación_Puestos'!$D$16:$D$45,$F15,'7. Puntuación_Puestos'!$E$16:$E$45,H$5,'7. Puntuación_Puestos'!$C$16:$C$45,$C15),0) -> 0 | I15: =IFERROR(SUMIFS(INDIRECT($F$3),'7. Puntuación_Puestos'!$D$16:$D$45,$F15,'7. Puntuación_Puestos'!$E$16:$E$45,I$5,'7. Puntuación_Puestos'!$C$16:$C$45,$C15),0) -> 0
B16: 11 | C16: =INDEX(TblFactor[Num Factor],B16) -> FACTOR 11 | D16: =IF(INDEX(TblFactor[Tipo],B16)="zz","",INDEX(TblFactor[Tipo],B16)) | E16: =IF(COUNTIF($D$6:D16,D16)>1,"",D16) | F16: =INDEX(TblFactor[Nombre del Factor],B16) | G16: =IFERROR(SUMIFS(INDIRECT($F$3),'7. Puntuación_Puestos'!$D$16:$D$45,$F16,'7. Puntuación_Puestos'!$E$16:$E$45,G$5,'7. Puntuación_Puestos'!$C$16:$C$45,$C16),0) -> 0 | H16: =IFERROR(SUMIFS(INDIRECT($F$3),'7. Puntuación_Puestos'!$D$16:$D$45,$F16,'7. Puntuación_Puestos'!$E$16:$E$45,H$5,'7. Puntuación_Puestos'!$C$16:$C$45,$C16),0) -> 0 | I16: =IFERROR(SUMIFS(INDIRECT($F$3),'7. Puntuación_Puestos'!$D$16:$D$45,$F16,'7. Puntuación_Puestos'!$E$16:$E$45,I$5,'7. Puntuación_Puestos'!$C$16:$C$45,$C16),0) -> 0
B17: 12 | C17: =INDEX(TblFactor[Num Factor],B17) -> FACTOR 12 | D17: =IF(INDEX(TblFactor[Tipo],B17)="zz","",INDEX(TblFactor[Tipo],B17)) | E17: =IF(COUNTIF($D$6:D17,D17)>1,"",D17) | F17: =INDEX(TblFactor[Nombre del Factor],B17) | G17: =IFERROR(SUMIFS(INDIRECT($F$3),'7. Puntuación_Puestos'!$D$16:$D$45,$F17,'7. Puntuación_Puestos'!$E$16:$E$45,G$5,'7. Puntuación_Puestos'!$C$16:$C$45,$C17),0) -> 0 | H17: =IFERROR(SUMIFS(INDIRECT($F$3),'7. Puntuación_Puestos'!$D$16:$D$45,$F17,'7. Puntuación_Puestos'!$E$16:$E$45,H$5,'7. Puntuación_Puestos'!$C$16:$C$45,$C17),0) -> 0 | I17: =IFERROR(SUMIFS(INDIRECT($F$3),'7. Puntuación_Puestos'!$D$16:$D$45,$F17,'7. Puntuación_Puestos'!$E$16:$E$45,I$5,'7. Puntuación_Puestos'!$C$16:$C$45,$C17),0) -> 0
... B35: 30 | C35: =INDEX(TblFactor[Num Factor],B35) -> FACTOR 30 | D35: =IF(INDEX(TblFactor[Tipo],B35)="zz","",INDEX(TblFactor[Tipo],B35)) | E35: =IF(COUNTIF($D$6:D35,D35)>1,"",D35) | F35: =INDEX(TblFactor[Nombre del Factor],B35) | G35: =IFERROR(SUMIFS(INDIRECT($F$3),'7. Puntuación_Puestos'!$D$16:$D$45,$F35,'7. Puntuación_Puestos'!$E$16:$E$45,G$5,'7. Puntuación_Puestos'!$C$16:$C$45,$C35),0) -> 0 | H35: =IFERROR(SUMIFS(INDIRECT($F$3),'7. Puntuación_Puestos'!$D$16:$D$45,$F35,'7. Puntuación_Puestos'!$E$16:$E$45,H$5,'7. Puntuación_Puestos'!$C$16:$C$45,$C35),0) -> 0 | I35: =IFERROR(SUMIFS(INDIRECT($F$3),'7. Puntuación_Puestos'!$D$16:$D$45,$F35,'7. Puntuación_Puestos'!$E$16:$E$45,I$5,'7. Puntuación_Puestos'!$C$16:$C$45,$C35),0) -> 0

Sheet 8. Análisis_Género_Puestos_Glob

Sheet 9_ Análisis_Género_Puestos
A4: Valor | B4: Puntos_Femeninos | C4: Puntos_Masculinos | D4: Puntos_Neutros | E4: Puntos_Totales | J4: Departamento | K4: Valor | L4: Puntos_Femeninos | M4: Puntos_Masculinos | N4: Puntos_Neutros | O4: Puntos_Totales | T4: Grupo Profesional | U4: Valor | V4: Puntos_Femeninos | W4: Puntos_Masculinos | X4: Puntos_Neutros | Y4: Puntos_Totales
A5: SVPT | B5: 650 | C5: 200 | D5: 150 | E5: 1000 | J5: SVPT | K5: SVPT | L5: 650 | M5: 200 | N5: 150 | O5: 1000 | T5: SVPT | U5: SVPT | V5: 650 | W5: 200 | X5: 150 | Y5: 1000
A6: Oficial/a Corte | B6: 0 | C6: 0 | D6: 0 | E6: 0 | J6: Dpto. 3 Admin. Inf. | K6: Dirección General | L6: 0 | M6: 0 | N6: 0 | O6: 0 | T6: GPD Jef Eq./Tec. | U6: Jefatura Eq. Producción | V6: 0 | W6: 0 | X6: 0 | Y6: 0
A7: Jefatura Eq. Producción | B7: 0 | C7: 0 | D7: 0 | E7: 0 | J7: Dpto. 1 Prod. | K7: Jefatura Eq. Producción | L7: 0 | M7: 0 | N7: 0 | O7: 0 | T7: GPC2 Of. | U7: Oficial/a Confección | V7: 0 | W7: 0 | X7: 0 | Y7: 0
A8: Oficial/a Confección | B8: 0 | C8: 0 | D8: 0 | E8: 0 | K8: Planchador/a Auxiliar | L8: 0 | M8: 0 | N8: 0 | O8: 0 | U8: Oficial/a Corte | V8: 0 | W8: 0 | X8: 0 | Y8: 0
A9: Dirección General | B9: 0 | C9: 0 | D9: 0 | E9: 0 | K9: Jefatura Producción | L9: 0 | M9: 0 | N9: 0 | O9: 0 | V9: 0 | W9: 0 | X9: 0 | Y9: 0
B10: 0 | C10: 0 | D10: 0 | E10: 0 | K10: Oficial/a Corte | L10: 0 | M10: 0 | N10: 0 | O10: 0 | T10: GPF Jef. Sup. | U10: Jefatura Producción | V10: 0 | W10: 0 | X10: 0 | Y10: 0
A11: Jefatura Producción | B11: 0 | C11: 0 | D11: 0 | E11: 0 | K11: Oficial/a Confección | L11: 0 | M11: 0 | N11: 0 | O11: 0 | T11: GPG Dir. | U11: Dirección General | V11: 0 | W11: 0 | X11: 0 | Y11: 0
A12: Planchador/a Auxiliar | B12: 0 | C12: 0 | D12: 0 | E12: 0 | L12: 0 | M12: 0 | N12: 0 | O12: 0 | T12: GPA Aux. | U12: Planchador/a Auxiliar | V12: 0 | W12: 0 | X12: 0 | Y12: 0
A13: Total general | B13: 650 | C13: 200 | D13: 150 | E13: 1000 | J13: Total general | L13: 650 | M13: 200 | N13: 150 | O13: 1000 | T13: Total general | V13: 650 | W13: 200 | X13: 150 | Y13: 1000

Sheet 9. Análisis_Género_Puestos_Ind
A1: Puesto: | B1: Puesto01

Sheet 10. Chequeo_Sistema_Valoración
A1: Factor y género | B1: Rellenar Nombre Factor | C1: =IFERROR(INDEX(Tbl_ListFactores[Género],MATCH($B$1,Tbl_ListFactores[Nombre del Factor],0)),"")

Sheet 10_ Chequeo_Sistema_Valoración
F3: Puntos alcanzados para el factor | G3: Media
E4: Puesto de trabajo | F4: =A9 -> #N/A | G4: =IFERROR(AVERAGEIF($F$5:$F$54,"<>*"),0) -> 0
A5: ="Comprobación para el Factor "&'10. Chequeo_Sistema_Valoración'!$B$1&" ("&'10. Chequeo_Sistema_Valoración'!$C$1&")" -> Comprobación para el Factor Rellenar Nombre Factor () | C5: 1 | D5: P01 | E5: =VLOOKUP($D5,TblPuestos[],MATCH("Valor",TblPuestos[#Headers],0),0) -> 0 | F5: =IFERROR(VLOOKUP('10. Chequeo_Sistema_Valoración'!$B$1,'7. Puntuación_Puestos'!$D$16:$BD$45,MATCH($D5,'7. Puntuación_Puestos'!$D$14:$BD$14,0),0),0) -> 0 | G5: =IFERROR(AVERAGEIF($F$5:$F$54,"<>*"),0) -> 0
A6: Núm puestos | C6: 2 | D6: P02 | E6: =VLOOKUP($D6,TblPuestos[],MATCH("Valor",TblPuestos[#Headers],0),0) -> 0 | F6: =IFERROR(VLOOKUP('10. Chequeo_Sistema_Valoración'!$B$1,'7. Puntuación_Puestos'!$D$16:$BD$45,MATCH($D6,'7. Puntuación_Puestos'!$D$14:$BD$14,0),0),0) -> 0 | G6: =IFERROR(AVERAGEIF($F$5:$F$54,"<>*"),0) -> 0
A7: =COUNTA(TblPuestos[Valor])+1 -> 1 | C7: 3 | D7: P03 | E7: =VLOOKUP($D7,TblPuestos[],MATCH("Valor",TblPuestos[#Headers],0),0) -> 0 | F7: =IFERROR(VLOOKUP('10. Chequeo_Sistema_Valoración'!$B$1,'7. Puntuación_Puestos'!$D$16:$BD$45,MATCH($D7,'7. Puntuación_Puestos'!$D$14:$BD$14,0),0),0) -> 0 | G7: =IFERROR(AVERAGEIF($F$5:$F$54,"<>*"),0) -> 0
A8: Máximo de puntos del factor para el sistema de valoración seleccionado | C8: 4 | D8: P04 | E8: =VLOOKUP($D8,TblPuestos[],MATCH("Valor",TblPuestos[#Headers],0),0) -> 0 | F8: =IFERROR(VLOOKUP('10. Chequeo_Sistema_Valoración'!$B$1,'7. Puntuación_Puestos'!$D$16:$BD$45,MATCH($D8,'7. Puntuación_Puestos'!$D$14:$BD$14,0),0),0) -> 0 | G8: =IFERROR(AVERAGEIF($F$5:$F$54,"<>*"),0) -> 0
A9: =VLOOKUP('10. Chequeo_Sistema_Valoración'!B1,TblFactor[[Nombre del Factor]:[Puntos]],MATCH("Puntos",TblFactor[#Headers],0)-2,0) -> #N/A | C9: 5 | D9: P05 | E9: =VLOOKUP($D9,TblPuestos[],MATCH("Valor",TblPuestos[#Headers],0),0) -> 0 | F9: =IFERROR(VLOOKUP('10. Chequeo_Sistema_Valoración'!$B$1,'7. Puntuación_Puestos'!$D$16:$BD$45,MATCH($D9,'7. Puntuación_Puestos'!$D$14:$BD$14,0),0),0) -> 0 | G9: =IFERROR(AVERAGEIF($F$5:$F$54,"<>*"),0) -> 0
C10: 6 | D10: P06 | E10: =VLOOKUP($D10,TblPuestos[],MATCH("Valor",TblPuestos[#Headers],0),0) -> 0 | F10: =IFERROR(VLOOKUP('10. Chequeo_Sistema_Valoración'!$B$1,'7. Puntuación_Puestos'!$D$16:$BD$45,MATCH($D10,'7. Puntuación_Puestos'!$D$14:$BD$14,0),0),0) -> 0 | G10: =IFERROR(AVERAGEIF($F$5:$F$54,"<>*"),0) -> 0
C11: 7 | D11: P07 | E11: =VLOOKUP($D11,TblPuestos[],MATCH("Valor",TblPuestos[#Headers],0),0) -> 0 | F11: =IFERROR(VLOOKUP('10. Chequeo_Sistema_Valoración'!$B$1,'7. Puntuación_Puestos'!$D$16:$BD$45,MATCH($D11,'7. Puntuación_Puestos'!$D$14:$BD$14,0),0),0) -> 0 | G11: =IFERROR(AVERAGEIF($F$5:$F$54,"<>*"),0) -> 0
C12: 8 | D12: P08 | E12: =VLOOKUP($D12,TblPuestos[],MATCH("Valor",TblPuestos[#Headers],0),0) -> 0 | F12: =IFERROR(VLOOKUP('10. Chequeo_Sistema_Valoración'!$B$1,'7. Puntuación_Puestos'!$D$16:$BD$45,MATCH($D12,'7. Puntuación_Puestos'!$D$14:$BD$14,0),0),0) -> 0 | G12: =IFERROR(AVERAGEIF($F$5:$F$54,"<>*"),0) -> 0
C13: 9 | D13: P09 | E13: =VLOOKUP($D13,TblPuestos[],MATCH("Valor",TblPuestos[#Headers],0),0) -> 0 | F13: =IFERROR(VLOOKUP('10. Chequeo_Sistema_Valoración'!$B$1,'7. Puntuación_Puestos'!$D$16:$BD$45,MATCH($D13,'7. Puntuación_Puestos'!$D$14:$BD$14,0),0),0) -> 0 | G13: =IFERROR(AVERAGEIF($F$5:$F$54,"<>*"),0) -> 0
C14: 10 | D14: P10 | E14: =VLOOKUP($D14,TblPuestos[],MATCH("Valor",TblPuestos[#Headers],0),0) -> 0 | F14: =IFERROR(VLOOKUP('10. Chequeo_Sistema_Valoración'!$B$1,'7. Puntuación_Puestos'!$D$16:$BD$45,MATCH($D14,'7. Puntuación_Puestos'!$D$14:$BD$14,0),0),0) -> 0 | G14: =IFERROR(AVERAGEIF($F$5:$F$54,"<>*"),0) -> 0
C15: 11 | D15: P11 | E15: =VLOOKUP($D15,TblPuestos[],MATCH("Valor",TblPuestos[#Headers],0),0) -> 0 | F15: =IFERROR(VLOOKUP('10. Chequeo_Sistema_Valoración'!$B$1,'7. Puntuación_Puestos'!$D$16:$BD$45,MATCH($D15,'7. Puntuación_Puestos'!$D$14:$BD$14,0),0),0) -> 0 | G15: =IFERROR(AVERAGEIF($F$5:$F$54,"<>*"),0) -> 0
C16: 12 | D16: P12 | E16: =VLOOKUP($D16,TblPuestos[],MATCH("Valor",TblPuestos[#Headers],0),0) -> 0 | F16: =IFERROR(VLOOKUP('10. Chequeo_Sistema_Valoración'!$B$1,'7. Puntuación_Puestos'!$D$16:$BD$45,MATCH($D16,'7. Puntuación_Puestos'!$D$14:$BD$14,0),0),0) -> 0 | G16: =IFERROR(AVERAGEIF($F$5:$F$54,"<>*"),0) -> 0
C17: 13 | D17: P13 | E17: =VLOOKUP($D17,TblPuestos[],MATCH("Valor",TblPuestos[#Headers],0),0) -> 0 | F17: =IFERROR(VLOOKUP('10. Chequeo_Sistema_Valoración'!$B$1,'7. Puntuación_Puestos'!$D$16:$BD$45,MATCH($D17,'7. Puntuación_Puestos'!$D$14:$BD$14,0),0),0) -> 0 | G17: =IFERROR(AVERAGEIF($F$5:$F$54,"<>*"),0) -> 0
C18: 14 | D18: P14 | E18: =VLOOKUP($D18,TblPuestos[],MATCH("Valor",TblPuestos[#Headers],0),0) -> 0 | F18: =IFERROR(VLOOKUP('10. Chequeo_Sistema_Valoración'!$B$1,'7. Puntuación_Puestos'!$D$16:$BD$45,MATCH($D18,'7. Puntuación_Puestos'!$D$14:$BD$14,0),0),0) -> 0 | G18: =IFERROR(AVERAGEIF($F$5:$F$54,"<>*"),0) -> 0
C19: 15 | D19: P15 | E19: =VLOOKUP($D19,TblPuestos[],MATCH("Valor",TblPuestos[#Headers],0),0) -> 0 | F19: =IFERROR(VLOOKUP('10. Chequeo_Sistema_Valoración'!$B$1,'7. Puntuación_Puestos'!$D$16:$BD$45,MATCH($D19,'7. Puntuación_Puestos'!$D$14:$BD$14,0),0),0) -> 0 | G19: =IFERROR(AVERAGEIF($F$5:$F$54,"<>*"),0) -> 0
C20: 16 | D20: P16 | E20: =VLOOKUP($D20,TblPuestos[],MATCH("Valor",TblPuestos[#Headers],0),0) -> 0 | F20: =IFERROR(VLOOKUP('10. Chequeo_Sistema_Valoración'!$B$1,'7. Puntuación_Puestos'!$D$16:$BD$45,MATCH($D20,'7. Puntuación_Puestos'!$D$14:$BD$14,0),0),0) -> 0 | G20: =IFERROR(AVERAGEIF($F$5:$F$54,"<>*"),0) -> 0
C21: 17 | D21: P17 | E21: =VLOOKUP($D21,TblPuestos[],MATCH("Valor",TblPuestos[#Headers],0),0) -> 0 | F21: =IFERROR(VLOOKUP('10. Chequeo_Sistema_Valoración'!$B$1,'7. Puntuación_Puestos'!$D$16:$BD$45,MATCH($D21,'7. Puntuación_Puestos'!$D$14:$BD$14,0),0),0) -> 0 | G21: =IFERROR(AVERAGEIF($F$5:$F$54,"<>*"),0) -> 0
... C54: 50 | D54: P50 | E54: =VLOOKUP($D54,TblPuestos[],MATCH("Valor",TblPuestos[#Headers],0),0) -> 0 | F54: =IFERROR(VLOOKUP('10. Chequeo_Sistema_Valoración'!$B$1,'7. Puntuación_Puestos'!$D$16:$BD$45,MATCH($D54,'7. Puntuación_Puestos'!$D$14:$BD$14,0),0),0) -> 0 | G54: =IFERROR(AVERAGEIF($F$5:$F$54,"<>*"),0) -> 0

Sheet 11. Asignación_Salarios_Puntos
D2: Puntos | E2: Salario
A3: =ROUNDDOWN(D3,-1) -> 0 | C3: min puntos | D3: {=MIN(IF(rngSumaPuntos>0,rngSumaPuntos))} -> 0
C4: max puntos | D4: =MAX(rngSumaPuntos) -> 0
D6: CELDA PARA ELEGIR FORMULA | E6: Recta

Sheet 11_Asignación_Salarios_Puntos
I1: x^3 | J1: x^2 | K1: x | M1: x^(1/2) | N1: x^(1/3) | O1: x^(1/4)
I2: a | J2: b | K2: c | L2: d
G3: Serie 1 (x^3) | H3: Curva inferior abierta | I3: =+('11. Asignación_Salarios_Puntos'!E4-'11. Asignación_Salarios_Puntos'!E3)/(('11. Asignación_Salarios_Puntos'!D4)^3-'11. Asignación_Salarios_Puntos'!D3^3) -> #DIV/0! | L3: =+'11. Asignación_Salarios_Puntos'!$E$3-I3*'11. Asignación_Salarios_Puntos'!D3*'11. Asignación_Salarios_Puntos'!D3*'11. Asignación_Salarios_Puntos'!D3 -> #DIV/0!
G4: Serie 2 (x^2) | H4: Curva inferior cerrada | J4: =+('11. Asignación_Salarios_Puntos'!E4-'11. Asignación_Salarios_Puntos'!E3)/(('11. Asignación_Salarios_Puntos'!D4)^2-'11. Asignación_Salarios_Puntos'!D3^2) -> #DIV/0! | L4: =+'11. Asignación_Salarios_Puntos'!$E$3-J4*'11. Asignación_Salarios_Puntos'!D3*'11. Asignación_Salarios_Puntos'!D3 -> #DIV/0!
G5: Serie 3 (x) | H5: Recta | K5: =+('11. Asignación_Salarios_Puntos'!E4-'11. Asignación_Salarios_Puntos'!E3)/('11. Asignación_Salarios_Puntos'!D4-'11. Asignación_Salarios_Puntos'!D3) -> #DIV/0! | L5: =+'11. Asignación_Salarios_Puntos'!$E$3-'11. Asignación_Salarios_Puntos'!D3*K5 -> #DIV/0!
G6: Serie 4 (x^1/2) | H6: Curva superior cerrada | L6: =+'11. Asignación_Salarios_Puntos'!$E$3-M6*'11. Asignación_Salarios_Puntos'!D3^(1/2) -> #DIV/0! | M6: =+('11. Asignación_Salarios_Puntos'!E4-'11. Asignación_Salarios_Puntos'!E3)/(('11. Asignación_Salarios_Puntos'!D4)^(1/2)-('11. Asignación_Salarios_Puntos'!D3)^(1/2)) -> #DIV/0!
G7: Serie 5 (x^1/4) | H7: Curva superior abierta | L7: =+'11. Asignación_Salarios_Puntos'!$E$3-O7*'11. Asignación_Salarios_Puntos'!D3^(1/4) -> #DIV/0! | O7: =+('11. Asignación_Salarios_Puntos'!E4-'11. Asignación_Salarios_Puntos'!E3)/(('11. Asignación_Salarios_Puntos'!D4)^(1/4)-'11. Asignación_Salarios_Puntos'!D3^(1/4)) -> #DIV/0!
H8: ELEGIDO | I8: =+VLOOKUP('11. Asignación_Salarios_Puntos'!E6,H3:O7,2,FALSE) -> 0 | J8: =+VLOOKUP('11. Asignación_Salarios_Puntos'!E6,H3:O7,3,FALSE) -> 0 | K8: =+VLOOKUP('11. Asignación_Salarios_Puntos'!E6,H3:O7,4,FALSE) -> #DIV/0! | L8: =+VLOOKUP('11. Asignación_Salarios_Puntos'!E6,H3:O7,5,FALSE) -> #DIV/0! | M8: =+VLOOKUP('11. Asignación_Salarios_Puntos'!E6,H3:O7,6,FALSE) -> 0 | N8: =+VLOOKUP('11. Asignación_Salarios_Puntos'!E6,H3:O7,7,FALSE) -> 0 | O8: =+VLOOKUP('11. Asignación_Salarios_Puntos'!E6,H3:O7,8,FALSE) -> 0
B11: Puntos | C11: =+'11_Asignación_Salarios_Puntos'!H3 -> Curva inferior abierta | D11: =+'11_Asignación_Salarios_Puntos'!H4 -> Curva inferior cerrada | E11: =+'11_Asignación_Salarios_Puntos'!H5 -> Recta | F11: =+'11_Asignación_Salarios_Puntos'!H6 -> Curva superior cerrada | G11: =+'11_Asignación_Salarios_Puntos'!H7 -> Curva superior abierta | H11: ="Elegida "&'11. Asignación_Salarios_Puntos'!E6 -> Elegida Recta
A12: 0 | B12: =+IF(A12>='11. Asignación_Salarios_Puntos'!$A$3,A12,"") -> 0 | C12: =IF(B12="",NA(),IF('11_Asignación_Salarios_Puntos'!$I$3*B12^3+'11_Asignación_Salarios_Puntos'!$J$3*B12^2+'11_Asignación_Salarios_Puntos'!$K$3*B12+'11_Asignación_Salarios_Puntos'!$L$3>'11. Asignación_Salarios_Puntos'!$E$4,NA(),'11_Asignación_Salarios_Puntos'!$I$3*B12^3+'11_Asignación_Salarios_Puntos'!$J$3*B12^2+'11_Asignación_Salarios_Puntos'!$K$3*B12+'11_Asignación_Salarios_Puntos'!$L$3)) -> #DIV/0! | D12: =IF(B12="",NA(),IF('11_Asignación_Salarios_Puntos'!$I$4*B12^3+'11_Asignación_Salarios_Puntos'!$J$4*B12^2+'11_Asignación_Salarios_Puntos'!$K$4*B12+'11_Asignación_Salarios_Puntos'!$L$4>'11. Asignación_Salarios_Puntos'!$E$4,NA(),'11_Asignación_Salarios_Puntos'!$I$4*B12^3+'11_Asignación_Salarios_Puntos'!$J$4*B12^2+'11_Asignación_Salarios_Puntos'!$K$4*B12+'11_Asignación_Salarios_Puntos'!$L$4)) -> #DIV/0! | E12: =IF(B12="",NA(),IF('11_Asignación_Salarios_Puntos'!$I$5*B12^3+'11_Asignación_Salarios_Puntos'!$J$5*B12^2+'11_Asignación_Salarios_Puntos'!$K$5*B12+'11_Asignación_Salarios_Puntos'!$L$5>'11. Asignación_Salarios_Puntos'!$E$4,NA(),'11_Asignación_Salarios_Puntos'!$I$5*B12^3+'11_Asignación_Salarios_Puntos'!$J$5*B12^2+'11_Asignación_Salarios_Puntos'!$K$5*B12+'11_Asignación_Salarios_Puntos'!$L$5)) -> #DIV/0! | F12: =IF(B12="",NA(),IF('11_Asignación_Salarios_Puntos'!$O$7*B12^(1/4)+'11_Asignación_Salarios_Puntos'!$J$7*B12^(1/2)+'11_Asignación_Salarios_Puntos'!$K$7*B12+'11_Asignación_Salarios_Puntos'!$L$7>'11. Asignación_Salarios_Puntos'!$E$4,NA(),'11_Asignación_Salarios_Puntos'!$O$7*B12^(1/4)+'11_Asignación_Salarios_Puntos'!$J$7*B12^(1/2)+'11_Asignación_Salarios_Puntos'!$K$7*B12+'11_Asignación_Salarios_Puntos'!$L$7)) -> #DIV/0! | G12: =IF(B12="",NA(),IF('11_Asignación_Salarios_Puntos'!$I$6*B12^(1/3)+'11_Asignación_Salarios_Puntos'!$M$6*B12^(1/2)+'11_Asignación_Salarios_Puntos'!$K$6*B12+'11_Asignación_Salarios_Puntos'!$L$6>'11. Asignación_Salarios_Puntos'!$E$4,NA(),'11_Asignación_Salarios_Puntos'!$I$6*B12^(1/3)+'11_Asignación_Salarios_Puntos'!$M$6*B12^(1/2)+'11_Asignación_Salarios_Puntos'!$K$6*B12+'11_Asignación_Salarios_Puntos'!$L$6)) -> #DIV/0! | H12: =IF(B12="",NA(),IF(pto_x3*(A12^3)+pto_x2*(A12^2)+pto_x*A12+pto_d+pto_x12*(A12^(1/2))+pto_x13*(A12^(1/3))+pto_x14*(A12^(1/4))>'11. Asignación_Salarios_Puntos'!$E$4,NA(),pto_x3*(A12^3)+pto_x2*(A12^2)+pto_x*A12+pto_d+pto_x12*(A12^(1/2))+pto_x13*(A12^(1/3))+pto_x14*(A12^(1/4)))) -> #DIV/0!
A13: 20 | B13: =+IF(A13>='11. Asignación_Salarios_Puntos'!$A$3,A13,"") -> 20 | C13: =IF(B13="",NA(),IF('11_Asignación_Salarios_Puntos'!$I$3*B13^3+'11_Asignación_Salarios_Puntos'!$J$3*B13^2+'11_Asignación_Salarios_Puntos'!$K$3*B13+'11_Asignación_Salarios_Puntos'!$L$3>'11. Asignación_Salarios_Puntos'!$E$4,NA(),'11_Asignación_Salarios_Puntos'!$I$3*B13^3+'11_Asignación_Salarios_Puntos'!$J$3*B13^2+'11_Asignación_Salarios_Puntos'!$K$3*B13+'11_Asignación_Salarios_Puntos'!$L$3)) -> #DIV/0! | D13: =IF(B13="",NA(),IF('11_Asignación_Salarios_Puntos'!$I$4*B13^3+'11_Asignación_Salarios_Puntos'!$J$4*B13^2+'11_Asignación_Salarios_Puntos'!$K$4*B13+'11_Asignación_Salarios_Puntos'!$L$4>'11. Asignación_Salarios_Puntos'!$E$4,NA(),'11_Asignación_Salarios_Puntos'!$I$4*B13^3+'11_Asignación_Salarios_Puntos'!$J$4*B13^2+'11_Asignación_Salarios_Puntos'!$K$4*B13+'11_Asignación_Salarios_Puntos'!$L$4)) -> #DIV/0! | E13: =IF(B13="",NA(),IF('11_Asignación_Salarios_Puntos'!$I$5*B13^3+'11_Asignación_Salarios_Puntos'!$J$5*B13^2+'11_Asignación_Salarios_Puntos'!$K$5*B13+'11_Asignación_Salarios_Puntos'!$L$5>'11. Asignación_Salarios_Puntos'!$E$4,NA(),'11_Asignación_Salarios_Puntos'!$I$5*B13^3+'11_Asignación_Salarios_Puntos'!$J$5*B13^2+'11_Asignación_Salarios_Puntos'!$K$5*B13+'11_Asignación_Salarios_Puntos'!$L$5)) -> #DIV/0! | F13: =IF(B13="",NA(),IF('11_Asignación_Salarios_Puntos'!$O$7*B13^(1/4)+'11_Asignación_Salarios_Puntos'!$J$7*B13^(1/2)+'11_Asignación_Salarios_Puntos'!$K$7*B13+'11_Asignación_Salarios_Puntos'!$L$7>'11. Asignación_Salarios_Puntos'!$E$4,NA(),'11_Asignación_Salarios_Puntos'!$O$7*B13^(1/4)+'11_Asignación_Salarios_Puntos'!$J$7*B13^(1/2)+'11_Asignación_Salarios_Puntos'!$K$7*B13+'11_Asignación_Salarios_Puntos'!$L$7)) -> #DIV/0! | G13: =IF(B13="",NA(),IF('11_Asignación_Salarios_Puntos'!$I$6*B13^(1/3)+'11_Asignación_Salarios_Puntos'!$M$6*B13^(1/2)+'11_Asignación_Salarios_Puntos'!$K$6*B13+'11_Asignación_Salarios_Puntos'!$L$6>'11. Asignación_Salarios_Puntos'!$E$4,NA(),'11_Asignación_Salarios_Puntos'!$I$6*B13^(1/3)+'11_Asignación_Salarios_Puntos'!$M$6*B13^(1/2)+'11_Asignación_Salarios_Puntos'!$K$6*B13+'11_Asignación_Salarios_Puntos'!$L$6)) -> #DIV/0! | H13: =IF(B13="",NA(),IF(pto_x3*(A13^3)+pto_x2*(A13^2)+pto_x*A13+pto_d+pto_x12*(A13^(1/2))+pto_x13*(A13^(1/3))+pto_x14*(A13^(1/4))>'11. Asignación_Salarios_Puntos'!$E$4,NA(),pto_x3*(A13^3)+pto_x2*(A13^2)+pto_x*A13+pto_d+pto_x12*(A13^(1/2))+pto_x13*(A13^(1/3))+pto_x14*(A13^(1/4)))) -> #DIV/0!
A14: 40 | B14: =+IF(A14>='11. Asignación_Salarios_Puntos'!$A$3,A14,"") -> 40 | C14: =IF(B14="",NA(),IF('11_Asignación_Salarios_Puntos'!$I$3*B14^3+'11_Asignación_Salarios_Puntos'!$J$3*B14^2+'11_Asignación_Salarios_Puntos'!$K$3*B14+'11_Asignación_Salarios_Puntos'!$L$3>'11. Asignación_Salarios_Puntos'!$E$4,NA(),'11_Asignación_Salarios_Puntos'!$I$3*B14^3+'11_Asignación_Salarios_Puntos'!$J$3*B14^2+'11_Asignación_Salarios_Puntos'!$K$3*B14+'11_Asignación_Salarios_Puntos'!$L$3)) -> #DIV/0! | D14: =IF(B14="",NA(),IF('11_Asignación_Salarios_Puntos'!$I$4*B14^3+'11_Asignación_Salarios_Puntos'!$J$4*B14^2+'11_Asignación_Salarios_Puntos'!$K$4*B14+'11_Asignación_Salarios_Puntos'!$L$4>'11. Asignación_Salarios_Puntos'!$E$4,NA(),'11_Asignación_Salarios_Puntos'!$I$4*B14^3+'11_Asignación_Salarios_Puntos'!$J$4*B14^2+'11_Asignación_Salarios_Puntos'!$K$4*B14+'11_Asignación_Salarios_Puntos'!$L$4)) -> #DIV/0! | E14: =IF(B14="",NA(),IF('11_Asignación_Salarios_Puntos'!$I$5*B14^3+'11_Asignación_Salarios_Puntos'!$J$5*B14^2+'11_Asignación_Salarios_Puntos'!$K$5*B14+'11_Asignación_Salarios_Puntos'!$L$5>'11. Asignación_Salarios_Puntos'!$E$4,NA(),'11_Asignación_Salarios_Puntos'!$I$5*B14^3+'11_Asignación_Salarios_Puntos'!$J$5*B14^2+'11_Asignación_Salarios_Puntos'!$K$5*B14+'11_Asignación_Salarios_Puntos'!$L$5)) -> #DIV/0! | F14: =IF(B14="",NA(),IF('11_Asignación_Salarios_Puntos'!$O$7*B14^(1/4)+'11_Asignación_Salarios_Puntos'!$J$7*B14^(1/2)+'11_Asignación_Salarios_Puntos'!$K$7*B14+'11_Asignación_Salarios_Puntos'!$L$7>'11. Asignación_Salarios_Puntos'!$E$4,NA(),'11_Asignación_Salarios_Puntos'!$O$7*B14^(1/4)+'11_Asignación_Salarios_Puntos'!$J$7*B14^(1/2)+'11_Asignación_Salarios_Puntos'!$K$7*B14+'11_Asignación_Salarios_Puntos'!$L$7)) -> #DIV/0! | G14: =IF(B14="",NA(),IF('11_Asignación_Salarios_Puntos'!$I$6*B14^(1/3)+'11_Asignación_Salarios_Puntos'!$M$6*B14^(1/2)+'11_Asignación_Salarios_Puntos'!$K$6*B14+'11_Asignación_Salarios_Puntos'!$L$6>'11. Asignación_Salarios_Puntos'!$E$4,NA(),'11_Asignación_Salarios_Puntos'!$I$6*B14^(1/3)+'11_Asignación_Salarios_Puntos'!$M$6*B14^(1/2)+'11_Asignación_Salarios_Puntos'!$K$6*B14+'11_Asignación_Salarios_Puntos'!$L$6)) -> #DIV/0! | H14: =IF(B14="",NA(),IF(pto_x3*(A14^3)+pto_x2*(A14^2)+pto_x*A14+pto_d+pto_x12*(A14^(1/2))+pto_x13*(A14^(1/3))+pto_x14*(A14^(1/4))>'11. Asignación_Salarios_Puntos'!$E$4,NA(),pto_x3*(A14^3)+pto_x2*(A14^2)+pto_x*A14+pto_d+pto_x12*(A14^(1/2))+pto_x13*(A14^(1/3))+pto_x14*(A14^(1/4)))) -> #DIV/0!
